BEGIN:VCALENDAR
VERSION:2.0
PRODID:-//nlaad.org - ECPv6.15.19//NONSGML v1.0//EN
CALSCALE:GREGORIAN
METHOD:PUBLISH
X-WR-CALNAME:nlaad.org
X-ORIGINAL-URL:https://nlaad.org
X-WR-CALDESC:Events for nlaad.org
REFRESH-INTERVAL;VALUE=DURATION:PT1H
X-Robots-Tag:noindex
X-PUBLISHED-TTL:PT1H
BEGIN:VTIMEZONE
TZID:UTC
BEGIN:STANDARD
TZOFFSETFROM:+0000
TZOFFSETTO:+0000
TZNAME:UTC
DTSTART:20160101T000000
END:STANDARD
END:VTIMEZONE
BEGIN:VEVENT
DTSTART;TZID=UTC:20171015T110000
DTEND;TZID=UTC:20171015T160000
DTSTAMP:20260424T074027
CREATED:20171013T180518Z
LAST-MODIFIED:20171013T192027Z
UID:7582-1508065200-1508083200@nlaad.org
SUMMARY:Patea Con ganas y Vence al SIDA - Newark\, NJ
DESCRIPTION:El nombre de nuestro evento es Patea Con Ganas y Vence el SIDA. La Casa De Don Pedro esta organizando un torneo de futbol el Domingo 15 de Octubre para los Latinos en la communidad de Newark. El torneo de futbol es en parte para celebrar El Día Nacional Latinx Para la Concientización del SIDA. \nSabia usted que en Nueva Jersey hay 9\,000 latinos viviendo con el VIH y el condado de Essex tiene el porcentaje mas alto de personas con el virus!? Estamos tratando de unir a la communidad latina jugando nuestro deporte favorito y educando sobre maneras de protegernos contra el VIH. \nTODOS LOS PARTICIPANTES QUE SE HAGAN LA PRUEBA DEL VIH ENTRARAN A UN SORTEO DE UN PASAJE IDA Y VUELTA INTERNACIONAL (VALOR $1\,000) TAMBIEN TARJETAS DE REGALO\,  RIFAS DE ELECTRO DOMESTICOS Y OTROS PREMIOS.
URL:https://nlaad.org/event/patea-con-ganas-y-vence-al-sida-newark-nj/
LOCATION:The Waterfront\, 2 Grafton Avenue\, Newark\, NJ\, 43215\, United States
CATEGORIES:HIV Awareness,HIV Resources,HIV Testing,Social Event
ATTACH;FMTTYPE=image/jpeg:https://nlaad.org/wp-content/uploads/2017/10/asddflsdfadsf.jpg
END:VEVENT
BEGIN:VEVENT
DTSTART;TZID=UTC:20171015T040000
DTEND;TZID=UTC:20171015T200000
DTSTAMP:20260424T074027
CREATED:20171011T010747Z
LAST-MODIFIED:20171011T010747Z
UID:7422-1508040000-1508097600@nlaad.org
SUMMARY:FREE HIV Testing - Kissimmee\, FL
DESCRIPTION:Join Hispanic Federation\, Hope&Help and QLatinx at the World Food Trucks in Kissimmee for some delicious food & get tested!
URL:https://nlaad.org/event/free-hiv-testing-kissimmee-fl/
LOCATION:World Food Trucks\, 5805 W Irlo Bronson Memorial Hwy.\, Kissimmee\, FL\, 34746\, United States
CATEGORIES:HIV Awareness,HIV Resources,HIV Testing,Social Event
ATTACH;FMTTYPE=image/jpeg:https://nlaad.org/wp-content/uploads/2017/09/event-poster-general-nlaad-2017-1.jpg
END:VEVENT
BEGIN:VEVENT
DTSTART;TZID=UTC:20171014T123000
DTEND;TZID=UTC:20171014T170000
DTSTAMP:20260424T074027
CREATED:20171013T005530Z
LAST-MODIFIED:20171013T005530Z
UID:7533-1507984200-1508000400@nlaad.org
SUMMARY:Fiesta de la Salud - Miami\, FL
DESCRIPTION:This year with the support of our community partners\, “Fiesta de la Salud” will take place at St. John Bosco Church located at 1349 W. Flagler Street Miami\, FL 33135 from 12:30PM to 5:00PM. There will be community resources highlighting top issues affecting our Latino communities in Miami-Dade\, guest speakers\, free health screenings via mobile units for adults and children\, cultural performances and raffles. We will also have free food and parking available. The entire community will be invited to participate and our goal will be to do 100 HIV tests! We hope you can join us for this event and help us stop the stigma and begin the conversation about this important health issue affecting our Latino/Hispanic community in Miami-Dade.
URL:https://nlaad.org/event/fiesta-de-la-salud-miami-fl/
LOCATION:St. John Bosco Catholic Church\, 1349 West Flagler\, Miami\, FL\, 33135\, United States
CATEGORIES:Health Fair,HIV Awareness,HIV Resources,HIV Testing,Social Event
ATTACH;FMTTYPE=image/jpeg:https://nlaad.org/wp-content/uploads/2017/09/event-poster-general-nlaad-2017-1.jpg
END:VEVENT
BEGIN:VEVENT
DTSTART;TZID=UTC:20171014T120000
DTEND;TZID=UTC:20171014T150000
DTSTAMP:20260424T074027
CREATED:20170902T011653Z
LAST-MODIFIED:20170929T225508Z
UID:6718-1507982400-1507993200@nlaad.org
SUMMARY:Panel Discussion: HIV Prevention in the Latino Community - Plainfield\, NJ
DESCRIPTION:Join us for an interactive discussion on HIV Prevention in the Hispanic community with Lissette Marrero\, Luis Mares & Raúl González \nFree Glucose & Cholesterol Screenings\, Free HIV Testing\, Free Food\, Fun Prizes and Gift Cards and more! \nPlease RSVP by Oct 12 \nemail Audria-arussell@irishouse.org or charla-ccousar@irishouse.org \ncall: 908-342-3924 \n 
URL:https://nlaad.org/event/panel-discussion-hiv-prevention-in-the-latino-community/
LOCATION:First Unitarian  Society of Plainfield\, 724 Park Avenue\, Plainfield\, NJ\, 07060\, United States
CATEGORIES:Health Fair,HIV Awareness,HIV Testing,Social Event,Workshop
ATTACH;FMTTYPE=image/jpeg:https://nlaad.org/wp-content/uploads/2017/09/Plainfield-ing.jpg
END:VEVENT
BEGIN:VEVENT
DTSTART;TZID=UTC:20171014T110000
DTEND;TZID=UTC:20171014T160000
DTSTAMP:20260424T074027
CREATED:20171011T010257Z
LAST-MODIFIED:20171011T010257Z
UID:7416-1507978800-1507996800@nlaad.org
SUMMARY:National Latino AIDS Awareness Day - Philadelphia\, PA
DESCRIPTION:Join us for our 1st Annual National Latinos AIDS Awareness Day right here at GALAEI! How exciting is this!? The event is going to be super queer! There will be food\, music\, swag\, and free rapid HIV & STI testing! \nNational Latino AIDS Awareness Day is a national community mobilization and social marketing campaign that unites the Hispanic/Latino community in efforts to raise HIV awareness\, promotion of HIV testing\, prevention\, and education; in addition to other critical health issues such as viral hepatitis\, sexually transmitted infections (STIs)\, and tuberculosis (TB). \nAnnually National Latino AIDS Awareness Day mobilizes community based organizations\, leaders of the Latino community\, health departments\, and elected officials to spread awareness within the Latino community about HIV&AIDS\, and bring about improvements in HIV related health practices by building capacity\, developing and disseminated resources\, utilizing media channels\, and casting the spotlight on Latino faces behind the epidemic. \nThis will be a great time to share space and come together. We are going to food and beverages! Grab some free condoms\, lube and information about fabulous programs that we have here at GALAEI! We would love to see your beautiful faces!
URL:https://nlaad.org/event/national-latino-aids-awareness-day-philadelphia-pa/
LOCATION:Galaei\, 149 w Susquehanna Ave\, Philadelphia\, PA\, 19122\, United States
CATEGORIES:HIV Awareness,HIV Resources,HIV Testing,Social Event
ATTACH;FMTTYPE=image/jpeg:https://nlaad.org/wp-content/uploads/2017/09/event-poster-general-nlaad-2017-2.jpg
END:VEVENT
BEGIN:VEVENT
DTSTART;TZID=UTC:20171014T110000
DTEND;TZID=UTC:20171014T160000
DTSTAMP:20260424T074027
CREATED:20171004T191100Z
LAST-MODIFIED:20171004T191100Z
UID:7320-1507978800-1507996800@nlaad.org
SUMMARY:National Latino AIDS Awareness Day - Las Vegas\, NV
DESCRIPTION:Free HIV and Syphilis Testing\, Food and Entertainment\, Education\, Yard Sale\, Flu Shots\, Vendor Tables
URL:https://nlaad.org/event/national-latino-aids-awareness-day-las-vegas-nv/
LOCATION:The Center\, 401 S. Maryland Parkway\, Las Vegas\, NV\, 89101\, United States
CATEGORIES:Health Fair,HIV Awareness,HIV Resources,HIV Testing,Social Event,STI's Testing
ATTACH;FMTTYPE=image/jpeg:https://nlaad.org/wp-content/uploads/2017/09/event-poster-general-nlaad-2017-2.jpg
END:VEVENT
BEGIN:VEVENT
DTSTART;TZID=UTC:20171014T100000
DTEND;TZID=UTC:20171014T130000
DTSTAMP:20260424T074027
CREATED:20170930T020942Z
LAST-MODIFIED:20170930T020942Z
UID:7226-1507975200-1507986000@nlaad.org
SUMMARY:National Latinx AIDS Awareness Day Event - Fresno\, CA
DESCRIPTION:Viewing of AltaMed’s telenovela Sin Vergüenza (Without Shame) \nPresentations on HIV in the Latino community and the history of the Names Project AIDS Memorial Quilt \nViewing of the quilt exhibit and presentations from community members about their loved ones and the making of their panels Fresno County Department of Public Health will be offering FREE Rapid HIV testing from 10:00 A.M. – 1:30 P.M.
URL:https://nlaad.org/event/national-latinx-aids-awareness-day-event-fresno-ca/
LOCATION:Fresno Art Museum\, 2233 N. First Street\, Fresno\, CA\, 93703\, United States
CATEGORIES:HIV Awareness,HIV Resources,HIV Testing,Social Event
ATTACH;FMTTYPE=image/jpeg:https://nlaad.org/wp-content/uploads/2017/09/event-poster-general-nlaad-2017-2.jpg
END:VEVENT
BEGIN:VEVENT
DTSTART;TZID=UTC:20171013T170000
DTEND;TZID=UTC:20171013T200000
DTSTAMP:20260424T074027
CREATED:20170930T005359Z
LAST-MODIFIED:20171003T003022Z
UID:7155-1507914000-1507924800@nlaad.org
SUMMARY:L A CADA's National Latinx AIDS Awareness Day - Santa Fe Springs\, CA
DESCRIPTION:L A CADA’s HISTORIAS Program presents it’s annual. “National Latino AIDS Awareness Day” Friday October 13th 5:00-8:00pm. Free food\, entertainment\, prizes and information.
URL:https://nlaad.org/event/l-a-cadas-national-latinx-aids-awareness-day-santa-fe-springs-ca/
LOCATION:Los Angeles Center for Alcohol and Drug Abuse\, 11015 Bloomfield Ave\, Santa Fe Springs\, CA\, 90670\, United States
CATEGORIES:HIV Awareness,HIV Resources,HIV Testing,Social Event
ATTACH;FMTTYPE=image/jpeg:https://nlaad.org/wp-content/uploads/2017/09/CADA.jpg
END:VEVENT
BEGIN:VEVENT
DTSTART;TZID=UTC:20171013T150000
DTEND;TZID=UTC:20171013T190000
DTSTAMP:20260424T074027
CREATED:20170930T002624Z
LAST-MODIFIED:20171003T003646Z
UID:7117-1507906800-1507921200@nlaad.org
SUMMARY:TRUCHA Feria de Recursos - NLAAD - Oakland\, CA
DESCRIPTION:Resource fair\, tables with HIV prevention and treatment information\, food\, prizes\, rapid HIV testing\, music and more
URL:https://nlaad.org/event/trucha-feria-de-recursos-nlaad-oakland-ca/
LOCATION:La Clinica de la Raza\, 1531 Fruitvale Ave\, Oakland\, CA\, 94601\, United States
CATEGORIES:Health Fair,HIV Awareness,HIV Resources,HIV Testing,Social Event
ATTACH;FMTTYPE=image/jpeg:https://nlaad.org/wp-content/uploads/2017/09/TRUCHA.jpg
END:VEVENT
BEGIN:VEVENT
DTSTART;TZID=UTC:20171013T120000
DTEND;TZID=UTC:20171013T150000
DTSTAMP:20260424T074027
CREATED:20171011T005617Z
LAST-MODIFIED:20171011T005617Z
UID:7400-1507896000-1507906800@nlaad.org
SUMMARY:Día Nacional Latino de Concientización Sobre el SIDA / National Latino AIDS Awareness Day - Los Angeles\, CA
DESCRIPTION:Join APLA Health celebrate the National Latino AIDS Awareness Day. \nWith your participation we are going to have a conversation about the importance of this special day\, we are also going to offer giveaways\, free HIV testing\, raffles\, music and much more.
URL:https://nlaad.org/event/dia-nacional-latino-de-concientizacion-sobre-el-sida-national-latino-aids-awareness-day-los-angeles-ca/
LOCATION:APLA Health Education Center\, 3741 S. La Brea Ave\, Los Angeles\, CA\, 90016\, United States
CATEGORIES:HIV Awareness,HIV Resources,HIV Testing,Social Event
ATTACH;FMTTYPE=image/jpeg:https://nlaad.org/wp-content/uploads/2017/09/event-poster-general-nlaad-2017-2.jpg
END:VEVENT
BEGIN:VEVENT
DTSTART;TZID=UTC:20171011T180000
DTEND;TZID=UTC:20171011T210000
DTSTAMP:20260424T074027
CREATED:20171005T183936Z
LAST-MODIFIED:20171006T000058Z
UID:7346-1507744800-1507755600@nlaad.org
SUMMARY:2017 Hispanic HIV Leadership Awards - Wilton Manors\, FL
DESCRIPTION:The Hispanic HIV Leadership Awards is an initiative born from the need of recognizing the efforts of outstanding individuals or groups in their efforts of raising HIV/AIDS awareness in the Latino communities of Broward County. \nThe awards are 3\, the recipients of the first 2 are selected from nominates by the community and the third is selected by the leadership of the coalition and announced in association with the Leadership Awards \n1. The Louis Curbelo Leadership Award: A long time or emerging leader committed to raise awareness of HIV/AIDS in the Latino community of Broward County. \n2. Fulgencio Aponte Community Service Award: A group\, business or individual that has supported the work of the Latino committee with time\, resources\, ideas or a helping hand. \n3. Juliette Love Humanitarian Award: An outstanding individual who is devoted to the welfare of humanity and whose accomplishments are consistent with the core values of the coalition. The denomination is done by the leadership of the coalition and announced in association with the Leadership Awards
URL:https://nlaad.org/event/2017-hispanic-hiv-leadership-awards-wilton-manors-fl/
LOCATION:HUNTERS Night Club Wilton Manors\, FL\, 2232 Wilton Drive\, Wilton Mantors\, FL\, 33305\, United States
CATEGORIES:HIV Awareness,Social Event
ATTACH;FMTTYPE=image/jpeg:https://nlaad.org/wp-content/uploads/2017/10/Wilton-Manors-FL.jpg
END:VEVENT
BEGIN:VEVENT
DTSTART;TZID=UTC:20171007T100000
DTEND;TZID=UTC:20171007T140000
DTSTAMP:20260424T074027
CREATED:20170929T234732Z
LAST-MODIFIED:20170929T234732Z
UID:7091-1507370400-1507384800@nlaad.org
SUMMARY:National Latino Awareness AIDS Day - Little Rock\, AR
DESCRIPTION:A variety of vendors and special events held at the Community Center all in connection with a soccer match\, creating awareness about HIV and prevention.
URL:https://nlaad.org/event/national-latino-awareness-aids-day-little-rock-ar/
LOCATION:Community Center\, 6401 Baseline Rd\, Little Rock\, AR\, 72209\, United States
CATEGORIES:Health Fair,HIV Awareness,HIV Resources,HIV Testing,Social Event
ATTACH;FMTTYPE=image/jpeg:https://nlaad.org/wp-content/uploads/2017/09/event-poster-general-nlaad-2017-1.jpg
END:VEVENT
BEGIN:VEVENT
DTSTART;TZID=UTC:20171006T180000
DTEND;TZID=UTC:20171006T220000
DTSTAMP:20260424T074027
CREATED:20170922T050315Z
LAST-MODIFIED:20170922T050636Z
UID:6934-1507312800-1507327200@nlaad.org
SUMMARY:Noche Extravaganza - Albuquerque\, NM
DESCRIPTION:Honoring National Latinx AIDS Awareness Day\, Noche Extravaganza will bring to you an educative and fun program. The event will start with a poetry reading (6pm)\, then salsa classes (7:30pm)\, and end up with a dance party (8:30pm). During the event\, there will be rapid HIV test and food.
URL:https://nlaad.org/event/noche-extravaganza-albuquerque-nm/
LOCATION:National Hispanic Cultural Center\, 1701 4th St SW\, Albuquerque\, NM\, 87102\, United States
CATEGORIES:HIV Awareness,HIV Testing,Social Event
ATTACH;FMTTYPE=image/jpeg:https://nlaad.org/wp-content/uploads/2017/09/event-noche-extravaganza-doh-2017.jpg
END:VEVENT
END:VCALENDAR