BEGIN:VCALENDAR
VERSION:2.0
PRODID:-//nlaad.org - ECPv6.15.19//NONSGML v1.0//EN
CALSCALE:GREGORIAN
METHOD:PUBLISH
X-ORIGINAL-URL:https://nlaad.org
X-WR-CALDESC:Events for nlaad.org
REFRESH-INTERVAL;VALUE=DURATION:PT1H
X-Robots-Tag:noindex
X-PUBLISHED-TTL:PT1H
BEGIN:VTIMEZONE
TZID:America/New_York
BEGIN:DAYLIGHT
TZOFFSETFROM:-0500
TZOFFSETTO:-0400
TZNAME:EDT
DTSTART:20170312T070000
END:DAYLIGHT
BEGIN:STANDARD
TZOFFSETFROM:-0400
TZOFFSETTO:-0500
TZNAME:EST
DTSTART:20171105T060000
END:STANDARD
BEGIN:DAYLIGHT
TZOFFSETFROM:-0500
TZOFFSETTO:-0400
TZNAME:EDT
DTSTART:20180311T070000
END:DAYLIGHT
BEGIN:STANDARD
TZOFFSETFROM:-0400
TZOFFSETTO:-0500
TZNAME:EST
DTSTART:20181104T060000
END:STANDARD
BEGIN:DAYLIGHT
TZOFFSETFROM:-0500
TZOFFSETTO:-0400
TZNAME:EDT
DTSTART:20190310T070000
END:DAYLIGHT
BEGIN:STANDARD
TZOFFSETFROM:-0400
TZOFFSETTO:-0500
TZNAME:EST
DTSTART:20191103T060000
END:STANDARD
BEGIN:DAYLIGHT
TZOFFSETFROM:-0500
TZOFFSETTO:-0400
TZNAME:EDT
DTSTART:20200308T070000
END:DAYLIGHT
BEGIN:STANDARD
TZOFFSETFROM:-0400
TZOFFSETTO:-0500
TZNAME:EST
DTSTART:20201101T060000
END:STANDARD
BEGIN:DAYLIGHT
TZOFFSETFROM:-0500
TZOFFSETTO:-0400
TZNAME:EDT
DTSTART:20210314T070000
END:DAYLIGHT
BEGIN:STANDARD
TZOFFSETFROM:-0400
TZOFFSETTO:-0500
TZNAME:EST
DTSTART:20211107T060000
END:STANDARD
BEGIN:DAYLIGHT
TZOFFSETFROM:-0500
TZOFFSETTO:-0400
TZNAME:EDT
DTSTART:20220313T070000
END:DAYLIGHT
BEGIN:STANDARD
TZOFFSETFROM:-0400
TZOFFSETTO:-0500
TZNAME:EST
DTSTART:20221106T060000
END:STANDARD
BEGIN:DAYLIGHT
TZOFFSETFROM:-0500
TZOFFSETTO:-0400
TZNAME:EDT
DTSTART:20230312T070000
END:DAYLIGHT
BEGIN:STANDARD
TZOFFSETFROM:-0400
TZOFFSETTO:-0500
TZNAME:EST
DTSTART:20231105T060000
END:STANDARD
BEGIN:DAYLIGHT
TZOFFSETFROM:-0500
TZOFFSETTO:-0400
TZNAME:EDT
DTSTART:20240310T070000
END:DAYLIGHT
BEGIN:STANDARD
TZOFFSETFROM:-0400
TZOFFSETTO:-0500
TZNAME:EST
DTSTART:20241103T060000
END:STANDARD
END:VTIMEZONE
BEGIN:VEVENT
DTSTART;TZID=America/New_York:20231005T103000
DTEND;TZID=America/New_York:20231005T103000
DTSTAMP:20260424T045904
CREATED:20230924T064658Z
LAST-MODIFIED:20230924T064658Z
UID:11689-1696501800-1696501800@nlaad.org
SUMMARY:Health Destination Wellness
DESCRIPTION:we need Test home kit
URL:https://nlaad.org/event/health-destination-wellness/
LOCATION:Morris Height Health Center\, 85 West Burnside Ave\, Bronx\, NY\, 10453\, United States
CATEGORIES:Health Education,HIV Awareness,HIV Resources,HIV Testing,Religious Service
ATTACH;FMTTYPE=image/jpeg:https://nlaad.org/wp-content/uploads/2023/09/nlaad-2023-general-event-ad-4.jpg
END:VEVENT
BEGIN:VEVENT
DTSTART;TZID=America/New_York:20201015T100000
DTEND;TZID=America/New_York:20201015T133000
DTSTAMP:20260424T045904
CREATED:20201014T160436Z
LAST-MODIFIED:20201014T160436Z
UID:10819-1602756000-1602768600@nlaad.org
SUMMARY:Latinx Awareness Day - Winter Heaven\, Florida
DESCRIPTION:Celebration of Latinx Awareness Day\, We will be having Music\, Food & Drinks (grab and go lunches)\, Personal Hygiene Packs\, FREE HIV Testing\, Free Clothes\, Free Flu Shots
URL:https://nlaad.org/event/latinx-awareness-day-winter-heaven-florida/
LOCATION:Positively U\, Inc\, 340 First Street South\, Winter Heaven\, FL\, 33880\, United States
CATEGORIES:HIV Awareness,HIV Resources,HIV Testing,Religious Service
ATTACH;FMTTYPE=image/jpeg:https://nlaad.org/wp-content/uploads/2020/09/nlaad-2020-event-poster-general-1.jpg
END:VEVENT
BEGIN:VEVENT
DTSTART;TZID=America/New_York:20181015T190000
DTEND;TZID=America/New_York:20181015T200000
DTSTAMP:20260424T045904
CREATED:20180926T181029Z
LAST-MODIFIED:20180926T181029Z
UID:8484-1539630000-1539633600@nlaad.org
SUMMARY:Dia Nacional Latino para la Concientización Acerca del SIDA - Brooklyn\, NY
DESCRIPTION:We are hosting a sacred moment at our church to remember loved ones victims of AIDS.
URL:https://nlaad.org/event/dia-nacional-latino-para-la-concientizacion-acerca-del-sida-brooklyn-ny/
LOCATION:Iglesia de la Santa Cruz\, 176 St. Nicholas Ave\, Brooklyn\, NY\, 11237\, United States
CATEGORIES:Religious Service,Social Event
ATTACH;FMTTYPE=image/jpeg:https://nlaad.org/wp-content/uploads/2018/09/oct15.jpg
END:VEVENT
END:VCALENDAR