BEGIN:VCALENDAR
VERSION:2.0
PRODID:-//nlaad.org - ECPv6.15.19//NONSGML v1.0//EN
CALSCALE:GREGORIAN
METHOD:PUBLISH
X-WR-CALNAME:nlaad.org
X-ORIGINAL-URL:https://nlaad.org
X-WR-CALDESC:Events for nlaad.org
REFRESH-INTERVAL;VALUE=DURATION:PT1H
X-Robots-Tag:noindex
X-PUBLISHED-TTL:PT1H
BEGIN:VTIMEZONE
TZID:America/New_York
BEGIN:DAYLIGHT
TZOFFSETFROM:-0500
TZOFFSETTO:-0400
TZNAME:EDT
DTSTART:20170312T070000
END:DAYLIGHT
BEGIN:STANDARD
TZOFFSETFROM:-0400
TZOFFSETTO:-0500
TZNAME:EST
DTSTART:20171105T060000
END:STANDARD
BEGIN:DAYLIGHT
TZOFFSETFROM:-0500
TZOFFSETTO:-0400
TZNAME:EDT
DTSTART:20180311T070000
END:DAYLIGHT
BEGIN:STANDARD
TZOFFSETFROM:-0400
TZOFFSETTO:-0500
TZNAME:EST
DTSTART:20181104T060000
END:STANDARD
BEGIN:DAYLIGHT
TZOFFSETFROM:-0500
TZOFFSETTO:-0400
TZNAME:EDT
DTSTART:20190310T070000
END:DAYLIGHT
BEGIN:STANDARD
TZOFFSETFROM:-0400
TZOFFSETTO:-0500
TZNAME:EST
DTSTART:20191103T060000
END:STANDARD
BEGIN:DAYLIGHT
TZOFFSETFROM:-0500
TZOFFSETTO:-0400
TZNAME:EDT
DTSTART:20200308T070000
END:DAYLIGHT
BEGIN:STANDARD
TZOFFSETFROM:-0400
TZOFFSETTO:-0500
TZNAME:EST
DTSTART:20201101T060000
END:STANDARD
BEGIN:DAYLIGHT
TZOFFSETFROM:-0500
TZOFFSETTO:-0400
TZNAME:EDT
DTSTART:20210314T070000
END:DAYLIGHT
BEGIN:STANDARD
TZOFFSETFROM:-0400
TZOFFSETTO:-0500
TZNAME:EST
DTSTART:20211107T060000
END:STANDARD
BEGIN:DAYLIGHT
TZOFFSETFROM:-0500
TZOFFSETTO:-0400
TZNAME:EDT
DTSTART:20220313T070000
END:DAYLIGHT
BEGIN:STANDARD
TZOFFSETFROM:-0400
TZOFFSETTO:-0500
TZNAME:EST
DTSTART:20221106T060000
END:STANDARD
BEGIN:DAYLIGHT
TZOFFSETFROM:-0500
TZOFFSETTO:-0400
TZNAME:EDT
DTSTART:20230312T070000
END:DAYLIGHT
BEGIN:STANDARD
TZOFFSETFROM:-0400
TZOFFSETTO:-0500
TZNAME:EST
DTSTART:20231105T060000
END:STANDARD
BEGIN:DAYLIGHT
TZOFFSETFROM:-0500
TZOFFSETTO:-0400
TZNAME:EDT
DTSTART:20240310T070000
END:DAYLIGHT
BEGIN:STANDARD
TZOFFSETFROM:-0400
TZOFFSETTO:-0500
TZNAME:EST
DTSTART:20241103T060000
END:STANDARD
BEGIN:DAYLIGHT
TZOFFSETFROM:-0500
TZOFFSETTO:-0400
TZNAME:EDT
DTSTART:20250309T070000
END:DAYLIGHT
BEGIN:STANDARD
TZOFFSETFROM:-0400
TZOFFSETTO:-0500
TZNAME:EST
DTSTART:20251102T060000
END:STANDARD
BEGIN:DAYLIGHT
TZOFFSETFROM:-0500
TZOFFSETTO:-0400
TZNAME:EDT
DTSTART:20260308T070000
END:DAYLIGHT
BEGIN:STANDARD
TZOFFSETFROM:-0400
TZOFFSETTO:-0500
TZNAME:EST
DTSTART:20261101T060000
END:STANDARD
END:VTIMEZONE
BEGIN:VTIMEZONE
TZID:UTC
BEGIN:STANDARD
TZOFFSETFROM:+0000
TZOFFSETTO:+0000
TZNAME:UTC
DTSTART:20150101T000000
END:STANDARD
END:VTIMEZONE
BEGIN:VEVENT
DTSTART;TZID=America/New_York:20251014T143000
DTEND;TZID=America/New_York:20251014T153000
DTSTAMP:20260424T014957
CREATED:20251003T072805Z
LAST-MODIFIED:20251005T002315Z
UID:12392-1760452200-1760455800@nlaad.org
SUMMARY:Atlanta NLAAD Press Conference 2025
DESCRIPTION:Community partners and civic leaders will unite to observe National Latino AIDS Awareness Day (NLAAD) and emphasize the critical need for ongoing HIV testing promotion\, effective prevention programs\, expanded PrEP access\, and enhanced care linkage and retention for individuals impacted by HIV. \nAn estimated 170\,000 people in the United States are living with HIV and unaware of their status. This gap in diagnosis delays access to life-saving treatment and increases the risk of unknowingly transmitting the virus. By promoting testing\, NLAAD aims to raise awareness\, reduce stigma\, and empower individuals to take control of their health. \nJoin the press conference at the ENCUENTRO Conference hosted at the Georgian Terrace Hotel. Feel free to bring your organization banner.
URL:https://nlaad.org/event/atlanta-nlaad-press-conference-2025/
LOCATION:Georgian Terrace Hotel\, 659 Peachtree St NE\, Atlanta\, GA\, 30308\, United States
CATEGORIES:HIV Awareness,Press Conference
ATTACH;FMTTYPE=image/png:https://nlaad.org/wp-content/uploads/2025/10/event-lcoa-ga-101425.png
ORGANIZER;CN="Latino Commission on AIDS":MAILTO:lmares@latinoaids.org
END:VEVENT
BEGIN:VEVENT
DTSTART;TZID=America/New_York:20251007T103000
DTEND;TZID=America/New_York:20251007T113000
DTSTAMP:20260424T014957
CREATED:20251003T072042Z
LAST-MODIFIED:20251005T012034Z
UID:12385-1759833000-1759836600@nlaad.org
SUMMARY:New York City NLAAD Press Conference 2025
DESCRIPTION:Community partners and civic leaders will unite to observe National Latino AIDS Awareness Day (NLAAD) and emphasize the critical need for ongoing HIV testing promotion\, effective prevention programs\, expanded PrEP access\, and enhanced care linkage and retention for individuals impacted by HIV. \nAn estimated 170\,000 people in the United States are living with HIV and unaware of their status. This gap in diagnosis delays access to life-saving treatment and increases the risk of unknowingly transmitting the virus. By promoting testing\, NLAAD aims to raise awareness\, reduce stigma\, and empower individuals to take control of their health. \nThe press conference at the steps of NYC City Hall will be headlined by: \n\nErik Bottcher\, New York City Council Member for District 3\nAdrianna Eppinger-Meiering\, Senior Program Planner\, Bureau of Hepatitis\, HIV\, and STIs\, New York City Department of Health and Mental Hygiene\nJonathan Rodriguez\, Health Programs Manager\, Hispanic Federation\nGuillermo Chacón\, President\, Latino Commission on AIDS\nLuis Mares\, Director of Community Mobilization at the Latino Commission on AIDS\n\nJoin the press conference and feel free to bring your organization banner.
URL:https://nlaad.org/event/new-york-city-nlaad-press-conference-2025/
LOCATION:Steps of City Hall\, City Hall Park Path\, New York\, NY\, 10007\, United States
CATEGORIES:HIV Awareness,Press Conference
ATTACH;FMTTYPE=image/png:https://nlaad.org/wp-content/uploads/2025/10/event-lcoa-ny-100725.png
ORGANIZER;CN="Latino Commission on AIDS":MAILTO:lmares@latinoaids.org
END:VEVENT
BEGIN:VEVENT
DTSTART;TZID=America/New_York:20241008T100000
DTEND;TZID=America/New_York:20241008T103000
DTSTAMP:20260424T014957
CREATED:20241009T034249Z
LAST-MODIFIED:20241009T034413Z
UID:12207-1728381600-1728383400@nlaad.org
SUMMARY:Press Conference: NLAAD 2024 Campaign Kickoff
DESCRIPTION:The Latino Commission on AIDS\, the Hispanic Federation\, community partners\, and civic and community leaders\, will come together to highlight the urgent need to continue promoting HIV testing\, promoting and implementing programs for HIV prevention and access to PrEP for all who need it\, improve linkage and retention in care for people affected by HIV\, monitoring the laboratory results to make sure viral suppression is reached.
URL:https://nlaad.org/event/press-conference-nlaad-2024-campaign-kickoff/
LOCATION:NYC HIV/AIDS Memorial\, 76 Greenwich Ave\, New York\, NY\, 10010\, United States
CATEGORIES:HIV Awareness,Press Conference
ATTACH;FMTTYPE=image/jpeg:https://nlaad.org/wp-content/uploads/2024/10/nlaad-2024-press-conference.jpg
ORGANIZER;CN="Latino Commission on AIDS":MAILTO:lmares@latinoaids.org
END:VEVENT
BEGIN:VEVENT
DTSTART;TZID=America/New_York:20231015T100000
DTEND;TZID=America/New_York:20231015T100000
DTSTAMP:20260424T014957
CREATED:20230919T042040Z
LAST-MODIFIED:20230928T034732Z
UID:11630-1697364000-1697364000@nlaad.org
SUMMARY:VIDA's 10-Year Anniversary / National Latinx AIDS Awareness Day / Hispanic Heritage Month Celebration
DESCRIPTION:Since its conception\, VIDA\, a non-profit organization focusing on LGBTQ+ Latinx folks\, providing education\, open dialogue\, and strong\nrole models in the fight against HIV among other amazing community activities. VIDA has been providing Self Collect HIV Tests to\nthe community and then linking them to appropriate Prevention or Treatment services with various organizations (e.g.\, UCSD\, SYH\,\nVCC\, TrueCare\, MCAP\, La Maestra and AHF\, The Center\, etc.).\nSince its formation almost ten years ago\, VIDA has worked hard to provide HIV education to help reduce and hopefully eliminate HIV\namong Latinx communities. VIDA does this in many ways\, including informational booths at events all over San Diego including Latinx\nPride\, National Latinx AIDS Awareness Day\, and Out at the Fair. VIDA’s team of staff and volunteers provide services after traditional\nwork hours including evenings and weekends at different sites where the need is greatest in the County of San Diego and now\nexpanding to Orange County and Inland Empire.\nWe would like to ask you to join us in celebrating our 10-year anniversary while we commemorate National Latinx HIV/AIDS\nAwareness Day and National Hispanic Heritage month on Sunday\, October 15th. Please see the save the date flyer attached and the\nmonth long of celebratory activities
URL:https://nlaad.org/event/vidas-10-year-anniversary-national-latinx-aids-awareness-day-hispanic-heritage-month-celebration/
LOCATION:Urban MO’s\, 308 University Avenue\, San Diego\, CA\, 92103\, United States
CATEGORIES:Community Forum,HIV Awareness,HIV Resources,HIV Testing,Press Conference,Social Event
ATTACH;FMTTYPE=image/jpeg:https://nlaad.org/wp-content/uploads/2023/09/VIDA.jpeg
ORGANIZER;CN="Latino Commision on AIDS":MAILTO:NLAAD@Latinoaids.org
END:VEVENT
BEGIN:VEVENT
DTSTART;TZID=America/New_York:20231010T100000
DTEND;TZID=America/New_York:20231010T110000
DTSTAMP:20260424T014957
CREATED:20230928T041029Z
LAST-MODIFIED:20230929T025843Z
UID:11754-1696932000-1696935600@nlaad.org
SUMMARY:NLAAD 20 years - Press Conference
DESCRIPTION:
URL:https://nlaad.org/event/nlaad-20-years-press-conference/
LOCATION:NYC HIV/AIDS Memorial\, 76 Greenwich Ave\, New York\, NY\, 10010\, United States
CATEGORIES:HIV Awareness,Press Conference
ATTACH;FMTTYPE=image/png:https://nlaad.org/wp-content/uploads/2023/09/nlaad-2023-press-conference-1-1.png
ORGANIZER;CN="Latino Commission on AIDS":MAILTO:lmares@latinoaids.org
END:VEVENT
BEGIN:VEVENT
DTSTART;TZID=America/New_York:20181015T180000
DTEND;TZID=America/New_York:20181015T210000
DTSTAMP:20260424T014957
CREATED:20181001T153229Z
LAST-MODIFIED:20181001T153229Z
UID:8592-1539626400-1539637200@nlaad.org
SUMMARY:NLAAD - An Evening of Conversation - Houston\, TX
DESCRIPTION:Attendees will learn about how HIV/AIDS is affecting our community and what they can do to stop it. \nFREE HIV Testing will be available; Houston District I Council Member\, Robert Gallegos will be on hand in support of the event and to issue a City Proclamation in commemoration of NLAAD to the Latino HIV Task Force Chair\, Gloria Sierra. \n\nLos asistentes aprenderán cómo el VIH / SIDA está afectando a nuestra comunidad y qué pueden hacer para detenerlo. \nLas pruebas de VIH estarán disponibles GRATIS para la comunidad; El miembro del Consejo del Distrito I de Houston\, Robert Gallegos\, estará presente para apoyar el evento y emitir una Proclamación de la Ciudad en conmemoración de NLAAD a la Presidenta del Latino HIV Task Force\, Gloria Sierra.
URL:https://nlaad.org/event/nlaad-an-evening-of-conversation-houston-tx/
LOCATION:AAMA -Gulf Freeway\, 6001 Gulf Freeway\, Houston\, TX\, 77023\, United States
CATEGORIES:Health Education,HIV Awareness,HIV Testing,Press Conference
ATTACH;FMTTYPE=image/jpeg:https://nlaad.org/wp-content/uploads/2018/10/NLAAD-2018-Flyer-2-e1538407912564.jpg
END:VEVENT
BEGIN:VEVENT
DTSTART;TZID=UTC:20161011T110000
DTEND;TZID=UTC:20161011T113000
DTSTAMP:20260424T014957
CREATED:20160826T163821Z
LAST-MODIFIED:20160928T020711Z
UID:55-1476183600-1476185400@nlaad.org
SUMMARY:New York City NLAAD 2016 Press Conference
DESCRIPTION:National Latino AIDS Awareness Day (NLAAD)\, held each year on the last day of Hispanic Heritage Month\, takes a nationwide community mobilization approach to address the HIV/AIDS epidemic. NLAAD fosters a collaborative effort among school groups\, faith based organizations\, health departments\, hospitals\, community organizations and many others\, to directly reach the communities they regularly interact with. This year’s theme “CON GANAS” is a call to action that encourages the growing Latino/Hispanic communities in the United States and territories to become aware of the disproportionate impact HIV\, AIDS\, and other health disparities have on their community by committing to speak about risk factors. \nNLAAD is a campaign initiated and spearheaded by the Latino Commission on AIDS\, since 2003. Events are organized by local partners annually on October 15th in more than 200 cities and 45 states across the country and US territories. NLAAD was established to act as a community mobilization catalyst to prevent the spread of HIV infection\, promote HIV testing opportunities\, connect people to care\, and hold activities that raise HIV/AIDS awareness and other health conditions impacting Hispanics/Latinos.
URL:https://nlaad.org/event/new-york-city-nlaad-2016-press-conference/
LOCATION:Steps of City Hall\, City Hall Park Path\, New York\, NY\, 10007\, United States
CATEGORIES:Press Conference
ATTACH;FMTTYPE=image/jpeg:https://nlaad.org/wp-content/uploads/2016/09/event-ny-nlaad-press-conference.jpg
ORGANIZER;CN="Latino Commission on AIDS":MAILTO:lmares@latinoaids.org
END:VEVENT
END:VCALENDAR