BEGIN:VCALENDAR
VERSION:2.0
PRODID:-//nlaad.org - ECPv6.15.19//NONSGML v1.0//EN
CALSCALE:GREGORIAN
METHOD:PUBLISH
X-ORIGINAL-URL:https://nlaad.org
X-WR-CALDESC:Events for nlaad.org
REFRESH-INTERVAL;VALUE=DURATION:PT1H
X-Robots-Tag:noindex
X-PUBLISHED-TTL:PT1H
BEGIN:VTIMEZONE
TZID:UTC
BEGIN:STANDARD
TZOFFSETFROM:+0000
TZOFFSETTO:+0000
TZNAME:UTC
DTSTART:20150101T000000
END:STANDARD
END:VTIMEZONE
BEGIN:VEVENT
DTSTART;TZID=UTC:20161014T090000
DTEND;TZID=UTC:20161014T180000
DTSTAMP:20260425T141943
CREATED:20161004T091556Z
LAST-MODIFIED:20161004T091556Z
UID:5802-1476435600-1476468000@nlaad.org
SUMMARY:NLAAD 2016 Testing Event - Richmond\, VA
DESCRIPTION:We are offering free\, confidential HIV and syphilis tests. No appointment needed.
URL:https://nlaad.org/event/nlaad-2016-testing-event-richmond-va/
LOCATION:Crossover Clinic\, 108 Cowardin Ave\, Richmond\, VA\, 23224\, United States
CATEGORIES:HIV Testing
ATTACH;FMTTYPE=image/jpeg:https://nlaad.org/wp-content/uploads/2016/09/event-poster-general-2.jpg
END:VEVENT
BEGIN:VEVENT
DTSTART;TZID=UTC:20161014T090000
DTEND;TZID=UTC:20161014T170000
DTSTAMP:20260425T141943
CREATED:20161014T044000Z
LAST-MODIFIED:20161014T044251Z
UID:6256-1476435600-1476464400@nlaad.org
SUMMARY:Latinx AIDS Awareness Day - Sioux City\, IA
DESCRIPTION:Únase en nuestra area de recepcion en el centro de salud comunitario para un día de la prueba y la prevención de la conciencia libre de VIH\, junto con datos curiosos sobre la salud del corazón\, colesterol\, Diebetes\, dental\, y otros servicios proporcionados en SCHC
URL:https://nlaad.org/event/latinx-aids-awareness-day-sioux-city-ia/
LOCATION:Siouxland Community Health Center\, 1021 Nebraska Street \, Sioux City \, IA\, 51105\, United States
CATEGORIES:HIV Awareness,HIV Testing
ATTACH;FMTTYPE=image/jpeg:https://nlaad.org/wp-content/uploads/2016/09/event-poster-general-1.jpg
ORGANIZER;CN="Siouxland Community Health Center-HIV Program":MAILTO: csmith@slandchc.com 
END:VEVENT
BEGIN:VEVENT
DTSTART;TZID=UTC:20161014T080000
DTEND;TZID=UTC:20161014T120000
DTSTAMP:20260425T141943
CREATED:20160929T014827Z
LAST-MODIFIED:20160930T101212Z
UID:5411-1476432000-1476446400@nlaad.org
SUMMARY:The test expires every time you have risky ( unprotected sex ) - St. Paul\, MN
DESCRIPTION:Free confidential HIV testing and Gifts\, games \nla Prueba de VIH Gratis y confidencial y regalos y juegos.
URL:https://nlaad.org/event/the-test-expires-every-time-you-have-risky-unprotected-sex/
LOCATION:La Clinica\, 153 Cesar Chavez St\, St Paul\, MN\, 55107\, United States
CATEGORIES:HIV Testing
ATTACH;FMTTYPE=image/jpeg:https://nlaad.org/wp-content/uploads/2016/09/event-poster-general-2.jpg
END:VEVENT
BEGIN:VEVENT
DTSTART;TZID=UTC:20161013T120000
DTEND;TZID=UTC:20161013T170000
DTSTAMP:20260425T141943
CREATED:20160930T230101Z
LAST-MODIFIED:20160930T230101Z
UID:5621-1476360000-1476378000@nlaad.org
SUMMARY:San Geronimo Valley Community Center - San Geronimo\, CA
DESCRIPTION:Food and fun\, health screenings\, free flu shots\, free HIV and HCV rapid testing. \nIn collaboration with: Marin County Health and Human Services
URL:https://nlaad.org/event/san-geronimo-valley-community-center-san-geronimo-ca/
LOCATION:San Geronimo VAlley Community Center\, 6350 Sir Francis Drake Blvd\, San Geronimo\, CA\, 94963\, United States
CATEGORIES:HIV Testing
ATTACH;FMTTYPE=image/jpeg:https://nlaad.org/wp-content/uploads/2016/09/event-poster-general-2.jpg
END:VEVENT
BEGIN:VEVENT
DTSTART;TZID=UTC:20161013T100000
DTEND;TZID=UTC:20161013T150000
DTSTAMP:20260425T141943
CREATED:20161004T025959Z
LAST-MODIFIED:20161004T031033Z
UID:5746-1476352800-1476370800@nlaad.org
SUMMARY:Take the Test Boston NLAAD 2016 - East Boston\, MA
DESCRIPTION:Join us at this HIV testing event. The event will feature promoters to increase HIV awareness. Volunteers will be doing outreach\, providing educational materials and escorting the public to get tested. The test is free\, quick and painless. The only way to know your HIV status is by taking the HIV test. \nThis event is part of a 3-day testing events in Boston in major Hispanic population communities. All the events will provide HIV testing. These events are coordinated by HHS/OASH in collaboration with Multicultural Aids Coalition\, Casa Iris; East Boston Neighborhood Health Center\, Project Shine; and ABCD Boston\, ABCD Hispanic Center. Coordinators for the testing campaign Take the Test Boston are: Irvienne Goldson\, Jennease Hyatt and Raquel Calderon
URL:https://nlaad.org/event/take-the-test-boston-nlaad-2016-east-boston-ma/
LOCATION:Project Shine @ East Boston Neighborhood Health Center\, 10 Gove Street\, East Boston\, MA\, 02128\, United States
CATEGORIES:HIV Testing
ATTACH;FMTTYPE=image/jpeg:https://nlaad.org/wp-content/uploads/2016/09/event-take-test-boston.jpg
ORGANIZER;CN="HHS/OASH":MAILTO:raquel.calderon@hhs.gov
END:VEVENT
BEGIN:VEVENT
DTSTART;TZID=UTC:20161013T100000
DTEND;TZID=UTC:20161013T130000
DTSTAMP:20260425T141943
CREATED:20160930T230706Z
LAST-MODIFIED:20160930T230952Z
UID:5630-1476352800-1476363600@nlaad.org
SUMMARY:Free Flu Clinic - San Rafael\, CA
DESCRIPTION:Free health screenings\, HIV/HCV and flu shots at this community health fair. \nIn collaboration with: Canal Alliance\, Marin County Health and Wellness Center
URL:https://nlaad.org/event/free-flu-clinic-san-rafael-ca/
LOCATION:Canal Alliance\, 91 Larkspur Street\, San Rafael\, CA\, 94901\, United States
CATEGORIES:HIV Testing
ATTACH;FMTTYPE=image/jpeg:https://nlaad.org/wp-content/uploads/2016/09/event-poster-general-2.jpg
END:VEVENT
BEGIN:VEVENT
DTSTART;TZID=UTC:20161013T090000
DTEND;TZID=UTC:20161013T210000
DTSTAMP:20260425T141943
CREATED:20161012T112528Z
LAST-MODIFIED:20161012T112528Z
UID:6065-1476349200-1476392400@nlaad.org
SUMMARY:Vamos' Adelante Con Ganas! - Houston\, TX
DESCRIPTION:The Minorities Action Program (MAP) will be providing education\, awareness\, and rapid testing to morning and evening educational programs. Walk-in HIV rapid testing will be available at 204 Clifton St.\, Houston\, TX 77011 from 1:00 pm – 4:00 pm. \n\n\n\n\n\n\n\n\n\n\nInter-agency collaboration with AAMA educational programs.
URL:https://nlaad.org/event/vamos-adelante-con-ganas-houston-tx/
LOCATION:AAMA\, 6001 Gulf Frwy\, Houston\, TX\, 77011\, United States
CATEGORIES:HIV Testing
ATTACH;FMTTYPE=image/jpeg:https://nlaad.org/wp-content/uploads/2016/09/event-poster-general-2.jpg
END:VEVENT
BEGIN:VEVENT
DTSTART;TZID=UTC:20161013T083000
DTEND;TZID=UTC:20161013T170000
DTSTAMP:20260425T141943
CREATED:20160930T104204Z
LAST-MODIFIED:20160930T104204Z
UID:5584-1476347400-1476378000@nlaad.org
SUMMARY:Free HIV Testing for National Latinx AIDS Awareness Day - Spartanburg\, SC
DESCRIPTION:Free HIV Testing for National Latinx AIDS Awareness Day. Walk ins welcome. Appointments encouraged.
URL:https://nlaad.org/event/free-hiv-testing-for-national-latinx-aids-awareness-day-spartanburg-sc/
LOCATION:Piedmont Care\, Inc\, 101 North Pine Street\, Suite 200\, Spartanburg\, SC\, 29302\, United States
CATEGORIES:HIV Testing
ATTACH;FMTTYPE=image/jpeg:https://nlaad.org/wp-content/uploads/2016/09/event-poster-general-2.jpg
END:VEVENT
BEGIN:VEVENT
DTSTART;TZID=UTC:20161012T173000
DTEND;TZID=UTC:20161012T203000
DTSTAMP:20260425T141943
CREATED:20160928T223621Z
LAST-MODIFIED:20160930T103642Z
UID:5352-1476293400-1476304200@nlaad.org
SUMMARY:Free HIV Testing for NLAAD - Longmont\, CO
DESCRIPTION:Free\, rapid HIV testing at YMCA in Longmont for NLAAD.
URL:https://nlaad.org/event/free-hiv-testing-for-nlaad/
LOCATION:TX
CATEGORIES:HIV Testing
ATTACH;FMTTYPE=image/jpeg:https://nlaad.org/wp-content/uploads/2016/09/event-poster-general-2.jpg
END:VEVENT
BEGIN:VEVENT
DTSTART;TZID=UTC:20161012T130000
DTEND;TZID=UTC:20161012T180000
DTSTAMP:20260425T141943
CREATED:20160928T232004Z
LAST-MODIFIED:20160930T103509Z
UID:5383-1476277200-1476295200@nlaad.org
SUMMARY:Take the Train...Take the Test at Government Center Metrorail Station - Miami\, FL
DESCRIPTION:Mini Health Fair and HIV and STD Testing at the Government Center Metrorail Station
URL:https://nlaad.org/event/take-the-train-take-the-test-at-government-center-metrorail-station/
LOCATION:Government Center Metrorail Station\, 101 NW First Street\, Miami\, FL\, 33128\, United States
CATEGORIES:HIV Testing
ATTACH;FMTTYPE=image/jpeg:https://nlaad.org/wp-content/uploads/2016/09/event-poster-general-2.jpg
END:VEVENT
BEGIN:VEVENT
DTSTART;TZID=UTC:20161012T100000
DTEND;TZID=UTC:20161012T160000
DTSTAMP:20260425T141943
CREATED:20160929T015454Z
LAST-MODIFIED:20161006T003101Z
UID:5418-1476266400-1476288000@nlaad.org
SUMMARY:Take The Test Boston NLAAD 2016 - Boston\, MA
DESCRIPTION:Join us at this HIV testing event. The event will feature promoters to increase HIV awareness. Volunteers will be doing outreach\, providing educational materials and escorting the public to get tested. The test is free\, quick and painless. The only way to know your HIV status is by taking the HIV test. \nThis event is part of a 3-day testing events in Boston in major Hispanic population communities. All the events will provide HIV testing. These events are coordinated by HHS/OASH in collaboration with Multicultural Aids Coalition\, Casa Iris; East Boston Neighborhood Health Center\, Project Shine; and ABCD Boston\, ABCD Hispanic Center. Coordinators for the testing campaign Take the Test Boston are: Irvienne Goldson\, Jennease Hyatt and Raquel Calderon
URL:https://nlaad.org/event/take-the-test-boston-nlaad-2016/
LOCATION:ABCD: Thelma D. Burns Building\, 575 Warren Street \, Boston\, MA\, 02121\, United States
CATEGORIES:HIV Testing
ATTACH;FMTTYPE=image/jpeg:https://nlaad.org/wp-content/uploads/2016/09/event-take-test-boston.jpg
ORGANIZER;CN="HHS/OASH":MAILTO:raquel.calderon@hhs.gov
END:VEVENT
BEGIN:VEVENT
DTSTART;TZID=UTC:20161012T090000
DTEND;TZID=UTC:20161012T160000
DTSTAMP:20260425T141943
CREATED:20160930T225439Z
LAST-MODIFIED:20160930T225439Z
UID:5612-1476262800-1476288000@nlaad.org
SUMMARY:Knowing Is The Key - Birmingham\, AL
DESCRIPTION:Latino HIV Prevention and Education
URL:https://nlaad.org/event/knowing-is-the-key-birmingham-al/
LOCATION:Hoover Library\, 200 Municipal Drive\, Birmingham\, AL\, 35216\, United States
CATEGORIES:HIV Testing
ATTACH;FMTTYPE=image/jpeg:https://nlaad.org/wp-content/uploads/2016/09/event-poster-general-2.jpg
END:VEVENT
BEGIN:VEVENT
DTSTART;TZID=UTC:20161011T080000
DTEND;TZID=UTC:20161014T163000
DTSTAMP:20260425T141943
CREATED:20160929T023338Z
LAST-MODIFIED:20160930T102123Z
UID:5465-1476172800-1476462600@nlaad.org
SUMMARY:NLAAD Testing Event - El Paso\, TX
DESCRIPTION:Free HIV & Syphilis rapid test. 8:00am-11:30am & 1:00pm-4:30pm
URL:https://nlaad.org/event/nlaad-testing-event/
LOCATION:DPH Prevention Building\, 701 Montana Ave.\, El Paso\, TX\, 79902\, United States
CATEGORIES:HIV Testing
ATTACH;FMTTYPE=image/jpeg:https://nlaad.org/wp-content/uploads/2016/09/event-poster-general-2.jpg
END:VEVENT
BEGIN:VEVENT
DTSTART;TZID=UTC:20161010T060000
DTEND;TZID=UTC:20161014T150000
DTSTAMP:20260425T141943
CREATED:20160930T104727Z
LAST-MODIFIED:20160930T104754Z
UID:5593-1476079200-1476457200@nlaad.org
SUMMARY:Testing - Bridgeport\, CT
DESCRIPTION:Testing for the substance use population
URL:https://nlaad.org/event/testing-bridgeport-ct/
LOCATION:Kinsella Treatment Center\, 1862 Commerce Dr.\, Bridgeport\, CT\, 066005\, United States
CATEGORIES:HIV Testing
ATTACH;FMTTYPE=image/jpeg:https://nlaad.org/wp-content/uploads/2016/09/event-poster-general-2.jpg
END:VEVENT
BEGIN:VEVENT
DTSTART;TZID=UTC:20161004T081500
DTEND;TZID=UTC:20161004T161500
DTSTAMP:20260425T141943
CREATED:20160929T030201Z
LAST-MODIFIED:20160930T103104Z
UID:5499-1475568900-1475597700@nlaad.org
SUMMARY:Free HIV Testing - knoxville\, TN
DESCRIPTION:Free HIV testing and other health information when the Mexican Consulate visits Knoxville \n\n\n In collaboration with: \n\n\n\n\nCentro Hispano de East Tennessee
URL:https://nlaad.org/event/free-hiv-testing/
LOCATION:Centro Hispano\, 2455 Sutherland Ave\, Knoxville\, TN\, 37917\, United States
CATEGORIES:HIV Testing
ATTACH;FMTTYPE=image/jpeg:https://nlaad.org/wp-content/uploads/2016/09/event-poster-general-2.jpg
END:VEVENT
END:VCALENDAR