BEGIN:VCALENDAR
VERSION:2.0
PRODID:-//nlaad.org - ECPv6.15.19//NONSGML v1.0//EN
CALSCALE:GREGORIAN
METHOD:PUBLISH
X-ORIGINAL-URL:https://nlaad.org
X-WR-CALDESC:Events for nlaad.org
REFRESH-INTERVAL;VALUE=DURATION:PT1H
X-Robots-Tag:noindex
X-PUBLISHED-TTL:PT1H
BEGIN:VTIMEZONE
TZID:America/New_York
BEGIN:DAYLIGHT
TZOFFSETFROM:-0500
TZOFFSETTO:-0400
TZNAME:EDT
DTSTART:20170312T070000
END:DAYLIGHT
BEGIN:STANDARD
TZOFFSETFROM:-0400
TZOFFSETTO:-0500
TZNAME:EST
DTSTART:20171105T060000
END:STANDARD
BEGIN:DAYLIGHT
TZOFFSETFROM:-0500
TZOFFSETTO:-0400
TZNAME:EDT
DTSTART:20180311T070000
END:DAYLIGHT
BEGIN:STANDARD
TZOFFSETFROM:-0400
TZOFFSETTO:-0500
TZNAME:EST
DTSTART:20181104T060000
END:STANDARD
BEGIN:DAYLIGHT
TZOFFSETFROM:-0500
TZOFFSETTO:-0400
TZNAME:EDT
DTSTART:20190310T070000
END:DAYLIGHT
BEGIN:STANDARD
TZOFFSETFROM:-0400
TZOFFSETTO:-0500
TZNAME:EST
DTSTART:20191103T060000
END:STANDARD
END:VTIMEZONE
BEGIN:VTIMEZONE
TZID:UTC
BEGIN:STANDARD
TZOFFSETFROM:+0000
TZOFFSETTO:+0000
TZNAME:UTC
DTSTART:20170101T000000
END:STANDARD
END:VTIMEZONE
BEGIN:VEVENT
DTSTART;TZID=America/New_York:20181010T100000
DTEND;TZID=America/New_York:20181010T160000
DTSTAMP:20260419T091940
CREATED:20180924T170949Z
LAST-MODIFIED:20180924T170949Z
UID:8379-1539165600-1539187200@nlaad.org
SUMMARY:HIV Awareness and Testing - Bronx\, NY
DESCRIPTION:Community Outreach to bring awareness to Community\, regarding at risk/high risk community and prevention as well as testing
URL:https://nlaad.org/event/hiv-awareness-and-testing-bronx-ny/
LOCATION:Einstein Community Center\, 135 Einstein Loop\, Room 43\, Bronx\, NY\, 10475\, United States
CATEGORIES:HIV Awareness,HIV Testing
ATTACH;FMTTYPE=image/jpeg:https://nlaad.org/wp-content/uploads/2018/08/nlaad-me-we-2018.jpg
END:VEVENT
BEGIN:VEVENT
DTSTART;TZID=America/New_York:20181010T130000
DTEND;TZID=America/New_York:20181010T180000
DTSTAMP:20260419T091940
CREATED:20181012T205446Z
LAST-MODIFIED:20181012T205446Z
UID:9016-1539176400-1539194400@nlaad.org
SUMMARY:Take the Train\, Take the Test - Allapattah\, Miami\, FL
DESCRIPTION:In recognition of National Latinx AIDS Awareness Day\, the Florida Department of Health in Miami-Dade County and local partners will host three free community awareness and HIV/STD testing events. \nSTD and HIV Testing
URL:https://nlaad.org/event/take-the-train-take-the-test-allapattah-miami-fl/
LOCATION:Allapattah Metro Rail Station\,  3501 NW 12th Avenue\, Miami\, FL\, 33127\, United States
CATEGORIES:HIV Awareness,HIV Testing
ATTACH;FMTTYPE=image/png:https://nlaad.org/wp-content/uploads/2018/09/Take-Train-Test-2018-e1538074072468.png
END:VEVENT
BEGIN:VEVENT
DTSTART;TZID=UTC:20181011T100000
DTEND;TZID=UTC:20181011T140000
DTSTAMP:20260419T091940
CREATED:20180816T215006Z
LAST-MODIFIED:20180816T215006Z
UID:7768-1539252000-1539266400@nlaad.org
SUMMARY:National Latino HIV Testing Day - Rochester\, NY
DESCRIPTION:The purpose of this event is to provide HIV and Hep C testing to Latinos.
URL:https://nlaad.org/event/national-latino-hiv-testing-day-rochester-ny/
LOCATION:Jordan Health Center\, 82 Holland Street\, Rochester\, NY\, 14605\, United States
CATEGORIES:Hep C Testing,HIV Awareness,HIV Testing
ATTACH;FMTTYPE=image/jpeg:https://nlaad.org/wp-content/uploads/2018/08/nlaad-me-we-2018.jpg
END:VEVENT
BEGIN:VEVENT
DTSTART;TZID=UTC:20181011T110000
DTEND;TZID=UTC:20181011T150000
DTSTAMP:20260419T091940
CREATED:20180911T180043Z
LAST-MODIFIED:20180911T195117Z
UID:7907-1539255600-1539270000@nlaad.org
SUMMARY:National Latino AIDS Awareness Day 2018 Health Fair - San Ysidro\, CA
DESCRIPTION:Health Fair. Our principal object is to create awareness in the community to do HIV test. And we will have Flu shots\, glucose and blood pressure tests.
URL:https://nlaad.org/event/national-latino-aids-awareness-day-2018-health-fair-san-ysidro-ca/
LOCATION:Grocery Outlet Bargain Market\, 444 E San Ysidro Blvd\, San Ysidro\, CA\, 92173\, United States
CATEGORIES:Health Fair,HIV Awareness,HIV Testing
ATTACH;FMTTYPE=image/jpeg:https://nlaad.org/wp-content/uploads/2018/08/nlaad-me-we-2018.jpg
END:VEVENT
BEGIN:VEVENT
DTSTART;TZID=America/New_York:20181011T180000
DTEND;TZID=America/New_York:20181011T210000
DTSTAMP:20260419T091940
CREATED:20180927T152654Z
LAST-MODIFIED:20180927T152654Z
UID:8491-1539280800-1539291600@nlaad.org
SUMMARY:Juntxs es más fácil: Día Internacional de Salir del Closet - Mayaguez\, PR
DESCRIPTION:Come to our open mic night and share your coming out experiences. Help others learn and grow from our common stories. \nThere will be free HIV testing and information of services provided to LGBTQ community in the west of the island. \nEntérate de los recursos que hay en Mayagüez y el oeste para servir a las personas de nuestra comunidad. Habrá mesas informativas\, buena comida\, música y mucho más. \nHabrán también pruebas de VIH con resultados en 20 minutos\, completamente gratis.
URL:https://nlaad.org/event/juntxs-es-mas-facil-dia-internacional-de-salir-del-closet-mayaguez-pr/
LOCATION:Arepas To-Go\, 156 Calle Méndez Vigo\, Mayaguez\, 00680\, Puerto Rico
CATEGORIES:HIV Awareness,HIV Testing,Social Event
ATTACH;FMTTYPE=image/png:https://nlaad.org/wp-content/uploads/2018/09/OPEN-MIC-SALIR-CLOSET-DIVERSX-ACHE-e1538061980813.png
END:VEVENT
BEGIN:VEVENT
DTSTART;TZID=America/New_York:20181012T060000
DTEND;TZID=America/New_York:20181012T210000
DTSTAMP:20260419T091940
CREATED:20181009T152155Z
LAST-MODIFIED:20181009T152155Z
UID:8790-1539324000-1539378000@nlaad.org
SUMMARY:Fiesta de la Salud - Miami\, FL
DESCRIPTION:Get Ready for the 4th Annual Fiesta de la Salud! We will be celebrating at the historic Cubaocho Museum and Performing Arts Center on Friday\, October 12th from 6pm to 9pm. In addition we will hold a health fair at the same location that will run from 4pm to 7pm. Free HIV/STD testing will be available throughout the whole event (with one minute results). We will have amazing performances by local talents: Teresita la Caliente\, David Aguilar\, and Ray Heker! You don’t want to miss this great event and be part of a day we come together as a community and create awareness on HIV/AIDS. Come celebrate for a good cause and mingle with amazing public health advocates in Miami. Partnering agencies include the AIDS Healthcare Foundation\, Survivor’s Pathway and AHF Pharmacy. \nThe health fair will have some amazing services\, including free vision\, glucose\, cholesterol\, blood pressure\, mental health referrals and information\, domestic violence information\, women’s health including referrals to free papsmears and mammograms for those 50 and over\, social/family services\, immigration agencies and MORE! \nThe first 25 people that visit the booths and/or gets tested will have access to the VIP area with free hors d’oeuvres and a drink ticket! DJ starts at 6pm and live band starts at 10pm! \n\n¡Prepárate para la 4ta Fiesta Anual de la Salud! Celebraremos en el histórico Museo y Centro de Artes Escénicas de Cubaocho el viernes 12 de octubre de 6pm a 9pm. Además\, realizaremos una feria de salud en el mismo lugar que se realizará de 4 a 7 p. M. Las pruebas gratuitas de VIH / ETS estarán disponibles durante todo el evento (con resultados de un minuto). Tendremos actuaciones increíbles de talentos locales: Teresita la Caliente\, David Aguilar y Ray Heker. No quedrá perderse este gran evento y ser parte de un día en el que nos reunimos como comunidad y creamos conciencia sobre el VIH / SIDA. Venga a celebrar por una buena causa y conviva con increíbles defensores de la salud pública en Miami. Las agencias anfitrionas incluyen AIDS Healthcare Foundation\, Survivor’s Pathway y AHF Pharmacy. \nLa feria de salud tendrá algunos servicios increíbles\, como visión gratuita\, glucosa\, colesterol\, presión arterial\, referencias e información sobre salud mental\, información sobre violencia doméstica\, salud de la mujer\, incluidas referencias a mamografías y mamografías para personas mayores de 50 años\, servicios sociales y familiares\, agencias de inmigración y más! \n¡Las primeras 25 personas que visitan los puestos y / o se hacen las pruebas tendrán acceso al área VIP con comida y bebida gratis. ¡DJ comienza a las 6 pm y la banda en vivo empieza a las 10 pm!
URL:https://nlaad.org/event/fiesta-de-la-salud-miami-fl-2/
LOCATION:Cubaocho Museum & Performing Arts Center\, 1465  SW 8th St\, Miami\, FL\, 33135\, United States
CATEGORIES:Health Fair,HIV Awareness,HIV Testing,Social Event
ATTACH;FMTTYPE=image/jpeg:https://nlaad.org/wp-content/uploads/2018/10/NLAAD-2018-English-e1539098480356.jpg
END:VEVENT
BEGIN:VEVENT
DTSTART;TZID=UTC:20181012T090000
DTEND;TZID=UTC:20181012T120000
DTSTAMP:20260419T091940
CREATED:20180911T200211Z
LAST-MODIFIED:20180911T200211Z
UID:8002-1539334800-1539345600@nlaad.org
SUMMARY:National Latino AIDS Awareness Day - San José\, CA
DESCRIPTION:We will provide a presentation about HIV among Latinos. In addition\, we will provide free HIV testing\, free condoms and lubricants!
URL:https://nlaad.org/event/national-latino-aids-awareness-day-san-jose-ca/
LOCATION:Consulate General of Mexico\, 302 Enzo Dr.\, Ste 200\, San José\, CA\, 95138\, United States
CATEGORIES:HIV Awareness,HIV Resources,HIV Testing
ATTACH;FMTTYPE=image/jpeg:https://nlaad.org/wp-content/uploads/2018/08/nlaad-me-we-2018.jpg
END:VEVENT
BEGIN:VEVENT
DTSTART;TZID=UTC:20181012T093000
DTEND;TZID=UTC:20181014T163000
DTSTAMP:20260419T091940
CREATED:20180911T003748Z
LAST-MODIFIED:20180911T003922Z
UID:7859-1539336600-1539534600@nlaad.org
SUMMARY:Latino LinQ Atlanta PRIDE - Atlanta\, GA
DESCRIPTION:Latino LinQ rented three booths at the Atlanta Pride to provide education about HIV\, substance abuse and HIV testing and referrals to health and social services\, also we will be highlighting National Latinx AIDS Awareness Day.
URL:https://nlaad.org/event/latino-linq-atlanta-pride/
LOCATION:Piedmont Park\, 1342 Worchester Drive NE\, Atlanta\, GA\, 30309\, United States
CATEGORIES:HIV Awareness,HIV Resources,HIV Testing,Social Event
ATTACH;FMTTYPE=image/jpeg:https://nlaad.org/wp-content/uploads/2018/08/nlaad-me-we-2018.jpg
END:VEVENT
BEGIN:VEVENT
DTSTART;TZID=UTC:20181012T100000
DTEND;TZID=UTC:20181012T160000
DTSTAMP:20260419T091940
CREATED:20180918T001433Z
LAST-MODIFIED:20180918T001433Z
UID:8145-1539338400-1539360000@nlaad.org
SUMMARY:NLAAD Wellness and Resource Fair - New York\, NY
DESCRIPTION:The goal of this event is to partner with community leaders to promote HIV/AIDS awareness\, healthy living and provide resources to Lower East Side community members.
URL:https://nlaad.org/event/nlaad-wellness-and-resource-fair-new-york-ny/
LOCATION:Ryan Health I NINA\, 279 East 3rd Street\, New York\, NY\, 10009\, United States
CATEGORIES:Health Fair,HIV Awareness,HIV Testing
ATTACH;FMTTYPE=image/jpeg:https://nlaad.org/wp-content/uploads/2018/08/nlaad-me-we-2018.jpg
END:VEVENT
BEGIN:VEVENT
DTSTART;TZID=America/New_York:20181012T110000
DTEND;TZID=America/New_York:20181012T150000
DTSTAMP:20260419T091940
CREATED:20181015T210403Z
LAST-MODIFIED:20181015T210403Z
UID:9062-1539342000-1539356400@nlaad.org
SUMMARY:HIV Testing: National Latino AIDS Awareness Day - Evanston\, IL
DESCRIPTION:As part of the Heritage Month at Northwestern\, MSA is offering free HIV testing on October 12th for students to create awareness around the issues of AIDS in the Latinx community
URL:https://nlaad.org/event/hiv-testing-national-latino-aids-awareness-day-evanston-il/
LOCATION:Multicultural Center @ Northwestern University\, 1936 Sheridan Road\, 1st Floor\, Evanston\, IL\, 60208\, United States
CATEGORIES:HIV Awareness,HIV Testing
ATTACH;FMTTYPE=image/jpeg:https://nlaad.org/wp-content/uploads/2018/08/nlaad-me-we-2018.jpg
END:VEVENT
BEGIN:VEVENT
DTSTART;TZID=America/New_York:20181012T160000
DTEND;TZID=America/New_York:20181012T210000
DTSTAMP:20260419T091940
CREATED:20181012T210147Z
LAST-MODIFIED:20181012T210147Z
UID:9022-1539360000-1539378000@nlaad.org
SUMMARY:Iniciativa Hispana-Fiesta de la Salud - Miami\, FL
DESCRIPTION:STD and HIV Testing and Health Fair
URL:https://nlaad.org/event/iniciativa-hispana-fiesta-de-la-salud-miami-fl/
LOCATION:Cubaocho Museum and Performing Arts Center\, 1465 SW 8 St.\, Miami\, FL\, 33135\, United States
CATEGORIES:Health Fair,HIV Testing
ATTACH;FMTTYPE=image/jpeg:https://nlaad.org/wp-content/uploads/2018/08/nlaad-me-we-2018.jpg
END:VEVENT
BEGIN:VEVENT
DTSTART;TZID=America/New_York:20181012T180000
DTEND;TZID=America/New_York:20181012T210000
DTSTAMP:20260419T091940
CREATED:20181012T195820Z
LAST-MODIFIED:20181012T195820Z
UID:8983-1539367200-1539378000@nlaad.org
SUMMARY:Boxers WAHI and LOUD present NLAAD with Madison St Cartier - New York\, NY
DESCRIPTION:Boxers in Washington Heights and LOUD (Latino Outreach and Understanding Division) have teamed up to present NLAAD (National Latino AIDS Awareness Day) with Special Guest Performer Madison St. Cartier.\nWe will be offering free SWAG and giveaways and mobile testing in conjunction with AHF and ACQC.\nHappy Hour 4-9pm.\nFree Food 6-7pm.
URL:https://nlaad.org/event/boxers-wahi-and-loud-present-nlaad-with-madison-st-cartier-new-york-ny/
LOCATION:Boxers Washington Heights\, 3820 Broadway\, New York\, NY\, 10032\, United States
CATEGORIES:HIV Awareness,HIV Testing,Social Event
ATTACH;FMTTYPE=image/jpeg:https://nlaad.org/wp-content/uploads/2018/10/42792824_10110210027320289_3608134624447823872_n-e1539374282897.jpg
END:VEVENT
BEGIN:VEVENT
DTSTART;TZID=America/New_York:20181012T180000
DTEND;TZID=America/New_York:20181012T220000
DTSTAMP:20260419T091940
CREATED:20180926T153249Z
LAST-MODIFIED:20180926T153249Z
UID:8465-1539367200-1539381600@nlaad.org
SUMMARY:A Night of Art & Awareness - Igualdad 2018 - Los Angeles\, CA
DESCRIPTION:Free HIV testing event with Artists and vendors from the LGBTQ Community and allies coming together to support one another in a safe environment.
URL:https://nlaad.org/event/a-night-of-art-awareness-igualdad-2018-los-angeles-ca/
LOCATION:AltaMed Prevention Offices\, 512 Indiana St. \, Los Angeles\, CA\, 90063\, United States
CATEGORIES:HIV Awareness,HIV Testing,Social Event
ATTACH;FMTTYPE=image/jpeg:https://nlaad.org/wp-content/uploads/2018/09/20180925_175958.jpg
END:VEVENT
BEGIN:VEVENT
DTSTART;TZID=America/New_York:20181012T180000
DTEND;TZID=America/New_York:20181013T000000
DTSTAMP:20260419T091940
CREATED:20181011T153540Z
LAST-MODIFIED:20181011T153540Z
UID:8832-1539367200-1539388800@nlaad.org
SUMMARY:NLAAD in Colorado @ XBar - Denver\, CO
DESCRIPTION:Denver Public Health will be providing HIV testing\, and Planned Parenthood of the Rockies will be providing HIV/NLAAD education and outreach at XBar.
URL:https://nlaad.org/event/nlaad-in-colorado-xbar-denver-co/
LOCATION:XBar\, 629 E Colfax Avenue\, Denver\, CO\, 80203\, United States
CATEGORIES:Health Education,HIV Awareness,HIV Resources,HIV Testing,Social Event
ATTACH;FMTTYPE=image/jpeg:https://nlaad.org/wp-content/uploads/2018/08/nlaad-me-we-2018.jpg
END:VEVENT
BEGIN:VEVENT
DTSTART;TZID=America/New_York:20181012T210000
DTEND;TZID=America/New_York:20181013T020000
DTSTAMP:20260419T091940
CREATED:20180924T163459Z
LAST-MODIFIED:20180924T163459Z
UID:8359-1539378000-1539396000@nlaad.org
SUMMARY:Latinx contra el estigma - Oakland\, CA
DESCRIPTION:HIV testing\, Information about PrEP. We are having raffles and giveaways in Club 21\, Latin Explosion
URL:https://nlaad.org/event/latinx-contra-el-estigma-oakland-ca/
LOCATION:Club 21\, 2111 Franklin St.\, Oakland\, CA\, 94612\, United States
CATEGORIES:Health Education,HIV Awareness,HIV Resources,HIV Testing
ATTACH;FMTTYPE=image/jpeg:https://nlaad.org/wp-content/uploads/2018/09/Photo-Grid-Talent-Show-Flyer.jpg
END:VEVENT
BEGIN:VEVENT
DTSTART;TZID=America/New_York:20181013T090000
DTEND;TZID=America/New_York:20181013T140000
DTSTAMP:20260419T091940
CREATED:20181001T221834Z
LAST-MODIFIED:20181002T175422Z
UID:8632-1539421200-1539439200@nlaad.org
SUMMARY:Family Fest - Orlando\, FL
DESCRIPTION:Harvest Wellness Fair – The goal of this event is to connect with and serve the Orlando community to promote a healthy environment and by providing a means of awareness of the services that are available to assist them in their daily lives.
URL:https://nlaad.org/event/family-fest-orlando-fl/
LOCATION:International Family Center\, 2008 N. Goldenrod Rd\, Orlando\, FL\, 32807\, United States
CATEGORIES:Health Fair,HIV Awareness,HIV Testing
ATTACH;FMTTYPE=image/jpeg:https://nlaad.org/wp-content/uploads/2018/08/nlaad-me-we-2018.jpg
END:VEVENT
BEGIN:VEVENT
DTSTART;TZID=America/New_York:20181013T090000
DTEND;TZID=America/New_York:20181013T150000
DTSTAMP:20260419T091940
CREATED:20180926T175524Z
LAST-MODIFIED:20180926T175524Z
UID:8472-1539421200-1539442800@nlaad.org
SUMMARY:Prueba de VIH -Brooklyn\, NY
DESCRIPTION:Dia de concientizacion de VIH y SIDA. La Iglesia Primera Menonita de Brooklyn ha programado tener la prueba de VIH para la comunidad del area de Bushwick en Brooklyn\, New York.
URL:https://nlaad.org/event/prueba-de-vih-brooklyn-ny/
LOCATION:Primera Iglesia Menonita de Brooklyn\, 23 Marcus Garvey Blvd\, Brooklyn\, NY\, 11206\, United States
CATEGORIES:HIV Testing
ATTACH;FMTTYPE=image/jpeg:https://nlaad.org/wp-content/uploads/2018/09/slider1-nlaad-2018-home-spanish.jpg
END:VEVENT
BEGIN:VEVENT
DTSTART;TZID=UTC:20181013T100000
DTEND;TZID=UTC:20181013T140000
DTSTAMP:20260419T091940
CREATED:20180816T221538Z
LAST-MODIFIED:20180816T221538Z
UID:7796-1539424800-1539439200@nlaad.org
SUMMARY:NLAAD Little Rock - Little Rock\, AR
DESCRIPTION:Community health fair with health screenings\, including HIV
URL:https://nlaad.org/event/nlaad-little-rock-little-rock-ar/
LOCATION:Southwest Community Center\, 6401 Baseline Rd\, Little Rock\, AR\, 72209\, United States
CATEGORIES:Health Fair,HIV Awareness,HIV Resources,HIV Testing
ATTACH;FMTTYPE=image/jpeg:https://nlaad.org/wp-content/uploads/2018/08/nlaad-me-we-2018.jpg
END:VEVENT
BEGIN:VEVENT
DTSTART;TZID=UTC:20181013T100000
DTEND;TZID=UTC:20181013T140000
DTSTAMP:20260419T091940
CREATED:20180817T000620Z
LAST-MODIFIED:20180817T000620Z
UID:7817-1539424800-1539439200@nlaad.org
SUMMARY:National Latino AIDS Awareness Day - Little Rock\, AR
DESCRIPTION:A health fair with HIV testing\, creating awareness about HIV/AIDS in the Latino community
URL:https://nlaad.org/event/national-latino-aids-awareness-day-little-rock-ar/
LOCATION:Southwest Community Center\, 6401 Baseline Road\, Little Rock\, AR\, 72209\, United States
CATEGORIES:Health Fair,HIV Awareness,HIV Resources,HIV Testing
ATTACH;FMTTYPE=image/jpeg:https://nlaad.org/wp-content/uploads/2018/08/nlaad-me-we-2018.jpg
END:VEVENT
BEGIN:VEVENT
DTSTART;TZID=America/New_York:20181013T110000
DTEND;TZID=America/New_York:20181013T130000
DTSTAMP:20260419T091940
CREATED:20181011T170817Z
LAST-MODIFIED:20181011T170817Z
UID:8881-1539428400-1539435600@nlaad.org
SUMMARY:Latino AIDS Awareness Day - Syracuse\, NY
DESCRIPTION:Join us at La Iglesia Misionera Monte De Sion’s Community Health Fair to celebrate National Latino AIDS Awareness Day with food\, prizes and an opportunity to meet our community partners. Free and confidential rapid HIV testing services will be available. \n\nÚnete a nosotros a celebrar el Día Nacional Latino de Concientización del SIDA! La Iglesia Misionera Monte de Sion está organizando una feria de salud con organizaciones de la comunidad. Habrá comida\, premios y testeo gratis y rápido del VIH.
URL:https://nlaad.org/event/latino-aids-awareness-day-syracuse-ny/
LOCATION:Iglesia Misionera Monte Sion\, 101 Lionel Ave (Basement family Space)\, Syracuse\, NY\, 13209\, United States
CATEGORIES:Health Fair,HIV Awareness,HIV Resources,HIV Testing,Social Event
ATTACH;FMTTYPE=image/jpeg:https://nlaad.org/wp-content/uploads/2018/08/nlaad-me-we-2018.jpg
END:VEVENT
BEGIN:VEVENT
DTSTART;TZID=America/New_York:20181013T110000
DTEND;TZID=America/New_York:20181013T150000
DTSTAMP:20260419T091940
CREATED:20181001T185627Z
LAST-MODIFIED:20181001T185627Z
UID:8617-1539428400-1539442800@nlaad.org
SUMMARY:Estados Latinos: La Curación es la Revolución - New Orleans\, LA
DESCRIPTION:This event will promote free HIV testing\, provide HIV prevention and treatment in the Latinx community\, and break down stigma in the Spanish speaking communities in the Greater New Orleans area. We will be providing information and “charlas” (chats) about PrEP\, U=U\, and safe needle use. \n\nEste evento promoverá pruebas gratis del VIH\, proporcionará información de prevención y tratamiento del VIH en la comunidad Latinx\, y deconstruirá el estigma en las comunidades de habla y español en el área metropolitana de Nueva Orleans. Estaremos proporcionando información y charlas sobre de Prep\, I = I\, y el uso seguro de la aguja.
URL:https://nlaad.org/event/estados-latinos-la-curacion-es-la-revolucion-new-orleans-la/
LOCATION:NOLA Village / El Pueblo NOLA\, 5112 E. Nemours Street\, New Orleans\, LA\, 70129\, United States
CATEGORIES:Health Education,HIV Awareness,HIV Resources,HIV Testing
ATTACH;FMTTYPE=image/jpeg:https://nlaad.org/wp-content/uploads/2018/08/nlaad-me-we-2018.jpg
END:VEVENT
BEGIN:VEVENT
DTSTART;TZID=America/New_York:20181013T130000
DTEND;TZID=America/New_York:20181013T170000
DTSTAMP:20260419T091940
CREATED:20181011T172524Z
LAST-MODIFIED:20181011T172524Z
UID:8897-1539435600-1539450000@nlaad.org
SUMMARY:National Latinx AIDS Awareness Day - Las Vegas\, NV
DESCRIPTION:Rapid HIV testing\, Syphilis screening\, Information and health services\, Cholesterol and Glucose screening\, Flu shots* Free Tacos from taco truck* entertainment\, raffles games and more surprises \n\nInformation Y Servicios De Salud\, Pruebas del VIH Y ETS\, Examenes de Colesterol\, Glucosa Y Mas\, Vacunas de la Gripa*\, Tacos Y Mas Comida*\, Entretenmiento\, Rifas\, Juegos\, Y Muchas Sorpresas!!
URL:https://nlaad.org/event/national-latinx-aids-awareness-day-las-vegas-nv/
LOCATION:Make a Road Nevada\, 4250 E Bonanza Rd\, Las Vegas\, NV\, 89110\, United States
CATEGORIES:Health Education,Health Fair,HIV Awareness,HIV Resources,HIV Testing,Social Event,STI's Testing
ATTACH;FMTTYPE=image/jpeg:https://nlaad.org/wp-content/uploads/2018/10/D70EA321-26CD-499D-B41E-4E4980E66A00-1.jpeg
END:VEVENT
BEGIN:VEVENT
DTSTART;TZID=America/New_York:20181013T230000
DTEND;TZID=America/New_York:20181014T020000
DTSTAMP:20260419T091940
CREATED:20181011T154410Z
LAST-MODIFIED:20181011T154410Z
UID:8846-1539471600-1539482400@nlaad.org
SUMMARY:NLAAD in Colorado @ Potrero Night Club - Glendale\, CO
DESCRIPTION:Denver Public Health will be providing HIV Testing @ Potrero Night Club
URL:https://nlaad.org/event/nlaad-in-colorado-potrero-night-club-glendale-co/
LOCATION:Potrero Night Club\, 4501 E Virginia Avenue\, Glendale\, CO\, 80246\, United States
CATEGORIES:Health Education,HIV Awareness,HIV Testing
ATTACH;FMTTYPE=image/jpeg:https://nlaad.org/wp-content/uploads/2018/08/nlaad-me-we-2018.jpg
END:VEVENT
BEGIN:VEVENT
DTSTART;TZID=UTC:20181014T120000
DTEND;TZID=UTC:20181014T170000
DTSTAMP:20260419T091940
CREATED:20180917T234050Z
LAST-MODIFIED:20180917T234119Z
UID:8138-1539518400-1539536400@nlaad.org
SUMMARY:NLAAD Health Fair - Houston\, TX
DESCRIPTION:The National Latino AIDS Awareness day Health Fair will take place on Sunday Oct 14th from 12 to 5 pm at PlazAmericas. \nFree and confidential screenings for HIV\, HCV\, Glucose and Blood Pressure. TV Raffle and more prizes and entertainment.
URL:https://nlaad.org/event/nlaad-health-fair-2/
LOCATION:PlazAmericas\, 7500 Bellaire Blvd\, Houston\, TX\, 77036\, United States
CATEGORIES:Health Fair,Hep C Testing,HIV Testing,Social Event
ATTACH;FMTTYPE=image/jpeg:https://nlaad.org/wp-content/uploads/2018/08/nlaad-me-we-2018.jpg
END:VEVENT
BEGIN:VEVENT
DTSTART;TZID=America/New_York:20181015T003000
DTEND;TZID=America/New_York:20181015T180000
DTSTAMP:20260419T091940
CREATED:20181011T175722Z
LAST-MODIFIED:20181011T175722Z
UID:8909-1539563400-1539626400@nlaad.org
SUMMARY:National Latinx HIV/AIDS Awareness Day (NLAAD) - Bronx\, NY
DESCRIPTION:Adolescent AIDS Program is partnering up with Duane Reade located in the Fordham area of the Bronx to promote free\, oral rapid HIV testing in recognition of National Latinx HIV/AIDS Awareness Day (NLAAD)
URL:https://nlaad.org/event/national-latinx-hivaids-awareness-day-nlaad-bronx-ny/
LOCATION:Duane Reade\, 58 E Fordham Road\, Bronx\, NY\, 10458\, United States
CATEGORIES:HIV Awareness,HIV Testing
ATTACH;FMTTYPE=image/jpeg:https://nlaad.org/wp-content/uploads/2018/08/nlaad-me-we-2018.jpg
END:VEVENT
BEGIN:VEVENT
DTSTART;TZID=America/New_York:20181015T010000
DTEND;TZID=America/New_York:20181015T210000
DTSTAMP:20260419T091940
CREATED:20181001T222524Z
LAST-MODIFIED:20181001T222524Z
UID:8639-1539565200-1539637200@nlaad.org
SUMMARY:Take the Train Take the test with Oasis - New York\, NY
DESCRIPTION:HIV testing available one block form the 28th Street stop of the 1 train \n\nPruebas de VIH GRATIS a un bloque de la parada en la calle 28 del tren 1
URL:https://nlaad.org/event/take-the-train-take-the-test-with-oasis-new-york-ny/
LOCATION:Oasis Latino LGBTS Wellness Center\, 330 7th Avenue\, Suite 2001\, New York\, NY\, 10001\, United States
CATEGORIES:HIV Testing
ATTACH;FMTTYPE=image/png:https://nlaad.org/wp-content/uploads/2018/09/Take-Train-Test-2018-e1538074072468.png
END:VEVENT
BEGIN:VEVENT
DTSTART;TZID=UTC:20181015T070000
DTEND;TZID=UTC:20181015T180000
DTSTAMP:20260419T091940
CREATED:20180911T005823Z
LAST-MODIFIED:20180911T005823Z
UID:7876-1539586800-1539626400@nlaad.org
SUMMARY:North Country HealthCare HIV Latinx Testing Day - Flagstaff\, AZ
DESCRIPTION:Free HIV testing!!!
URL:https://nlaad.org/event/north-country-healthcare-hiv-latinx-testing-day-flagstaff-az/
LOCATION:North Country HealthCare\, 2920 N 4th St\, Flagstaff\, AZ\, 86004\, United States
CATEGORIES:HIV Testing
ATTACH;FMTTYPE=image/jpeg:https://nlaad.org/wp-content/uploads/2018/08/nlaad-me-we-2018.jpg
END:VEVENT
BEGIN:VEVENT
DTSTART;TZID=UTC:20181015T080000
DTEND;TZID=UTC:20181015T160000
DTSTAMP:20260419T091940
CREATED:20180911T183213Z
LAST-MODIFIED:20180911T183332Z
UID:7936-1539590400-1539619200@nlaad.org
SUMMARY:Hartford Youth HIV Identification and Linkage Group Latino Community Outreach Day - Hartford\, CT
DESCRIPTION:To mobilize a community wide outreach day that includes: \n\nHIV/STD/Hep C & Opioid prevention education at a high school via the health Interactive Project\nA didactic session at a local Catholic Church with a large Latino following abd an outreach\nTesting effort in a mostly Latino community.\n\nAll of these efforts will include prevention education\, included PrEP information\, as well as\, HIV/Hep C screenings and linkage to care.
URL:https://nlaad.org/event/hartford-youth-hiv-identification-and-linkage-group-latino-community-outreach-day/
LOCATION:Hartford Park Street Area\, 385 Washington St.\, Hartford\, CT\, 06106\, United States
CATEGORIES:Hep C Testing,HIV Awareness,HIV Resources,HIV Testing,STI's Testing
ATTACH;FMTTYPE=image/jpeg:https://nlaad.org/wp-content/uploads/2018/08/nlaad-me-we-2018.jpg
END:VEVENT
BEGIN:VEVENT
DTSTART;TZID=America/New_York:20181015T080000
DTEND;TZID=America/New_York:20181015T170000
DTSTAMP:20260419T091940
CREATED:20180928T161452Z
LAST-MODIFIED:20180928T161452Z
UID:8579-1539590400-1539622800@nlaad.org
SUMMARY:Take the Train Take the Test 2018 - Jackson Heights\, Queens\, NY
DESCRIPTION:The inSPECT Project is a community initiative which reinforces the safety\, prevention\, education\, comprehensive care and treatment provided by the Center. Our mobile testing van and outreach workers can be found providing free\, rapid HIV testing and PrEP screenings all over Nassau County and Queens. Safer sex workshops are provided to schools and community based organizations to spread awareness of HIV and STI prevention. \nEl proyecto inSPECT es una iniciativa comunitaria que refuerza la seguridad\, la prevención\, la educación\, la atención integral y el tratamiento brindado por el Centro. Se puede encontrar a los trabajadores de van y de extensión de pruebas móviles que ofrecen pruebas de detección de VIH gratuitas y rápidas en todo el condado de Nassau y Queens. Se brindan talleres sobre sexo más seguro a las escuelas y organizaciones comunitarias para difundir la conciencia sobre la prevención del VIH y las ITS.
URL:https://nlaad.org/event/take-the-train-take-the-test-2018-jackson-heights-queens-ny/
LOCATION:Roosevelt Avenue 74th Street Subway station\, Roosevelt Avenue and 74th Street\, Jackson heights\, NY\, 11372\, United States
CATEGORIES:HIV Awareness,HIV Resources,HIV Testing
ATTACH;FMTTYPE=image/png:https://nlaad.org/wp-content/uploads/2018/09/Take-Train-Test-2018-e1538074072468.png
END:VEVENT
BEGIN:VEVENT
DTSTART;TZID=America/New_York:20181015T080000
DTEND;TZID=America/New_York:20181015T170000
DTSTAMP:20260419T091940
CREATED:20181012T204650Z
LAST-MODIFIED:20181012T204650Z
UID:9010-1539590400-1539622800@nlaad.org
SUMMARY:NLAAD - Baton Rouge\, LA
DESCRIPTION:Aspirations will host a testing event!!
URL:https://nlaad.org/event/nlaad-baton-rouge-la/
LOCATION:Aspirations\, 3966 Lanier Drive\, Baton Rouge\, LA\, 70814\, United States
CATEGORIES:HIV Awareness,HIV Testing
ATTACH;FMTTYPE=image/jpeg:https://nlaad.org/wp-content/uploads/2018/08/nlaad-me-we-2018.jpg
END:VEVENT
END:VCALENDAR