BEGIN:VCALENDAR
VERSION:2.0
PRODID:-//nlaad.org - ECPv6.15.19//NONSGML v1.0//EN
CALSCALE:GREGORIAN
METHOD:PUBLISH
X-ORIGINAL-URL:https://nlaad.org
X-WR-CALDESC:Events for nlaad.org
REFRESH-INTERVAL;VALUE=DURATION:PT1H
X-Robots-Tag:noindex
X-PUBLISHED-TTL:PT1H
BEGIN:VTIMEZONE
TZID:UTC
BEGIN:STANDARD
TZOFFSETFROM:+0000
TZOFFSETTO:+0000
TZNAME:UTC
DTSTART:20150101T000000
END:STANDARD
END:VTIMEZONE
BEGIN:VEVENT
DTSTART;TZID=UTC:20161029T230000
DTEND;TZID=UTC:20161030T020000
DTSTAMP:20260422T081016
CREATED:20161004T030256Z
LAST-MODIFIED:20161004T030256Z
UID:5747-1477782000-1477792800@nlaad.org
SUMMARY:Free rapid HIV Testing at Club Santuario - Atlanta\, GA
DESCRIPTION:Get a free rapid HIV test. It’s simple\, confidential\, painless and easy. \n\n\n\n\n\n In collaboration with Emory University
URL:https://nlaad.org/event/free-rapid-hiv-testing-at-club-santuario-atlanta-ga/
LOCATION:Club Santuario\, 3209 Paces Ferry Pl NW\, Atlanta\, GA\, 30305\, United States
CATEGORIES:HIV Testing
ATTACH;FMTTYPE=image/jpeg:https://nlaad.org/wp-content/uploads/2016/09/event-poster-general-2.jpg
END:VEVENT
END:VCALENDAR