BEGIN:VCALENDAR
VERSION:2.0
PRODID:-//nlaad.org - ECPv6.15.19//NONSGML v1.0//EN
CALSCALE:GREGORIAN
METHOD:PUBLISH
X-WR-CALNAME:nlaad.org
X-ORIGINAL-URL:https://nlaad.org
X-WR-CALDESC:Events for nlaad.org
REFRESH-INTERVAL;VALUE=DURATION:PT1H
X-Robots-Tag:noindex
X-PUBLISHED-TTL:PT1H
BEGIN:VTIMEZONE
TZID:UTC
BEGIN:STANDARD
TZOFFSETFROM:+0000
TZOFFSETTO:+0000
TZNAME:UTC
DTSTART:20150101T000000
END:STANDARD
END:VTIMEZONE
BEGIN:VEVENT
DTSTART;TZID=UTC:20161020T190000
DTEND;TZID=UTC:20161020T220000
DTSTAMP:20260422T045220
CREATED:20161013T003946Z
LAST-MODIFIED:20161013T003946Z
UID:6149-1476990000-1477000800@nlaad.org
SUMMARY:Latinos Salud Hispanic Food Bazaar - Wilton Manors\, FL
DESCRIPTION:Celebrate Hispanic Heritage Month and National Latinx AIDS Awareness Day at Latinos Salud’s annual food bazaar. Every year\, members of our community come out to celebrate their heritage with signature dishes from across Latin America and the Caribbean. There will be prizes and contests\, and much delicious food to sample! Learn about Latinx culture and about the remarkable work Latinos Salud does in HIV prevention\, testing\, and linking to medical care.
URL:https://nlaad.org/event/latinos-salud-hispanic-food-bazaar-wilton-manors-fl/
LOCATION:Richardson House\, 1937 Wilton Dr\, Wilton Manors\, FL\, 33305\, United States
CATEGORIES:HIV Testing
ATTACH;FMTTYPE=image/jpeg:https://nlaad.org/wp-content/uploads/2016/09/event-poster-general-2.jpg
END:VEVENT
END:VCALENDAR