BEGIN:VCALENDAR
VERSION:2.0
PRODID:-//nlaad.org - ECPv6.15.19//NONSGML v1.0//EN
CALSCALE:GREGORIAN
METHOD:PUBLISH
X-WR-CALNAME:nlaad.org
X-ORIGINAL-URL:https://nlaad.org
X-WR-CALDESC:Events for nlaad.org
REFRESH-INTERVAL;VALUE=DURATION:PT1H
X-Robots-Tag:noindex
X-PUBLISHED-TTL:PT1H
BEGIN:VTIMEZONE
TZID:UTC
BEGIN:STANDARD
TZOFFSETFROM:+0000
TZOFFSETTO:+0000
TZNAME:UTC
DTSTART:20150101T000000
END:STANDARD
END:VTIMEZONE
BEGIN:VEVENT
DTSTART;TZID=UTC:20161018T090000
DTEND;TZID=UTC:20161018T140000
DTSTAMP:20260422T045223
CREATED:20160929T031215Z
LAST-MODIFIED:20160930T100459Z
UID:5517-1476781200-1476799200@nlaad.org
SUMMARY:NLAAD Present at the Mexican Consulate - Milwaukee\, WI
DESCRIPTION:Offering Free HIV Testing\, Information on PrEP\, STD and more.
URL:https://nlaad.org/event/nlaad-present-at-the-mexican-consulate/
LOCATION:Consulado de Mexico en Milwaukee\, 1443 N. Prospect Ave.\, Milwaukee\, WI\, 53202\, United States
CATEGORIES:HIV Testing
ATTACH;FMTTYPE=image/jpeg:https://nlaad.org/wp-content/uploads/2016/09/event-poster-general-2.jpg
END:VEVENT
BEGIN:VEVENT
DTSTART;TZID=UTC:20161018T100000
DTEND;TZID=UTC:20161018T140000
DTSTAMP:20260422T045223
CREATED:20160928T231203Z
LAST-MODIFIED:20160930T100107Z
UID:5374-1476784800-1476799200@nlaad.org
SUMMARY:Binational Health Day - San Rafael\, CA
DESCRIPTION:A health fair at local agency which reaches Latinos for services. Food bank\, flu clinic and HIV testing will happen all at same event/same time. We are dovetailing on these services. \nIn collaboration with: Canal Alliance & Marin County Flu Clinics \n 
URL:https://nlaad.org/event/binational-health-day/
LOCATION:Canal Alliance\, 91 Larkspur Street\, San Rafael\, CA\, 94901\, United States
CATEGORIES:HIV Testing
ATTACH;FMTTYPE=image/jpeg:https://nlaad.org/wp-content/uploads/2016/09/event-poster-general-2.jpg
END:VEVENT
END:VCALENDAR