BEGIN:VCALENDAR
VERSION:2.0
PRODID:-//nlaad.org - ECPv6.15.19//NONSGML v1.0//EN
CALSCALE:GREGORIAN
METHOD:PUBLISH
X-ORIGINAL-URL:https://nlaad.org
X-WR-CALDESC:Events for nlaad.org
REFRESH-INTERVAL;VALUE=DURATION:PT1H
X-Robots-Tag:noindex
X-PUBLISHED-TTL:PT1H
BEGIN:VTIMEZONE
TZID:America/New_York
BEGIN:DAYLIGHT
TZOFFSETFROM:-0500
TZOFFSETTO:-0400
TZNAME:EDT
DTSTART:20190310T070000
END:DAYLIGHT
BEGIN:STANDARD
TZOFFSETFROM:-0400
TZOFFSETTO:-0500
TZNAME:EST
DTSTART:20191103T060000
END:STANDARD
BEGIN:DAYLIGHT
TZOFFSETFROM:-0500
TZOFFSETTO:-0400
TZNAME:EDT
DTSTART:20200308T070000
END:DAYLIGHT
BEGIN:STANDARD
TZOFFSETFROM:-0400
TZOFFSETTO:-0500
TZNAME:EST
DTSTART:20201101T060000
END:STANDARD
BEGIN:DAYLIGHT
TZOFFSETFROM:-0500
TZOFFSETTO:-0400
TZNAME:EDT
DTSTART:20210314T070000
END:DAYLIGHT
BEGIN:STANDARD
TZOFFSETFROM:-0400
TZOFFSETTO:-0500
TZNAME:EST
DTSTART:20211107T060000
END:STANDARD
BEGIN:DAYLIGHT
TZOFFSETFROM:-0500
TZOFFSETTO:-0400
TZNAME:EDT
DTSTART:20220313T070000
END:DAYLIGHT
BEGIN:STANDARD
TZOFFSETFROM:-0400
TZOFFSETTO:-0500
TZNAME:EST
DTSTART:20221106T060000
END:STANDARD
BEGIN:DAYLIGHT
TZOFFSETFROM:-0500
TZOFFSETTO:-0400
TZNAME:EDT
DTSTART:20230312T070000
END:DAYLIGHT
BEGIN:STANDARD
TZOFFSETFROM:-0400
TZOFFSETTO:-0500
TZNAME:EST
DTSTART:20231105T060000
END:STANDARD
END:VTIMEZONE
BEGIN:VTIMEZONE
TZID:America/Denver
BEGIN:DAYLIGHT
TZOFFSETFROM:-0700
TZOFFSETTO:-0600
TZNAME:MDT
DTSTART:20190310T090000
END:DAYLIGHT
BEGIN:STANDARD
TZOFFSETFROM:-0600
TZOFFSETTO:-0700
TZNAME:MST
DTSTART:20191103T080000
END:STANDARD
BEGIN:DAYLIGHT
TZOFFSETFROM:-0700
TZOFFSETTO:-0600
TZNAME:MDT
DTSTART:20200308T090000
END:DAYLIGHT
BEGIN:STANDARD
TZOFFSETFROM:-0600
TZOFFSETTO:-0700
TZNAME:MST
DTSTART:20201101T080000
END:STANDARD
BEGIN:DAYLIGHT
TZOFFSETFROM:-0700
TZOFFSETTO:-0600
TZNAME:MDT
DTSTART:20210314T090000
END:DAYLIGHT
BEGIN:STANDARD
TZOFFSETFROM:-0600
TZOFFSETTO:-0700
TZNAME:MST
DTSTART:20211107T080000
END:STANDARD
END:VTIMEZONE
BEGIN:VTIMEZONE
TZID:America/Los_Angeles
BEGIN:DAYLIGHT
TZOFFSETFROM:-0800
TZOFFSETTO:-0700
TZNAME:PDT
DTSTART:20190310T100000
END:DAYLIGHT
BEGIN:STANDARD
TZOFFSETFROM:-0700
TZOFFSETTO:-0800
TZNAME:PST
DTSTART:20191103T090000
END:STANDARD
BEGIN:DAYLIGHT
TZOFFSETFROM:-0800
TZOFFSETTO:-0700
TZNAME:PDT
DTSTART:20200308T100000
END:DAYLIGHT
BEGIN:STANDARD
TZOFFSETFROM:-0700
TZOFFSETTO:-0800
TZNAME:PST
DTSTART:20201101T090000
END:STANDARD
BEGIN:DAYLIGHT
TZOFFSETFROM:-0800
TZOFFSETTO:-0700
TZNAME:PDT
DTSTART:20210314T100000
END:DAYLIGHT
BEGIN:STANDARD
TZOFFSETFROM:-0700
TZOFFSETTO:-0800
TZNAME:PST
DTSTART:20211107T090000
END:STANDARD
END:VTIMEZONE
BEGIN:VEVENT
DTSTART;TZID=America/New_York:20221014T210000
DTEND;TZID=America/New_York:20221015T030000
DTSTAMP:20260424T075919
CREATED:20221015T054109Z
LAST-MODIFIED:20221015T054109Z
UID:11510-1665781200-1665802800@nlaad.org
SUMMARY:Atlantis Underground
DESCRIPTION:Dance event open to the public promoting awareness of new non-profit Four4Consent focusing on preventing sexual assault at EDM\nevents. Event is 21+
URL:https://nlaad.org/event/atlantis-underground/
LOCATION:Navel\, 1161 S Hope St\, Los Angeles\, CA\, 90015\, United States
CATEGORIES:HIV Awareness,HIV Resources,HIV Testing
ATTACH;FMTTYPE=image/png:https://nlaad.org/wp-content/uploads/2022/10/Screenshot_1.png
END:VEVENT
BEGIN:VEVENT
DTSTART;TZID=America/New_York:20221014T150000
DTEND;TZID=America/New_York:20221014T160000
DTSTAMP:20260424T075919
CREATED:20221013T224223Z
LAST-MODIFIED:20221013T224223Z
UID:11487-1665759600-1665763200@nlaad.org
SUMMARY:NLAAD Webinar 5: "HIV Vaccine Research Updates and Latinx Engagement"
DESCRIPTION:
URL:https://nlaad.org/event/nlaad-webinar-5-hiv-vaccine-research-updates-and-latinx-engagement/
LOCATION:Zoom\, United States
CATEGORIES:Facebook Live,Health Education,HIV Awareness,HIV Resources,Workshop
ATTACH;FMTTYPE=image/png:https://nlaad.org/wp-content/uploads/2022/10/nlaad-2022-webinar-banner-4.png
END:VEVENT
BEGIN:VEVENT
DTSTART;TZID=America/New_York:20221014T100000
DTEND;TZID=America/New_York:20221014T170000
DTSTAMP:20260424T075919
CREATED:20221010T161940Z
LAST-MODIFIED:20221012T141658Z
UID:11401-1665741600-1665766800@nlaad.org
SUMMARY:Heritage Community Outreach
DESCRIPTION:Because of recent Hurricane\, the event will include essentials such as food\, COVID and Sanitation supplies. There will be HIV testing and counseling\, Opportunity to sign up for HIV treatment and Prep
URL:https://nlaad.org/event/heritage-community-outreach/
LOCATION:Pierson FL\, 111 Fountain Dr\, Pierson\, FL\, 32180\, United States
CATEGORIES:HIV Awareness,HIV Resources,HIV Testing
ATTACH;FMTTYPE=image/png:https://nlaad.org/wp-content/uploads/2022/10/nlaad-2022-general-event-ad-220217.png
END:VEVENT
BEGIN:VEVENT
DTSTART;TZID=America/New_York:20221014T090000
DTEND;TZID=America/New_York:20221014T170000
DTSTAMP:20260424T075919
CREATED:20221012T142443Z
LAST-MODIFIED:20221012T142443Z
UID:11454-1665738000-1665766800@nlaad.org
SUMMARY:NLAAD at CMC
DESCRIPTION:Providing HIV resources in Spanish and promoting screening/diagnostic testing to neighboring community members
URL:https://nlaad.org/event/nlaad-at-cmc/
LOCATION:Community Medical Centers – Lawrence Site\, 721 Calaveras St\, Lodi\, CA\, 95240\, United States
CATEGORIES:HIV Awareness,HIV Resources,HIV Testing
ATTACH;FMTTYPE=image/png:https://nlaad.org/wp-content/uploads/2022/10/nlaad-2022-general-event-ad-220217.png
END:VEVENT
BEGIN:VEVENT
DTSTART;TZID=America/New_York:20221014T090000
DTEND;TZID=America/New_York:20221014T170000
DTSTAMP:20260424T075919
CREATED:20221011T141436Z
LAST-MODIFIED:20221011T141436Z
UID:11438-1665738000-1665766800@nlaad.org
SUMMARY:National Latinx AIDS Awareness Day
DESCRIPTION:HIV Awareness\, HIV Testing\, Disseminate information to community members
URL:https://nlaad.org/event/national-latinx-aids-awareness-day-5/
LOCATION:LGBTQ Drop In Center\, 4743 E Cesar Chavez Avenue\, Los Angeles\, CA\, 90022\, United States
CATEGORIES:HIV Awareness,HIV Resources,HIV Testing
ATTACH;FMTTYPE=image/jpeg:https://nlaad.org/wp-content/uploads/2022/10/YASSS_SHADES20OF20RED_100622-ESP-scaled.jpg
END:VEVENT
BEGIN:VEVENT
DTSTART;TZID=America/New_York:20221013T110000
DTEND;TZID=America/New_York:20221013T170000
DTSTAMP:20260424T075919
CREATED:20221010T141633Z
LAST-MODIFIED:20221012T141601Z
UID:11386-1665658800-1665680400@nlaad.org
SUMMARY:Health Wellness Fair
DESCRIPTION:HF will host a Health Wellness Fair\, during the event there will be free HIV/STI’s testing and information on PrEP/PEP.
URL:https://nlaad.org/event/health-wellness-fair/
LOCATION:Hispanic Federation\, 55 Exchange Place\, New York\, NY\, 10029\, United States
CATEGORIES:Health Fair,HIV Awareness,HIV Resources,HIV Testing
ATTACH;FMTTYPE=image/png:https://nlaad.org/wp-content/uploads/2022/10/nlaad-2022-general-event-ad-120216.png
END:VEVENT
BEGIN:VEVENT
DTSTART;TZID=America/New_York:20221012T100000
DTEND;TZID=America/New_York:20221012T170000
DTSTAMP:20260424T075919
CREATED:20221010T142650Z
LAST-MODIFIED:20221012T141535Z
UID:11395-1665568800-1665594000@nlaad.org
SUMMARY:Haste La Prueba!
DESCRIPTION:Bringing awareness to the Latinx communities about HIV/AIDS by providing HIV prevention education.
URL:https://nlaad.org/event/haste-la-prueba/
LOCATION:AID FOR SAIDS\, 131 Varick St.\, New York\, NY\, 10013\, United States
CATEGORIES:HIV Awareness,HIV Resources,HIV Testing
ATTACH;FMTTYPE=image/png:https://nlaad.org/wp-content/uploads/2022/10/nlaad-2022-general-event-ad-220217.png
END:VEVENT
BEGIN:VEVENT
DTSTART;TZID=America/New_York:20211028T140000
DTEND;TZID=America/New_York:20211028T150000
DTSTAMP:20260424T075919
CREATED:20211022T184319Z
LAST-MODIFIED:20211022T184703Z
UID:11293-1635429600-1635433200@nlaad.org
SUMMARY:NLAAD 2021 webinar #2: After 40 years of HIV epidemic: U=U it's perspective
DESCRIPTION:In early 2016\, a life-changing fact was turned into a campaign that communicate that a person living with HIV who has an undetectable viral load cannot transmit HIV to sexual partners. In other words\, Undetectable = Untransmittable (U=U). 40 years after the start of the HIV epidemic\, U=U is revolutionizing what it means to live and love with HIV. In this webinar\, you’ll hear insights from a U=U Ambassador and PAC staff member about how U=U is being used to End the Epidemic and engage the Latinx community in new and innovative ways
URL:https://nlaad.org/event/nlaad-2021-webinar-2/
LOCATION:Zoom\, United States
CATEGORIES:Facebook Live,Health Education,HIV Awareness,HIV Resources,Workshop
ATTACH;FMTTYPE=image/png:https://nlaad.org/wp-content/uploads/2021/10/nlaad-webinar-2021-ppt-28561.png
END:VEVENT
BEGIN:VEVENT
DTSTART;TZID=America/New_York:20211016T110000
DTEND;TZID=America/New_York:20211016T153000
DTSTAMP:20260424T075919
CREATED:20211007T190718Z
LAST-MODIFIED:20211007T225611Z
UID:11140-1634382000-1634398200@nlaad.org
SUMMARY:CELEBRATING THE HISPANIC HERITAGE
DESCRIPTION:CORDIALLY INVITES EVERYONE TO JOIN US IN CELEBRATING THE HISPANICA HERITAGE AND NLAA! THERE WILL BE\nFREE HIV TESTING AND COVID TESTING ALONG WITH MUSIC AND ENTERTAINMENTS FOR EVERYONE IN THE FAMILY
URL:https://nlaad.org/event/celebrating-the-hispanic-heritage/
LOCATION:Farmworker’s Association\, 11 Fountain Drive\, Pierson\, FL\, 32180\, United States
CATEGORIES:HIV Awareness,HIV Resources,HIV Testing,Social Event,STI's Testing
END:VEVENT
BEGIN:VEVENT
DTSTART;TZID=America/New_York:20211015T180000
DTEND;TZID=America/New_York:20211015T180000
DTSTAMP:20260424T075919
CREATED:20211007T193741Z
LAST-MODIFIED:20211007T225656Z
UID:11163-1634320800-1634320800@nlaad.org
SUMMARY:NLAAD 2021
DESCRIPTION:National Latinx AIDS Awareness Day (NLAAD) is October 15th. While new diagnoses of HIV have decreased in other populations\, that\nis not the case in Latinx communities. There are many barriers that keep Latinx from accessing HIV education\, prevention\, testing\,\nand treatment including fear\, stigma\, homophobia\, and language. The elimination of these barriers is priority one for our health.\nThis year’s NLAAD campaign theme is “HIV\, a pandemic that has survived 40 years\, it is time to end it”. Although we are currently in a\npandemic caused by COVID-19\, the HIV/AIDS pandemic is still going strong. Millions have died and millions more have been\nimpacted by this disease\, but now is the time to remember we can end HIV/AIDS once and for all.\nVIDA is hosting the launch of NLAAD’s 2021 information and outreach campaign in San Diego at Urban MO’s. Join us to learn more\nabout HIV health. We will be offering free take home HIV test kits and information.
URL:https://nlaad.org/event/nlaad-2021/
LOCATION:Urban MOs\, 308 University Avenue\, San Diego\, CA\, 92103\, United States
CATEGORIES:HIV Awareness,HIV Resources,HIV Testing
ATTACH;FMTTYPE=image/png:https://nlaad.org/wp-content/uploads/2021/10/nlaad-2021-general-event-ad-26287.png
END:VEVENT
BEGIN:VEVENT
DTSTART;TZID=America/New_York:20211015T150000
DTEND;TZID=America/New_York:20211015T170000
DTSTAMP:20260424T075919
CREATED:20211014T050749Z
LAST-MODIFIED:20211014T050749Z
UID:11228-1634310000-1634317200@nlaad.org
SUMMARY:Fiesta de Jardin
DESCRIPTION:To celebrate Latinx Heritage Month and Latinx HIV Awareness Day\, we have organized a day where community members can update\ntheir sexual health status via HIV and STI/STD screenings\, meet local artists\, have free food\, and have access to other resources\nfrom the organizations that will be tabling.
URL:https://nlaad.org/event/fiesta-de-jardin/
LOCATION:Izayo Mazehualli\, 2800 South Ridgeway\, Chicago\, IL\, 60623\, United States
CATEGORIES:HIV Awareness,HIV Resources,HIV Testing,Social Event
ATTACH;FMTTYPE=image/png:https://nlaad.org/wp-content/uploads/2021/10/nlaad-2021-general-event-ad-26287.png
END:VEVENT
BEGIN:VEVENT
DTSTART;TZID=America/New_York:20211015T130000
DTEND;TZID=America/New_York:20211015T170000
DTSTAMP:20260424T075919
CREATED:20211007T195316Z
LAST-MODIFIED:20211007T225749Z
UID:11170-1634302800-1634317200@nlaad.org
SUMMARY:JUNTX En La LUCHA
DESCRIPTION:Open to the public event offering FREE snacks\, sexual health packages\, hygiene bundles\, harm reduction kits\, educational\nmaterial/resources\, and FREE HIV Testing.
URL:https://nlaad.org/event/juntx-en-la-lucha/
LOCATION:Valley AIDS Council – Brownsville\, 857 E. Washington St.\, Brownsville\, TX\, 78520\, United States
CATEGORIES:Health Fair,HIV Awareness,HIV Resources,HIV Testing
ATTACH;FMTTYPE=image/png:https://nlaad.org/wp-content/uploads/2021/10/nlaad-2021-general-event-ad-16286.png
END:VEVENT
BEGIN:VEVENT
DTSTART;TZID=America/New_York:20211015T100000
DTEND;TZID=America/New_York:20211015T170000
DTSTAMP:20260424T075919
CREATED:20211007T200018Z
LAST-MODIFIED:20211007T225927Z
UID:11177-1634292000-1634317200@nlaad.org
SUMMARY:Know your Status
DESCRIPTION:Tabling in front of Office
URL:https://nlaad.org/event/know-your-status-2/
LOCATION:Health People\, 552 Southern BLVD\, Bronx\, 10455\, United States
CATEGORIES:HIV Awareness,HIV Resources
ATTACH;FMTTYPE=image/png:https://nlaad.org/wp-content/uploads/2021/10/nlaad-2021-general-event-ad-16286.png
END:VEVENT
BEGIN:VEVENT
DTSTART;TZID=America/New_York:20211015T100000
DTEND;TZID=America/New_York:20211015T130000
DTSTAMP:20260424T075919
CREATED:20211007T190052Z
LAST-MODIFIED:20211007T230014Z
UID:11129-1634292000-1634302800@nlaad.org
SUMMARY:NLAAD/ TESTING AT THE MEXICAN CONSULATE BY OASIS
DESCRIPTION:TESTING AND HIV INFORMATION AT THE VENTANILLA DE SALUD PART OF THE BINATIONAL HEALTH WEEK
URL:https://nlaad.org/event/nlaad-testing-at-the-mexican-consulate-by-oasis/
LOCATION:27 East 39th Street\, 27 East 39th Street\, New York\, NY\, 10016\, United States
CATEGORIES:HIV Awareness,HIV Resources,HIV Testing
ATTACH;FMTTYPE=image/png:https://nlaad.org/wp-content/uploads/2021/10/nlaad-2021-general-event-ad-26287.png
END:VEVENT
BEGIN:VEVENT
DTSTART;TZID=America/New_York:20211015T100000
DTEND;TZID=America/New_York:20211015T123000
DTSTAMP:20260424T075919
CREATED:20211014T034514Z
LAST-MODIFIED:20211014T034514Z
UID:11213-1634292000-1634301000@nlaad.org
SUMMARY:Be Into Health get tested
DESCRIPTION:Promote and make awareness of HIV transmission and prevention. We will provide literature about HIV and PrEP\, condoms\, and HIV\ntesting. This event will take place at 280 Henry Street\, NY\, NY 10002.
URL:https://nlaad.org/event/be-into-health-get-tested/
LOCATION:fidel Bu Contreras\, 280 Henry Street\, New York\, 10002\, United States
CATEGORIES:HIV Awareness,HIV Resources,HIV Testing
ATTACH;FMTTYPE=image/png:https://nlaad.org/wp-content/uploads/2021/10/nlaad-2021-general-event-ad-26287.png
END:VEVENT
BEGIN:VEVENT
DTSTART;TZID=America/New_York:20211014T110000
DTEND;TZID=America/New_York:20211014T170000
DTSTAMP:20260424T075919
CREATED:20211007T195611Z
LAST-MODIFIED:20211007T230101Z
UID:11173-1634209200-1634230800@nlaad.org
SUMMARY:Iris House and AHF Bronx National Latino AIDS Awareness Day
DESCRIPTION:HIV Testing\, Music\, Giveaways\, and Education for National Latino AIDS Awareness day at 655 Morris Ave. Suite 2 Bronx\, NY 10
URL:https://nlaad.org/event/iris-house-and-ahf-bronx-national-latino-aids-awareness-day/
LOCATION:AHF Bronx Wellness Center\, 655 Morris Ave. Suite 2\, Bronx\, NY\, United States
CATEGORIES:HIV Awareness,HIV Resources,Social Event
ATTACH;FMTTYPE=image/png:https://nlaad.org/wp-content/uploads/2021/10/nlaad-2021-general-event-ad-16286.png
END:VEVENT
BEGIN:VEVENT
DTSTART;TZID=America/New_York:20211014T100000
DTEND;TZID=America/New_York:20211014T170000
DTSTAMP:20260424T075919
CREATED:20211007T201627Z
LAST-MODIFIED:20211007T230141Z
UID:11186-1634205600-1634230800@nlaad.org
SUMMARY:NLAAD Health Fair
DESCRIPTION:San Ysidro Health will be offering HIV Testing\, HCV Testing\, COVID-19 Vaccines and other health information and resources.
URL:https://nlaad.org/event/nlaad-health-fair-4/
LOCATION:San Ysidro Grocery Outlet\, 444 E San Ysidro Blvd\, San Isidro\, United States
CATEGORIES:Health Fair,Hep C Testing,HIV Awareness,HIV Resources,HIV Testing
END:VEVENT
BEGIN:VEVENT
DTSTART;TZID=America/New_York:20211014T090000
DTEND;TZID=America/New_York:20211014T150000
DTSTAMP:20260424T075919
CREATED:20211007T201140Z
LAST-MODIFIED:20211007T230229Z
UID:11183-1634202000-1634223600@nlaad.org
SUMMARY:NLAAD
DESCRIPTION:Promoting/ Education / Resources and Outreach and testing for HI
URL:https://nlaad.org/event/nlaad-3/
LOCATION:Grocery Outlet Parking Lot\, 444 E San Ysidro Blvd\, San Ysidro\, CA\, United States
CATEGORIES:HIV Awareness,HIV Resources,HIV Testing
ATTACH;FMTTYPE=image/png:https://nlaad.org/wp-content/uploads/2021/10/nlaad-2021-general-event-ad-16286.png
END:VEVENT
BEGIN:VEVENT
DTSTART;TZID=America/New_York:20211007T080000
DTEND;TZID=America/New_York:20211007T170000
DTSTAMP:20260424T075919
CREATED:20211007T200351Z
LAST-MODIFIED:20211007T230559Z
UID:11181-1633593600-1633626000@nlaad.org
SUMMARY:Lets Get Tested !!
DESCRIPTION:Bringing testing and awareness to the Latino community in NYC
URL:https://nlaad.org/event/lets-get-tested/
LOCATION:AID for AIDS International\, 131 Varick Street\, Suite 1011\,\, Suite 1011\, New York\, NY\, 10013\, United States
CATEGORIES:HIV Awareness,HIV Resources,HIV Testing
ATTACH;FMTTYPE=image/png:https://nlaad.org/wp-content/uploads/2021/10/nlaad-2021-general-event-ad-26287.png
END:VEVENT
BEGIN:VEVENT
DTSTART;TZID=America/Denver:20201031T100000
DTEND;TZID=America/Denver:20201031T143000
DTSTAMP:20260424T075919
CREATED:20201003T162845Z
LAST-MODIFIED:20201003T162845Z
UID:10775-1604138400-1604154600@nlaad.org
SUMMARY:Binational Health Week - Denver\, Colorado
DESCRIPTION:Binational Health Week is a series of events throughout October focused on the health of Latinos living in the metro Denver area and in other parts of Colorado. Events will take place October 3rd\, 17th\, 24th\, and 31st. \nThere will be free health screenings\, such as diabetes\, A1C\, HIV\, Chlamydia\, Gonorrhea\, Syphilis\, Hepatitis C\, anxiety and depression. Free COVID-19 testing (walk-up/drive thru) and free flu shots. \nFor more information about the Binational Health events\, please contact Servicios de La Raza at 303-458-5851 or visit our Facebook page at www.facebook.com/serviciosdelaraza.
URL:https://nlaad.org/event/binational-health-week-denver-colorado-4/
LOCATION:Abraham Lincoln High School\, 2285 S. Federal Blvd\, Denver\, CO\, 80219\, United States
CATEGORIES:Health Education,Health Fair,Hep C Testing,HIV Awareness,HIV Resources,HIV Testing,STI's Testing
ATTACH;FMTTYPE=image/jpeg:https://nlaad.org/wp-content/uploads/2020/09/nlaad-2020-event-poster-general-2.jpg
END:VEVENT
BEGIN:VEVENT
DTSTART;TZID=America/Denver:20201024T100000
DTEND;TZID=America/Denver:20201024T143000
DTSTAMP:20260424T075920
CREATED:20201003T162421Z
LAST-MODIFIED:20201019T022917Z
UID:10773-1603533600-1603549800@nlaad.org
SUMMARY:Binational Health Week - Denver Colorado
DESCRIPTION:Binational Health Week is a series of events throughout October focused on the health of Latinos living in the metro Denver area and in other parts of Colorado. Events will take place October 3rd\, 17th\, 24th\, and 31st. \nThere will be free health screenings\, such as diabetes\, A1C\, HIV\, Chlamydia\, Gonorrhea\, Syphilis\, Hepatitis C\, anxiety and depression. Free COVID-19 testing (walk-up/drive thru) and free flu shots. \nFor more information about the Binational Health events\, please contact Servicios de La Raza at 303-458-5851 or visit our Facebook page at www.facebook.com/serviciosdelaraza.
URL:https://nlaad.org/event/binational-health-week-denver-colorado-3/
LOCATION:Abraham Lincoln High School\, 2285 S. Federal Blvd\, Denver\, CO\, 80219\, United States
CATEGORIES:Health Education,Health Fair,Hep C Testing,HIV Awareness,HIV Resources,HIV Testing,STI's Testing
ATTACH;FMTTYPE=image/jpeg:https://nlaad.org/wp-content/uploads/2020/09/nlaad-2020-event-poster-general-1.jpg
END:VEVENT
BEGIN:VEVENT
DTSTART;TZID=America/Denver:20201017T100000
DTEND;TZID=America/Denver:20201017T143000
DTSTAMP:20260424T075920
CREATED:20201003T162113Z
LAST-MODIFIED:20201003T162113Z
UID:10771-1602928800-1602945000@nlaad.org
SUMMARY:Binational Health Week - Denver\, Colorado
DESCRIPTION:Binational Health Week is a series of events throughout October focused on the health of Latinos living in the metro Denver area and in other parts of Colorado. Events will take place October 3rd\, 17th\, 24th\, and 31st. \nThere will be free health screenings\, such as diabetes\, A1C\, HIV\, Chlamydia\, Gonorrhea\, Syphilis\, Hepatitis C\, anxiety and depression. Free COVID-19 testing (walk-up/drive thru) and free flu shots. \nFor more information about the Binational Health events\, please contact Servicios de La Raza at 303-458-5851 or visit our Facebook page at www.facebook.com/serviciosdelaraza.
URL:https://nlaad.org/event/binational-health-week-denver-colorado-2/
LOCATION:Abraham Lincoln High School\, 2285 S. Federal Blvd\, Denver\, CO\, 80219\, United States
CATEGORIES:Health Education,Health Fair,Hep C Testing,HIV Awareness,HIV Resources,HIV Testing,STI's Testing
ATTACH;FMTTYPE=image/jpeg:https://nlaad.org/wp-content/uploads/2020/09/nlaad-2020-event-poster-general-1.jpg
END:VEVENT
BEGIN:VEVENT
DTSTART;TZID=America/Denver:20201017T100000
DTEND;TZID=America/Denver:20201017T140000
DTSTAMP:20260424T075920
CREATED:20201003T173921Z
LAST-MODIFIED:20201003T173921Z
UID:10778-1602928800-1602943200@nlaad.org
SUMMARY:Binational Health Week - Glendale\, Colorado
DESCRIPTION:Binational Health Week is a series of events throughout October focused on the health of Latinos living in the metro Denver area and in other parts of Colorado. Events will take place October 3rd\, 17th\, 24th\, and 31st. \nThere will be free health screenings\, such as diabetes\, A1C\, HIV\, Chlamydia\, Gonorrhea\, Syphilis\, Hepatitis C\, anxiety and depression. Free COVID-19 testing (walk-up/drive thru) and free flu shots. \nFor more information about the Binational Health events\, please contact Servicios de La Raza at 303-458-5851 or visit our Facebook page at www.facebook.com/serviciosdelaraza.
URL:https://nlaad.org/event/binational-health-week-glendale-colorado/
LOCATION:Mexican Consulate Glendale\, 5350 Leetsdale Dr. Suite 100\, Glendale\, CO\, 80204\, United States
CATEGORIES:Health Education,Health Fair,Hep C Testing,HIV Awareness,HIV Resources,HIV Testing,STI's Testing
ATTACH;FMTTYPE=image/jpeg:https://nlaad.org/wp-content/uploads/2020/09/nlaad-2020-event-poster-general-1.jpg
END:VEVENT
BEGIN:VEVENT
DTSTART;TZID=America/Los_Angeles:20201016T130000
DTEND;TZID=America/Los_Angeles:20201016T150000
DTSTAMP:20260424T075920
CREATED:20201017T220618Z
LAST-MODIFIED:20201017T220618Z
UID:10890-1602853200-1602860400@nlaad.org
SUMMARY:Transform SF at El/La Para TransLatinas - San Francisco\, California
DESCRIPTION:On Friday\, October 16th\, the Transform SF Collaborative will be present at El/La Para TransLatinas in SF’s Mission District to provide free\, rapid HIV testing\, PrEP resources and information to access primary care\, hormone therapy\, dental health\, and behavioral health services. \nWe will be present from 1 PM – 3 PM PDT to provide these services during El/La Para TransLatinas’ COVID-19 Relief event for the Latinx transgender and gender non-conforming communities who live\, work\, and play in San Francisco. \nJoin us! We hope to see you there!
URL:https://nlaad.org/event/transform-sf-at-el-la-para-translatinas-san-francisco-california/
LOCATION:El/La Para TransLatinas at Redstone Labor Temple Association\, 2940 16th St\, San Francisco\, CA\, 94103\, United States
CATEGORIES:HIV Awareness,HIV Resources,HIV Testing
ATTACH;FMTTYPE=image/jpeg:https://nlaad.org/wp-content/uploads/2020/09/nlaad-2020-event-poster-general-2.jpg
END:VEVENT
BEGIN:VEVENT
DTSTART;TZID=America/New_York:20201016T100000
DTEND;TZID=America/New_York:20201016T140000
DTSTAMP:20260424T075920
CREATED:20200921T193748Z
LAST-MODIFIED:20200921T201233Z
UID:10709-1602842400-1602856800@nlaad.org
SUMMARY:Bushwick get tested - Brooklyn\, NY
DESCRIPTION:We will promote HIV testing in Bushwick by placing music and giving away bags with hand sanitizers\, condoms and literature about HIV prevention. People who get tested will get a small but significant gift.
URL:https://nlaad.org/event/bushwick-get-tested-brooklyn-ny/
LOCATION:Betances Health Center\, 1427 Broadway\,\, Brooklyn\, NY\, 11221\, United States
CATEGORIES:HIV Awareness,HIV Resources,HIV Testing
ATTACH;FMTTYPE=image/jpeg:https://nlaad.org/wp-content/uploads/2020/09/nlaad-2020-event-poster-general-1.jpg
END:VEVENT
BEGIN:VEVENT
DTSTART;TZID=America/New_York:20201015T190000
DTEND;TZID=America/New_York:20201015T220000
DTSTAMP:20260424T075920
CREATED:20201014T161447Z
LAST-MODIFIED:20201014T161447Z
UID:10823-1602788400-1602799200@nlaad.org
SUMMARY:Salir Adelante- Mobilizing Latina Women In Rural North Central Florida - Gainsville\, Florida
DESCRIPTION:Comunicadora outreach education and in home testing support
URL:https://nlaad.org/event/salir-adelante-mobilizing-latina-women-in-rural-north-central-florida-gainsville-florida/
LOCATION:Virtual Outreach/ Home Test Delivery\, Gainsville\, FL\, United States
CATEGORIES:HIV Awareness,HIV Resources
ATTACH;FMTTYPE=image/jpeg:https://nlaad.org/wp-content/uploads/2020/09/nlaad-2020-event-poster-general-2.jpg
END:VEVENT
BEGIN:VEVENT
DTSTART;TZID=America/New_York:20201015T180000
DTEND;TZID=America/New_York:20201015T200000
DTSTAMP:20260424T075920
CREATED:20200910T122206Z
LAST-MODIFIED:20200911T190628Z
UID:10565-1602784800-1602792000@nlaad.org
SUMMARY:National Latino AIDS Awareness Day 2020 - San Diego\, CA
DESCRIPTION:National Latinx AIDS Awareness Day is on Thursday\, October 15\, 2020. VIDA in collaboration with Latino Commission of AIDS\, NLAAD\, and AHF Clinic & Pharmacy Hillcrest San Diego along with some of San Diego leaders and community organizations to provide healthcare\, education\, and prevention methods information on AIDS/HIV/PrEP/PEP/STD\, promote HIV testing\, and the benefits of HIV treatment.  Please join us at Urban Mo’s 308 University Ave\, San Diego\, CA 92103 between the hours of 6:00 pm – 8:00 pm. \nLatinxs are the largest minority group in the United States and disproportionately affected by HIV/AIDS. In 2013\, Latinxs comprised 17% of the U.S. population or 54 million people\, yet represented 23% of the HIV/AIDS cases that same year.  In 2013\, there were an estimated 5\,773 cases of AIDS diagnosed among Hispanics/Latinxs in the United States. Since the beginning of the epidemic\, approximately 125\,051 Latinxs have died from AIDS.
URL:https://nlaad.org/event/national-latino-aids-awareness-day-2020-san-diego-ca/
LOCATION:Urban Mo’s\, 308 University Ave\, San Diego\, 92103\, United States
CATEGORIES:Health Education,Health Fair,HIV Awareness,HIV Resources
ATTACH;FMTTYPE=image/jpeg:https://nlaad.org/wp-content/uploads/2020/09/vida-nlaad-event-2020.jpg
END:VEVENT
BEGIN:VEVENT
DTSTART;TZID=America/New_York:20201015T170000
DTEND;TZID=America/New_York:20201015T200000
DTSTAMP:20260424T075920
CREATED:20201014T155804Z
LAST-MODIFIED:20201014T155804Z
UID:10815-1602781200-1602792000@nlaad.org
SUMMARY:Mi Gente celebrates NLAAD - Indianapolis\, Indiana
DESCRIPTION:Shalom Health Care Center will be hosting a Facebook Live educating the community on the HIV resources available around town and promoting HIV testing and the centers available for testing and HIV/AIDS treatment.
URL:https://nlaad.org/event/mi-gente-celebrates-nlaad-indianapolis-indiana/
LOCATION:Shalom HealthCare Center\, 3400 Lafayette Rd\, Suite 200\, Indianapolis\, IN\, United States
CATEGORIES:HIV Awareness,HIV Resources
ATTACH;FMTTYPE=image/jpeg:https://nlaad.org/wp-content/uploads/2020/09/nlaad-2020-event-poster-general-2.jpg
END:VEVENT
BEGIN:VEVENT
DTSTART;TZID=America/New_York:20201015T133000
DTEND;TZID=America/New_York:20201015T150000
DTSTAMP:20260424T075920
CREATED:20201006T224602Z
LAST-MODIFIED:20201006T224602Z
UID:10781-1602768600-1602774000@nlaad.org
SUMMARY:Let's Fight HIV Sin Miedo - Orlando\, Florida
DESCRIPTION:VIRTUAL EVENT \nIn honor of National Latinx HIV/AIDS Awareness Day on Oct 15th\, this year’s event will be a virtual town-hall addressing Ending the HIV epidemic within Latinx Women. The event will include drive by Home HIV test kits and swag bags (invitation to watch live or rewatch Townhall) \n  \n 
URL:https://nlaad.org/event/lets-fight-hiv-sin-miedo-orlando-florida/
LOCATION:Orlando United Assistance Center\, 507 East Michigan St.\, Orlabdo\, FL\, 32806\, United States
CATEGORIES:HIV Awareness,HIV Resources
ATTACH;FMTTYPE=image/jpeg:https://nlaad.org/wp-content/uploads/2020/09/nlaad-2020-event-poster-general-1.jpg
END:VEVENT
BEGIN:VEVENT
DTSTART;TZID=America/New_York:20201015T130000
DTEND;TZID=America/New_York:20201015T170000
DTSTAMP:20260424T075920
CREATED:20201014T212348Z
LAST-MODIFIED:20201014T212348Z
UID:10848-1602766800-1602781200@nlaad.org
SUMMARY:Latinos en Annapolis contra HIV - City of Annapolis\, Mryland
DESCRIPTION:We will hava a tent with hispanic flags\, and a table\, providing information and resources about HIV and prevention\, testing and access in spanish.
URL:https://nlaad.org/event/latinos-en-annapolis-contra-hiv-city-of-annapolis-mryland/
LOCATION:Downtown Annapolis\, 152 Main St\, Annapolis\, MD\, 21401\, United States
CATEGORIES:HIV Awareness,HIV Resources
ATTACH;FMTTYPE=image/jpeg:https://nlaad.org/wp-content/uploads/2020/09/nlaad-2020-event-poster-general-1.jpg
END:VEVENT
END:VCALENDAR