BEGIN:VCALENDAR
VERSION:2.0
PRODID:-//nlaad.org - ECPv6.15.19//NONSGML v1.0//EN
CALSCALE:GREGORIAN
METHOD:PUBLISH
X-ORIGINAL-URL:https://nlaad.org
X-WR-CALDESC:Events for nlaad.org
REFRESH-INTERVAL;VALUE=DURATION:PT1H
X-Robots-Tag:noindex
X-PUBLISHED-TTL:PT1H
BEGIN:VTIMEZONE
TZID:America/New_York
BEGIN:DAYLIGHT
TZOFFSETFROM:-0500
TZOFFSETTO:-0400
TZNAME:EDT
DTSTART:20170312T070000
END:DAYLIGHT
BEGIN:STANDARD
TZOFFSETFROM:-0400
TZOFFSETTO:-0500
TZNAME:EST
DTSTART:20171105T060000
END:STANDARD
BEGIN:DAYLIGHT
TZOFFSETFROM:-0500
TZOFFSETTO:-0400
TZNAME:EDT
DTSTART:20180311T070000
END:DAYLIGHT
BEGIN:STANDARD
TZOFFSETFROM:-0400
TZOFFSETTO:-0500
TZNAME:EST
DTSTART:20181104T060000
END:STANDARD
BEGIN:DAYLIGHT
TZOFFSETFROM:-0500
TZOFFSETTO:-0400
TZNAME:EDT
DTSTART:20190310T070000
END:DAYLIGHT
BEGIN:STANDARD
TZOFFSETFROM:-0400
TZOFFSETTO:-0500
TZNAME:EST
DTSTART:20191103T060000
END:STANDARD
END:VTIMEZONE
BEGIN:VTIMEZONE
TZID:UTC
BEGIN:STANDARD
TZOFFSETFROM:+0000
TZOFFSETTO:+0000
TZNAME:UTC
DTSTART:20160101T000000
END:STANDARD
END:VTIMEZONE
BEGIN:VEVENT
DTSTART;TZID=America/New_York:20181015T120000
DTEND;TZID=America/New_York:20181015T180000
DTSTAMP:20260425T002007
CREATED:20181012T210424Z
LAST-MODIFIED:20181012T210424Z
UID:9028-1539604800-1539626400@nlaad.org
SUMMARY:Ride Along\, Ask Along-Trolley Initiative - Brickell\, Miami\, FL
DESCRIPTION:STD and HIV Testing and PrEP Referrals
URL:https://nlaad.org/event/ride-along-ask-along-trolley-initiative-brickell-miami-fl/
LOCATION:Brickell Metro rail Station\, 1001 SW First Ave.\, Miami\, FL\, 33130\, United States
CATEGORIES:HIV Awareness,HIV Resources,HIV Testing
ATTACH;FMTTYPE=image/jpeg:https://nlaad.org/wp-content/uploads/2018/08/nlaad-me-we-2018.jpg
END:VEVENT
BEGIN:VEVENT
DTSTART;TZID=America/New_York:20181015T120000
DTEND;TZID=America/New_York:20181015T170000
DTSTAMP:20260425T002007
CREATED:20181011T175244Z
LAST-MODIFIED:20181011T175244Z
UID:8904-1539604800-1539622800@nlaad.org
SUMMARY:Take the Train\, Take the Test - Jackson Heights\, NY
DESCRIPTION:We will conduct HIV counseling testing for free\, inform the Latino community about PrEP and PEP services\, U=U and the benefit of knowing the HIV status. \n\nVoces Latinas va a conducir la prueba de VIH en forma gratuita e informar a la comunidad acerca de todas las formas de prevenir el VIH\, tales como acceso a PrEP\, PEP\, los beneficios de estar indetectable (U=U) y la importancia de saber el estatus de VIH
URL:https://nlaad.org/event/take-the-train-take-the-test-jackson-heights-ny/
LOCATION:82nd Street Subway Station – Train 7\, Roosevelt Avenue and 82nd Street\, Jackson heights\, NY\, 11372\, United States
CATEGORIES:Health Education,HIV Awareness,HIV Resources,HIV Testing
ATTACH;FMTTYPE=image/png:https://nlaad.org/wp-content/uploads/2018/10/logo.png
END:VEVENT
BEGIN:VEVENT
DTSTART;TZID=America/New_York:20181015T120000
DTEND;TZID=America/New_York:20181015T160000
DTSTAMP:20260425T002007
CREATED:20181011T155604Z
LAST-MODIFIED:20181011T155604Z
UID:8861-1539604800-1539619200@nlaad.org
SUMMARY:NLAAD in Colorado @ University of Denver
DESCRIPTION:Rocky Mountain Cares and Denver Public Health will be providing HIV and STI testing and NLAAD/HIV education @ University of Denver
URL:https://nlaad.org/event/nlaad-in-colorado-university-of-denver/
LOCATION:University of Denver\, 2199 S University Blvd\, Denver\, CO\, 80208\, United States
CATEGORIES:Health Education,HIV Awareness,HIV Resources,HIV Testing
ATTACH;FMTTYPE=image/jpeg:https://nlaad.org/wp-content/uploads/2018/08/nlaad-me-we-2018.jpg
END:VEVENT
BEGIN:VEVENT
DTSTART;TZID=UTC:20181015T120000
DTEND;TZID=UTC:20181015T130000
DTSTAMP:20260425T002007
CREATED:20180816T211500Z
LAST-MODIFIED:20180816T211500Z
UID:7746-1539604800-1539608400@nlaad.org
SUMMARY:NLAAD 2018 - Ithaca\, NY
DESCRIPTION:The purpose of this event is to distribute information and resources about HIV and AIDS (testing\, prevention\, care and treatment)  to all students at Ithaca College.
URL:https://nlaad.org/event/nlaad-2018-ithaca-ny/
LOCATION:Ithaca College LGBT Center\, 953 Danby Road\, Ithaca\, NY\, 14850\, United States
CATEGORIES:HIV Awareness,HIV Resources
ATTACH;FMTTYPE=image/jpeg:https://nlaad.org/wp-content/uploads/2018/08/nlaad-me-we-2018.jpg
END:VEVENT
BEGIN:VEVENT
DTSTART;TZID=America/New_York:20181015T100000
DTEND;TZID=America/New_York:20181015T160000
DTSTAMP:20260425T002007
CREATED:20181004T160901Z
LAST-MODIFIED:20181004T160901Z
UID:8724-1539597600-1539619200@nlaad.org
SUMMARY:Take the Train Take the Test - Bronx\, NY
DESCRIPTION:HIV testing\, Sexual Health information\, PrEP and PEP\, condom distribution
URL:https://nlaad.org/event/take-the-train-take-the-test-bronx-ny/
LOCATION:Montefiore South Bronx Center Children and Families\, 871 Prospect Ave\, Bronx\, NY\, 10459\, United States
CATEGORIES:Health Education,HIV Awareness,HIV Resources,HIV Testing
ATTACH;FMTTYPE=image/png:https://nlaad.org/wp-content/uploads/2018/09/Take-Train-Test-2018-e1538074072468.png
END:VEVENT
BEGIN:VEVENT
DTSTART;TZID=America/New_York:20181015T100000
DTEND;TZID=America/New_York:20181015T160000
DTSTAMP:20260425T002007
CREATED:20181002T145756Z
LAST-MODIFIED:20181002T145756Z
UID:8645-1539597600-1539619200@nlaad.org
SUMMARY:Pa' que Sepa! (Su estatus) - New York\, NY
DESCRIPTION:Rapid HIV testing\nFast Linkage to Care at Columbia Presbyterian Hospital\nInformation About Prevention and Treatment Research
URL:https://nlaad.org/event/pa-que-sepa-su-estatus-new-york-ny/
LOCATION:168th Street Station\, 180 Fort Washington Ave\, Room HP-924\, New York\, NY\, 10032\, United States
CATEGORIES:HIV Awareness,HIV Resources,HIV Testing
ATTACH;FMTTYPE=image/jpeg:https://nlaad.org/wp-content/uploads/2018/08/nlaad-me-we-2018.jpg
END:VEVENT
BEGIN:VEVENT
DTSTART;TZID=UTC:20181015T100000
DTEND;TZID=UTC:20181015T150000
DTSTAMP:20260425T002007
CREATED:20180911T010730Z
LAST-MODIFIED:20180911T010730Z
UID:7882-1539597600-1539615600@nlaad.org
SUMMARY:2018 National Latino HIV/AIDS Awareness Day & Testing Day - Baltimore\, MD
DESCRIPTION:Collaborating with Casa de Maryland\, and organization which provides resources to Latino working class and immigrant people. This collaboration will involve providing both education and testing at their site to successfully contribute to their mission of empowering and improving the quality of life for the community.
URL:https://nlaad.org/event/2018-national-latino-hivaids-awareness-day-testing-day-baltimore-md/
LOCATION:Casa de Maryland\, 2224 E. Fayette St.\, Baltimore\, MD\, 21201\, United States
CATEGORIES:HIV Awareness,HIV Resources,HIV Testing
ATTACH;FMTTYPE=image/jpeg:https://nlaad.org/wp-content/uploads/2018/08/nlaad-me-we-2018.jpg
END:VEVENT
BEGIN:VEVENT
DTSTART;TZID=America/New_York:20181015T100000
DTEND;TZID=America/New_York:20181015T140000
DTSTAMP:20260425T002007
CREATED:20181009T152744Z
LAST-MODIFIED:20181009T152744Z
UID:8819-1539597600-1539612000@nlaad.org
SUMMARY:Health and Information Fair - Santa Ana\, CA
DESCRIPTION:Distribution of condoms\, lube\, offering free rapid HIV Tests\, PrEP coordination\, and pamphlets \n\nDistribución de preservativos y lubricantes\, pruebas rápidas de VIH gratuitas\, coordinación y navegación de PrEP y folletos
URL:https://nlaad.org/event/health-and-information-fair-santa-ana-ca/
LOCATION:AltaMed Clinic\, 1155 W Central Ave\, Santa Ana\, CA\, 92707\, United States
CATEGORIES:Health Fair,HIV Awareness,HIV Resources,HIV Testing
ATTACH;FMTTYPE=image/jpeg:https://nlaad.org/wp-content/uploads/2018/08/nlaad-me-we-2018.jpg
END:VEVENT
BEGIN:VEVENT
DTSTART;TZID=UTC:20181015T100000
DTEND;TZID=UTC:20181015T130000
DTSTAMP:20260425T002007
CREATED:20180918T003615Z
LAST-MODIFIED:20180918T003615Z
UID:8151-1539597600-1539608400@nlaad.org
SUMMARY:NLAAD 2018 @ Mexican Consulate Chicago - Chicago\, IL
DESCRIPTION:The Ruth M. Rothstein CORE Center: Community Awareness program will be providing free rapid HIV testing\, a resource table\, and health education to costumers of the Mexican Consulate’s Ventanilla de la Salud
URL:https://nlaad.org/event/nlaad-2018-mexican-consulate-chicago-chicago-il/
LOCATION:Mexican Consulate\, 204 S. Ashland Avenue\, Chicago\, IL\, 60607\, United States
CATEGORIES:Health Education,HIV Awareness,HIV Resources,HIV Testing
ATTACH;FMTTYPE=image/jpeg:https://nlaad.org/wp-content/uploads/2018/08/nlaad-me-we-2018.jpg
END:VEVENT
BEGIN:VEVENT
DTSTART;TZID=UTC:20181015T090000
DTEND;TZID=UTC:20181015T140000
DTSTAMP:20260425T002007
CREATED:20180816T213639Z
LAST-MODIFIED:20180903T042817Z
UID:7753-1539594000-1539612000@nlaad.org
SUMMARY:I Wanna Know HIV (Quiero Saber) Awareness Event - Hammond\, LA
DESCRIPTION:The Purpose of this event is to bring about HIV Awareness in the local growing Hispanic community. The event will feature HIV Testing\, along with information and resources\, specifically catered towards Spanish-speaking clients.
URL:https://nlaad.org/event/i-wanna-know-hiv-quiero-saber-awareness-event-hammond-la/
LOCATION:Face to Face Enrichment Center\, 902 JW Davis Dr\, Hammond\, LA\, 70403\, United States
CATEGORIES:HIV Awareness,HIV Resources,HIV Testing
ATTACH;FMTTYPE=image/jpeg:https://nlaad.org/wp-content/uploads/2018/08/nlaad-wanna-know-2018.jpg
END:VEVENT
BEGIN:VEVENT
DTSTART;TZID=America/New_York:20181015T090000
DTEND;TZID=America/New_York:20181015T120000
DTSTAMP:20260425T002007
CREATED:20181011T155217Z
LAST-MODIFIED:20181011T155217Z
UID:8853-1539594000-1539604800@nlaad.org
SUMMARY:NLAAD in Colorado @ the Colorado Mexican Consulate - Glendale\, CO
DESCRIPTION:Planned Parenthood of the Rockies will be providing HIV testing and presenting on NLAAD and providing HIV education @ the Colorado Mexican Consulate
URL:https://nlaad.org/event/nlaad-in-colorado-the-colorado-mexican-consulate-glendale-co/
LOCATION:Colorado Mexican Consulate\, 5350 Leetsdale Drive #100\, Glendale\, CO\, 80246\, United States
CATEGORIES:Health Education,HIV Awareness,HIV Resources,HIV Testing
ATTACH;FMTTYPE=image/jpeg:https://nlaad.org/wp-content/uploads/2018/08/nlaad-me-we-2018.jpg
END:VEVENT
BEGIN:VEVENT
DTSTART;TZID=America/New_York:20181015T080000
DTEND;TZID=America/New_York:20181015T170000
DTSTAMP:20260425T002007
CREATED:20180928T161452Z
LAST-MODIFIED:20180928T161452Z
UID:8579-1539590400-1539622800@nlaad.org
SUMMARY:Take the Train Take the Test 2018 - Jackson Heights\, Queens\, NY
DESCRIPTION:The inSPECT Project is a community initiative which reinforces the safety\, prevention\, education\, comprehensive care and treatment provided by the Center. Our mobile testing van and outreach workers can be found providing free\, rapid HIV testing and PrEP screenings all over Nassau County and Queens. Safer sex workshops are provided to schools and community based organizations to spread awareness of HIV and STI prevention. \nEl proyecto inSPECT es una iniciativa comunitaria que refuerza la seguridad\, la prevención\, la educación\, la atención integral y el tratamiento brindado por el Centro. Se puede encontrar a los trabajadores de van y de extensión de pruebas móviles que ofrecen pruebas de detección de VIH gratuitas y rápidas en todo el condado de Nassau y Queens. Se brindan talleres sobre sexo más seguro a las escuelas y organizaciones comunitarias para difundir la conciencia sobre la prevención del VIH y las ITS.
URL:https://nlaad.org/event/take-the-train-take-the-test-2018-jackson-heights-queens-ny/
LOCATION:Roosevelt Avenue 74th Street Subway station\, Roosevelt Avenue and 74th Street\, Jackson heights\, NY\, 11372\, United States
CATEGORIES:HIV Awareness,HIV Resources,HIV Testing
ATTACH;FMTTYPE=image/png:https://nlaad.org/wp-content/uploads/2018/09/Take-Train-Test-2018-e1538074072468.png
END:VEVENT
BEGIN:VEVENT
DTSTART;TZID=UTC:20181015T080000
DTEND;TZID=UTC:20181015T160000
DTSTAMP:20260425T002007
CREATED:20180911T183213Z
LAST-MODIFIED:20180911T183332Z
UID:7936-1539590400-1539619200@nlaad.org
SUMMARY:Hartford Youth HIV Identification and Linkage Group Latino Community Outreach Day - Hartford\, CT
DESCRIPTION:To mobilize a community wide outreach day that includes: \n\nHIV/STD/Hep C & Opioid prevention education at a high school via the health Interactive Project\nA didactic session at a local Catholic Church with a large Latino following abd an outreach\nTesting effort in a mostly Latino community.\n\nAll of these efforts will include prevention education\, included PrEP information\, as well as\, HIV/Hep C screenings and linkage to care.
URL:https://nlaad.org/event/hartford-youth-hiv-identification-and-linkage-group-latino-community-outreach-day/
LOCATION:Hartford Park Street Area\, 385 Washington St.\, Hartford\, CT\, 06106\, United States
CATEGORIES:Hep C Testing,HIV Awareness,HIV Resources,HIV Testing,STI's Testing
ATTACH;FMTTYPE=image/jpeg:https://nlaad.org/wp-content/uploads/2018/08/nlaad-me-we-2018.jpg
END:VEVENT
BEGIN:VEVENT
DTSTART;TZID=America/New_York:20181013T180000
DTEND;TZID=America/New_York:20181013T220000
DTSTAMP:20260425T002007
CREATED:20181011T154028Z
LAST-MODIFIED:20181011T154028Z
UID:8840-1539453600-1539468000@nlaad.org
SUMMARY:NLAAD in Colorado @ #VYBE - Denver\, CO
DESCRIPTION:Denver Public Health will be doing HIV outreach and NLAAD education @ #VYBE
URL:https://nlaad.org/event/nlaad-in-colorado-vybe-denver-co/
LOCATION:#VYBE\, 1027 N Broadway\, Denver\, CO\, 80203\, United States
CATEGORIES:Health Education,HIV Awareness,HIV Resources
ATTACH;FMTTYPE=image/jpeg:https://nlaad.org/wp-content/uploads/2018/08/nlaad-me-we-2018.jpg
END:VEVENT
BEGIN:VEVENT
DTSTART;TZID=America/New_York:20181013T130000
DTEND;TZID=America/New_York:20181013T170000
DTSTAMP:20260425T002007
CREATED:20181011T172524Z
LAST-MODIFIED:20181011T172524Z
UID:8897-1539435600-1539450000@nlaad.org
SUMMARY:National Latinx AIDS Awareness Day - Las Vegas\, NV
DESCRIPTION:Rapid HIV testing\, Syphilis screening\, Information and health services\, Cholesterol and Glucose screening\, Flu shots* Free Tacos from taco truck* entertainment\, raffles games and more surprises \n\nInformation Y Servicios De Salud\, Pruebas del VIH Y ETS\, Examenes de Colesterol\, Glucosa Y Mas\, Vacunas de la Gripa*\, Tacos Y Mas Comida*\, Entretenmiento\, Rifas\, Juegos\, Y Muchas Sorpresas!!
URL:https://nlaad.org/event/national-latinx-aids-awareness-day-las-vegas-nv/
LOCATION:Make a Road Nevada\, 4250 E Bonanza Rd\, Las Vegas\, NV\, 89110\, United States
CATEGORIES:Health Education,Health Fair,HIV Awareness,HIV Resources,HIV Testing,Social Event,STI's Testing
ATTACH;FMTTYPE=image/jpeg:https://nlaad.org/wp-content/uploads/2018/10/D70EA321-26CD-499D-B41E-4E4980E66A00-1.jpeg
END:VEVENT
BEGIN:VEVENT
DTSTART;TZID=America/New_York:20181013T110000
DTEND;TZID=America/New_York:20181013T150000
DTSTAMP:20260425T002007
CREATED:20181001T185627Z
LAST-MODIFIED:20181001T185627Z
UID:8617-1539428400-1539442800@nlaad.org
SUMMARY:Estados Latinos: La Curación es la Revolución - New Orleans\, LA
DESCRIPTION:This event will promote free HIV testing\, provide HIV prevention and treatment in the Latinx community\, and break down stigma in the Spanish speaking communities in the Greater New Orleans area. We will be providing information and “charlas” (chats) about PrEP\, U=U\, and safe needle use. \n\nEste evento promoverá pruebas gratis del VIH\, proporcionará información de prevención y tratamiento del VIH en la comunidad Latinx\, y deconstruirá el estigma en las comunidades de habla y español en el área metropolitana de Nueva Orleans. Estaremos proporcionando información y charlas sobre de Prep\, I = I\, y el uso seguro de la aguja.
URL:https://nlaad.org/event/estados-latinos-la-curacion-es-la-revolucion-new-orleans-la/
LOCATION:NOLA Village / El Pueblo NOLA\, 5112 E. Nemours Street\, New Orleans\, LA\, 70129\, United States
CATEGORIES:Health Education,HIV Awareness,HIV Resources,HIV Testing
ATTACH;FMTTYPE=image/jpeg:https://nlaad.org/wp-content/uploads/2018/08/nlaad-me-we-2018.jpg
END:VEVENT
BEGIN:VEVENT
DTSTART;TZID=America/New_York:20181013T110000
DTEND;TZID=America/New_York:20181013T130000
DTSTAMP:20260425T002007
CREATED:20181011T170817Z
LAST-MODIFIED:20181011T170817Z
UID:8881-1539428400-1539435600@nlaad.org
SUMMARY:Latino AIDS Awareness Day - Syracuse\, NY
DESCRIPTION:Join us at La Iglesia Misionera Monte De Sion’s Community Health Fair to celebrate National Latino AIDS Awareness Day with food\, prizes and an opportunity to meet our community partners. Free and confidential rapid HIV testing services will be available. \n\nÚnete a nosotros a celebrar el Día Nacional Latino de Concientización del SIDA! La Iglesia Misionera Monte de Sion está organizando una feria de salud con organizaciones de la comunidad. Habrá comida\, premios y testeo gratis y rápido del VIH.
URL:https://nlaad.org/event/latino-aids-awareness-day-syracuse-ny/
LOCATION:Iglesia Misionera Monte Sion\, 101 Lionel Ave (Basement family Space)\, Syracuse\, NY\, 13209\, United States
CATEGORIES:Health Fair,HIV Awareness,HIV Resources,HIV Testing,Social Event
ATTACH;FMTTYPE=image/jpeg:https://nlaad.org/wp-content/uploads/2018/08/nlaad-me-we-2018.jpg
END:VEVENT
BEGIN:VEVENT
DTSTART;TZID=UTC:20181013T100000
DTEND;TZID=UTC:20181013T140000
DTSTAMP:20260425T002007
CREATED:20180817T000620Z
LAST-MODIFIED:20180817T000620Z
UID:7817-1539424800-1539439200@nlaad.org
SUMMARY:National Latino AIDS Awareness Day - Little Rock\, AR
DESCRIPTION:A health fair with HIV testing\, creating awareness about HIV/AIDS in the Latino community
URL:https://nlaad.org/event/national-latino-aids-awareness-day-little-rock-ar/
LOCATION:Southwest Community Center\, 6401 Baseline Road\, Little Rock\, AR\, 72209\, United States
CATEGORIES:Health Fair,HIV Awareness,HIV Resources,HIV Testing
ATTACH;FMTTYPE=image/jpeg:https://nlaad.org/wp-content/uploads/2018/08/nlaad-me-we-2018.jpg
END:VEVENT
BEGIN:VEVENT
DTSTART;TZID=UTC:20181013T100000
DTEND;TZID=UTC:20181013T140000
DTSTAMP:20260425T002007
CREATED:20180816T221538Z
LAST-MODIFIED:20180816T221538Z
UID:7796-1539424800-1539439200@nlaad.org
SUMMARY:NLAAD Little Rock - Little Rock\, AR
DESCRIPTION:Community health fair with health screenings\, including HIV
URL:https://nlaad.org/event/nlaad-little-rock-little-rock-ar/
LOCATION:Southwest Community Center\, 6401 Baseline Rd\, Little Rock\, AR\, 72209\, United States
CATEGORIES:Health Fair,HIV Awareness,HIV Resources,HIV Testing
ATTACH;FMTTYPE=image/jpeg:https://nlaad.org/wp-content/uploads/2018/08/nlaad-me-we-2018.jpg
END:VEVENT
BEGIN:VEVENT
DTSTART;TZID=America/New_York:20181012T210000
DTEND;TZID=America/New_York:20181013T020000
DTSTAMP:20260425T002007
CREATED:20180924T163459Z
LAST-MODIFIED:20180924T163459Z
UID:8359-1539378000-1539396000@nlaad.org
SUMMARY:Latinx contra el estigma - Oakland\, CA
DESCRIPTION:HIV testing\, Information about PrEP. We are having raffles and giveaways in Club 21\, Latin Explosion
URL:https://nlaad.org/event/latinx-contra-el-estigma-oakland-ca/
LOCATION:Club 21\, 2111 Franklin St.\, Oakland\, CA\, 94612\, United States
CATEGORIES:Health Education,HIV Awareness,HIV Resources,HIV Testing
ATTACH;FMTTYPE=image/jpeg:https://nlaad.org/wp-content/uploads/2018/09/Photo-Grid-Talent-Show-Flyer.jpg
END:VEVENT
BEGIN:VEVENT
DTSTART;TZID=America/New_York:20181012T180000
DTEND;TZID=America/New_York:20181013T000000
DTSTAMP:20260425T002007
CREATED:20181011T153540Z
LAST-MODIFIED:20181011T153540Z
UID:8832-1539367200-1539388800@nlaad.org
SUMMARY:NLAAD in Colorado @ XBar - Denver\, CO
DESCRIPTION:Denver Public Health will be providing HIV testing\, and Planned Parenthood of the Rockies will be providing HIV/NLAAD education and outreach at XBar.
URL:https://nlaad.org/event/nlaad-in-colorado-xbar-denver-co/
LOCATION:XBar\, 629 E Colfax Avenue\, Denver\, CO\, 80203\, United States
CATEGORIES:Health Education,HIV Awareness,HIV Resources,HIV Testing,Social Event
ATTACH;FMTTYPE=image/jpeg:https://nlaad.org/wp-content/uploads/2018/08/nlaad-me-we-2018.jpg
END:VEVENT
BEGIN:VEVENT
DTSTART;TZID=UTC:20181012T093000
DTEND;TZID=UTC:20181014T163000
DTSTAMP:20260425T002007
CREATED:20180911T003748Z
LAST-MODIFIED:20180911T003922Z
UID:7859-1539336600-1539534600@nlaad.org
SUMMARY:Latino LinQ Atlanta PRIDE - Atlanta\, GA
DESCRIPTION:Latino LinQ rented three booths at the Atlanta Pride to provide education about HIV\, substance abuse and HIV testing and referrals to health and social services\, also we will be highlighting National Latinx AIDS Awareness Day.
URL:https://nlaad.org/event/latino-linq-atlanta-pride/
LOCATION:Piedmont Park\, 1342 Worchester Drive NE\, Atlanta\, GA\, 30309\, United States
CATEGORIES:HIV Awareness,HIV Resources,HIV Testing,Social Event
ATTACH;FMTTYPE=image/jpeg:https://nlaad.org/wp-content/uploads/2018/08/nlaad-me-we-2018.jpg
END:VEVENT
BEGIN:VEVENT
DTSTART;TZID=UTC:20181012T090000
DTEND;TZID=UTC:20181012T120000
DTSTAMP:20260425T002007
CREATED:20180911T200211Z
LAST-MODIFIED:20180911T200211Z
UID:8002-1539334800-1539345600@nlaad.org
SUMMARY:National Latino AIDS Awareness Day - San José\, CA
DESCRIPTION:We will provide a presentation about HIV among Latinos. In addition\, we will provide free HIV testing\, free condoms and lubricants!
URL:https://nlaad.org/event/national-latino-aids-awareness-day-san-jose-ca/
LOCATION:Consulate General of Mexico\, 302 Enzo Dr.\, Ste 200\, San José\, CA\, 95138\, United States
CATEGORIES:HIV Awareness,HIV Resources,HIV Testing
ATTACH;FMTTYPE=image/jpeg:https://nlaad.org/wp-content/uploads/2018/08/nlaad-me-we-2018.jpg
END:VEVENT
BEGIN:VEVENT
DTSTART;TZID=America/New_York:20181006T110000
DTEND;TZID=America/New_York:20181006T160000
DTSTAMP:20260425T002007
CREATED:20180924T191640Z
LAST-MODIFIED:20180924T191640Z
UID:8397-1538823600-1538841600@nlaad.org
SUMMARY:Celebrating Life - Newark\, NJ
DESCRIPTION:La Casa de Don Pedro’s National Latino AIDS Awareness Day (NLAAD) event is a free\, entertaining event that raises awareness about the severity of HIV/AIDS in the community and encourages advocacy. \nLa Casa’s NLAAD event in Newark is one of the thousands held across the country to foster community engagement\, especially among Latinos in the fight against HIV/AIDS. \nNLAAD is free and open to the public. This year come and mingle with our superheroes & their unique superpowers! Activate your superpowers at La Casa de Don Pedro’s annual NLAAD celebration that will feature: \n\nGames and prizes\nA community conversation with La Casa’s health team about valuable health topics. Questions welcome!\nEducation on the most effective and recent treatment and prevention methods for HIV and other sexually transmitted infections Intriguing demonstrations\nAnd signature slushies
URL:https://nlaad.org/event/celebrating-life-newark-nj/
LOCATION:La Casa de Don Pedro\, 23 Broadway\, Newark\, NJ\, 07104\, United States
CATEGORIES:Health Education,HIV Awareness,HIV Resources,HIV Testing,Social Event
ATTACH;FMTTYPE=image/png:https://nlaad.org/wp-content/uploads/2018/09/Capture-1.png
END:VEVENT
BEGIN:VEVENT
DTSTART;TZID=UTC:20181004T070000
DTEND;TZID=UTC:20181004T170000
DTSTAMP:20260425T002007
CREATED:20180911T185037Z
LAST-MODIFIED:20180911T185037Z
UID:7963-1538636400-1538672400@nlaad.org
SUMMARY:Canal health & Safety Day - San Rafael\, CA
DESCRIPTION:Free Health Screenings; Free HIV/HCV screenings; Free Flu Shots; Healthy Snacks; Fun activities
URL:https://nlaad.org/event/canal-health-safety-day-san-rafael-ca/
LOCATION:Bahia Vista School\, 125 Bahia Way\, San Rafael\, CA\, 94901\, United States
CATEGORIES:Health Fair,Hep C Testing,HIV Awareness,HIV Resources,HIV Testing,Social Event
ATTACH;FMTTYPE=image/jpeg:https://nlaad.org/wp-content/uploads/2018/08/nlaad-me-we-2018.jpg
END:VEVENT
BEGIN:VEVENT
DTSTART;TZID=UTC:20181001T100000
DTEND;TZID=UTC:20181001T140000
DTSTAMP:20260425T002007
CREATED:20180911T200738Z
LAST-MODIFIED:20180911T200738Z
UID:8010-1538388000-1538402400@nlaad.org
SUMMARY:Escuela Popular Health Fair - San José\, CA
DESCRIPTION:We are going to bring the condom and lube bar with free condoms\, lube and other incentives. Also\, we are going to provide free HIV/HCV/STD testing
URL:https://nlaad.org/event/escuela-popular-health-fair-san-jose-ca/
LOCATION:Escuela Popular\, 149 N. White Road\, San Jose\, CA\, 95127\, United States
CATEGORIES:Health Fair,Hep C Testing,HIV Awareness,HIV Resources,HIV Testing,STI's Testing
ATTACH;FMTTYPE=image/jpeg:https://nlaad.org/wp-content/uploads/2018/08/nlaad-me-we-2018.jpg
END:VEVENT
BEGIN:VEVENT
DTSTART;TZID=UTC:20180930T040000
DTEND;TZID=UTC:20180930T190000
DTSTAMP:20260425T002007
CREATED:20180911T194230Z
LAST-MODIFIED:20180911T194230Z
UID:7987-1538280000-1538334000@nlaad.org
SUMMARY:Festival Latinx - Tacoma\, WA
DESCRIPTION:Join us for an afternoon of Latino culture\, music\, dance and food!! This festival is an expression of pride in our history while also celebrating the new generations of Latinos that now call the United States home.
URL:https://nlaad.org/event/festival-latinx-tacoma-wa/
LOCATION:STAR Center\, 3873 S 66th Street\, Tacoma\, WA\, 98409\, United States
CATEGORIES:Health Fair,HIV Awareness,HIV Resources,HIV Testing,Social Event
ATTACH;FMTTYPE=image/jpeg:https://nlaad.org/wp-content/uploads/2018/09/Festival-Latinx-2018-Flyer-ENGLISH-JPG-e1536680517835.jpg
END:VEVENT
BEGIN:VEVENT
DTSTART;TZID=UTC:20180929T100000
DTEND;TZID=UTC:20180929T130000
DTSTAMP:20260425T002007
CREATED:20180911T185725Z
LAST-MODIFIED:20180911T185725Z
UID:7973-1538215200-1538226000@nlaad.org
SUMMARY:Health Fair - Greenville\, SC
DESCRIPTION:Community Health Fair: Offering free flu vaccines\, dental/eye exams for uninsured\, prevention health information on STI\, Hep C\, Diabetes\, HTN and more. various agencies will be present
URL:https://nlaad.org/event/health-fair-greenville-sc/
LOCATION:Legacy Early College\, 900 Woodside Avenue\, Greenville\, SC\, 29611\, United States
CATEGORIES:Health Fair,Hep C Testing,HIV Awareness,HIV Resources,HIV Testing,STI's Testing
ATTACH;FMTTYPE=image/jpeg:https://nlaad.org/wp-content/uploads/2018/08/nlaad-me-we-2018.jpg
END:VEVENT
BEGIN:VEVENT
DTSTART;TZID=UTC:20180826T120000
DTEND;TZID=UTC:20180826T170000
DTSTAMP:20260425T002007
CREATED:20180911T011952Z
LAST-MODIFIED:20180911T011952Z
UID:7890-1535284800-1535302800@nlaad.org
SUMMARY:Dia del Trabajador Agricola in Greenfield - Greenfield\, CA
DESCRIPTION:On August 26\, the Access Support Network Staff will partner with Clinica de Salud to provide free HIV and Hepatitis C testing as well as risk reduction education at the “El Dia Del Trabajador Agricola” (Farmworker Day)\, in Greenfield. Farmworker Day is sponsored by the South Country Outreach Efforts (SCORE) in South Monterrey County. SCORE is a nonprofit coalition of over 40 agencies working to provide information and referral services through major events. Farmworker Day is an annual event with an approximate attendance of 7\,000 farm workers and their families. For more information visit the following website: http://www.asn.org
URL:https://nlaad.org/event/dia-del-trabajador-agricola-in-greenfield-greenfield-ca/
LOCATION:Patriot Park\, 1251 Oak Ave\, Greenfield\, CA\, 93927\, United States
CATEGORIES:HIV Awareness,HIV Resources,HIV Testing
ATTACH;FMTTYPE=image/jpeg:https://nlaad.org/wp-content/uploads/2018/08/nlaad-me-we-2018.jpg
END:VEVENT
BEGIN:VEVENT
DTSTART;TZID=UTC:20171203T160000
DTEND;TZID=UTC:20171203T200000
DTSTAMP:20260425T002008
CREATED:20170930T004033Z
LAST-MODIFIED:20171026T000448Z
UID:7133-1512316800-1512331200@nlaad.org
SUMMARY:HIV is no Mystery - Merrionette Park\, IL
DESCRIPTION:Join the South Suburban Health Alliance for our 6th Annual World’s AIDS Day Celebration. This year we will take a look at the advancements in HIV/AIDS prevention\, care\, and treatment. We are proud to announce that we will present our 1st annual Ann Dunmore Advocacy of the Year Award\, to a deserving volunteer\, paid staff or individual striving to meet the challenges of HIV prevention and care at the community level. \nFollowing our award presentation we will partake in evening of fun and laughter with a 1920’s murder mystery dinner experience. Put on by the Murder Mystery Co. of Chicago. Feel free to dress in your best 1920’s gear or come as you are. . . . Dress for this night of murderous mayhem includes flapper dresses\, zoot suits\, feather boas and headbands\, pinstriped suits and fedoras. If you aren’t feeling that jive you can dress as a private detective to help solve the crime\, just don’t frame the wrong guy! \nTickets are $50 and include the show\, a full meal\, beer\, wine and non-alcoholic beverages. A Full Cash bar is available. Doors open at 4:00pm . . \nNetworking and Vendors 5:00pm Dinner and Show (guests will be seated\, show will begin). Free HIV/Hep C testing will be available along with other health information provided by community based organizations.
URL:https://nlaad.org/event/hiv-is-no-mystery-merrionette-park-il/
LOCATION:115 Bourbon Street\, 3359 W 115th St.\, Merrionette Park\, IL\, 60803\, United States
CATEGORIES:Health Fair,HIV Awareness,HIV Resources,HIV Testing,Social Event
ATTACH;FMTTYPE=image/jpeg:https://nlaad.org/wp-content/uploads/2017/09/ILLINOIS.jpg
END:VEVENT
END:VCALENDAR