BEGIN:VCALENDAR
VERSION:2.0
PRODID:-//nlaad.org - ECPv6.15.19//NONSGML v1.0//EN
CALSCALE:GREGORIAN
METHOD:PUBLISH
X-ORIGINAL-URL:https://nlaad.org
X-WR-CALDESC:Events for nlaad.org
REFRESH-INTERVAL;VALUE=DURATION:PT1H
X-Robots-Tag:noindex
X-PUBLISHED-TTL:PT1H
BEGIN:VTIMEZONE
TZID:America/New_York
BEGIN:DAYLIGHT
TZOFFSETFROM:-0500
TZOFFSETTO:-0400
TZNAME:EDT
DTSTART:20190310T070000
END:DAYLIGHT
BEGIN:STANDARD
TZOFFSETFROM:-0400
TZOFFSETTO:-0500
TZNAME:EST
DTSTART:20191103T060000
END:STANDARD
BEGIN:DAYLIGHT
TZOFFSETFROM:-0500
TZOFFSETTO:-0400
TZNAME:EDT
DTSTART:20200308T070000
END:DAYLIGHT
BEGIN:STANDARD
TZOFFSETFROM:-0400
TZOFFSETTO:-0500
TZNAME:EST
DTSTART:20201101T060000
END:STANDARD
BEGIN:DAYLIGHT
TZOFFSETFROM:-0500
TZOFFSETTO:-0400
TZNAME:EDT
DTSTART:20210314T070000
END:DAYLIGHT
BEGIN:STANDARD
TZOFFSETFROM:-0400
TZOFFSETTO:-0500
TZNAME:EST
DTSTART:20211107T060000
END:STANDARD
BEGIN:DAYLIGHT
TZOFFSETFROM:-0500
TZOFFSETTO:-0400
TZNAME:EDT
DTSTART:20220313T070000
END:DAYLIGHT
BEGIN:STANDARD
TZOFFSETFROM:-0400
TZOFFSETTO:-0500
TZNAME:EST
DTSTART:20221106T060000
END:STANDARD
BEGIN:DAYLIGHT
TZOFFSETFROM:-0500
TZOFFSETTO:-0400
TZNAME:EDT
DTSTART:20230312T070000
END:DAYLIGHT
BEGIN:STANDARD
TZOFFSETFROM:-0400
TZOFFSETTO:-0500
TZNAME:EST
DTSTART:20231105T060000
END:STANDARD
END:VTIMEZONE
BEGIN:VTIMEZONE
TZID:UTC
BEGIN:STANDARD
TZOFFSETFROM:+0000
TZOFFSETTO:+0000
TZNAME:UTC
DTSTART:20160101T000000
END:STANDARD
END:VTIMEZONE
BEGIN:VEVENT
DTSTART;TZID=America/New_York:20221014T150000
DTEND;TZID=America/New_York:20221014T160000
DTSTAMP:20260424T031341
CREATED:20221013T224223Z
LAST-MODIFIED:20221013T224223Z
UID:11487-1665759600-1665763200@nlaad.org
SUMMARY:NLAAD Webinar 5: "HIV Vaccine Research Updates and Latinx Engagement"
DESCRIPTION:
URL:https://nlaad.org/event/nlaad-webinar-5-hiv-vaccine-research-updates-and-latinx-engagement/
LOCATION:Zoom\, United States
CATEGORIES:Facebook Live,Health Education,HIV Awareness,HIV Resources,Workshop
ATTACH;FMTTYPE=image/png:https://nlaad.org/wp-content/uploads/2022/10/nlaad-2022-webinar-banner-4.png
END:VEVENT
BEGIN:VEVENT
DTSTART;TZID=America/New_York:20221005T150000
DTEND;TZID=America/New_York:20221005T160000
DTSTAMP:20260424T031341
CREATED:20221013T223251Z
LAST-MODIFIED:20221013T223251Z
UID:11476-1664982000-1664985600@nlaad.org
SUMMARY:NLAAD Webinar 2: "Long Acting Treatment for HIV"
DESCRIPTION:A different way to treat HIV and stay undetectable by monthly or bimonthly injections. Cabenuva is the only complete HIV treatment that can be gotten every month or every other month. ViiV is presenting this webinar with information about this new medication to treat HIV.
URL:https://nlaad.org/event/nlaad-webinar-2-long-acting-treatment-for-hiv/
LOCATION:Zoom\, United States
CATEGORIES:Facebook Live,Health Education,HIV Awareness,Workshop
ATTACH;FMTTYPE=image/png:https://nlaad.org/wp-content/uploads/2022/10/nlaad-2022-webinar-banner-2.png
ORGANIZER;CN="Latino Commission on AIDS":MAILTO:lmares@latinoaids.org
END:VEVENT
BEGIN:VEVENT
DTSTART;TZID=America/New_York:20211116T140000
DTEND;TZID=America/New_York:20211116T150000
DTSTAMP:20260424T031341
CREATED:20211022T184930Z
LAST-MODIFIED:20211022T184930Z
UID:11300-1637071200-1637074800@nlaad.org
SUMMARY:NLAAD 2021 Webinar #3: 40 years of HIV epidemic in the US
DESCRIPTION:Learn about the 40 years of HIV Epidemic in the US. From the uncertain dark beginnings of the epidemic when an entire generation of Americans died due to HIV related illness\, through the progress of medicine and science getting us to today when we can say we have the tools to end this epidemic. Also\, we will hear about the plan to end the HIV epidemic in America by 2030
URL:https://nlaad.org/event/nlaad-2021-webinar-3-40-years-of-hiv-epidemic-in-the-us/
CATEGORIES:Facebook Live,Health Education,HIV Awareness,Workshop
ATTACH;FMTTYPE=image/png:https://nlaad.org/wp-content/uploads/2021/10/nlaad-webinar-2021-ppt-3.png
END:VEVENT
BEGIN:VEVENT
DTSTART;TZID=America/New_York:20211028T140000
DTEND;TZID=America/New_York:20211028T150000
DTSTAMP:20260424T031341
CREATED:20211022T184319Z
LAST-MODIFIED:20211022T184703Z
UID:11293-1635429600-1635433200@nlaad.org
SUMMARY:NLAAD 2021 webinar #2: After 40 years of HIV epidemic: U=U it's perspective
DESCRIPTION:In early 2016\, a life-changing fact was turned into a campaign that communicate that a person living with HIV who has an undetectable viral load cannot transmit HIV to sexual partners. In other words\, Undetectable = Untransmittable (U=U). 40 years after the start of the HIV epidemic\, U=U is revolutionizing what it means to live and love with HIV. In this webinar\, you’ll hear insights from a U=U Ambassador and PAC staff member about how U=U is being used to End the Epidemic and engage the Latinx community in new and innovative ways
URL:https://nlaad.org/event/nlaad-2021-webinar-2/
LOCATION:Zoom\, United States
CATEGORIES:Facebook Live,Health Education,HIV Awareness,HIV Resources,Workshop
ATTACH;FMTTYPE=image/png:https://nlaad.org/wp-content/uploads/2021/10/nlaad-webinar-2021-ppt-28561.png
END:VEVENT
BEGIN:VEVENT
DTSTART;TZID=America/New_York:20211014T200000
DTEND;TZID=America/New_York:20211014T220000
DTSTAMP:20260424T031341
CREATED:20211022T182929Z
LAST-MODIFIED:20211022T182929Z
UID:11284-1634241600-1634248800@nlaad.org
SUMMARY:Color Me Your Pride: An Evening with Latinx Artists
DESCRIPTION:Facebook live event
URL:https://nlaad.org/event/color-me-your-pride-an-evening-with-latinx-artists/
LOCATION:Virtual\, United States
CATEGORIES:Facebook Live,HIV Awareness,Social Event
ATTACH;FMTTYPE=image/jpeg:https://nlaad.org/wp-content/uploads/2021/10/245604488_1141081653089631_4266614134025045260_n.jpg
END:VEVENT
BEGIN:VEVENT
DTSTART;TZID=America/New_York:20211012T170000
DTEND;TZID=America/New_York:20211012T180000
DTSTAMP:20260424T031341
CREATED:20211007T215434Z
LAST-MODIFIED:20211007T220118Z
UID:11189-1634058000-1634061600@nlaad.org
SUMMARY:Sesion Educativa : Dia Nacional de la Concientizacion Sobre el SIDA
DESCRIPTION:El Director de Mobilizacion Comunitaria de la Comision Latina sobre el SIDA\, Luis Alberto Mares\, participara de la sesion en vivo de Empoderate hablando sobre la campaña nacional NLAAD \nfacebook.com/LaClinicaDelPueblo \nfacebook.com/Empoderate
URL:https://nlaad.org/event/sesion-educativa-dia-nacional-de-la-concientizacion-sobre-el-sida/
LOCATION:Facebook La Clinica del Pueblo\, Washington\, DC\, United States
CATEGORIES:Facebook Live,Health Education,HIV Awareness
ATTACH;FMTTYPE=image/png:https://nlaad.org/wp-content/uploads/2021/10/NLAAD-Flyer-20216750.png
END:VEVENT
BEGIN:VEVENT
DTSTART;TZID=America/New_York:20201015T150000
DTEND;TZID=America/New_York:20201015T163000
DTSTAMP:20260424T031341
CREATED:20200921T202944Z
LAST-MODIFIED:20201007T223044Z
UID:10730-1602774000-1602779400@nlaad.org
SUMMARY:Facebook Live NLAAD - New York\, NY
DESCRIPTION:FACEBOOK LIVE CONVERSATION ABOUT ESTIGMA AND HIV PREVENTION AND CARE \nFacebook live: @CONSULMEXNUEVAYORK  @VENTANILLA.DESALUDNY \n3pm NY time (EST)
URL:https://nlaad.org/event/facebook-live-nlaad-new-york-ny/
LOCATION:Ventanilla de la Salud NY\, 27 EAST 39TH STREET\, New York\, NY\, 100126\, United States
CATEGORIES:Facebook Live,HIV Awareness
ATTACH;FMTTYPE=image/png:https://nlaad.org/wp-content/uploads/2020/09/NLAAD-Consulado-de-Mexico.png
END:VEVENT
BEGIN:VEVENT
DTSTART;TZID=UTC:20171012T140000
DTEND;TZID=UTC:20171012T144500
DTSTAMP:20260424T031341
CREATED:20171003T035331Z
LAST-MODIFIED:20171004T015053Z
UID:7280-1507816800-1507819500@nlaad.org
SUMMARY:Facebook Live by LULAC: NLAAD
DESCRIPTION:Join LULAC\, NASTAD\, and La Clínica del Pueblo for a discussion about Latinos\, HIV\, and how you can get involved as an advocate to stop HIV together through HIV testing\, treatment\, condoms\, and PrEP. The Facebook Live is being held leading up to National Latinx AIDS Awareness Day on October 15th. Speakers will include David M. Perez\, LULAC National Office\, Edwin Corbin-Gutierrez of NASTAD\, Ariel Cerrud\, Independent Youth Advocate\, Dr. Suyanna Linhales Barker of La Clínica del Pueblo.
URL:https://nlaad.org/event/facebook-live-by-lulac-nlaad/
LOCATION:LULAC\, 1133 19th St\, NW\, Washington\, DC\, 20036\, United States
CATEGORIES:Facebook Live,HIV Awareness
ATTACH;FMTTYPE=image/jpeg:https://nlaad.org/wp-content/uploads/2017/10/LULAC.jpg
END:VEVENT
END:VCALENDAR