BEGIN:VCALENDAR
VERSION:2.0
PRODID:-//nlaad.org - ECPv6.15.19//NONSGML v1.0//EN
CALSCALE:GREGORIAN
METHOD:PUBLISH
X-ORIGINAL-URL:https://nlaad.org
X-WR-CALDESC:Events for nlaad.org
REFRESH-INTERVAL;VALUE=DURATION:PT1H
X-Robots-Tag:noindex
X-PUBLISHED-TTL:PT1H
BEGIN:VTIMEZONE
TZID:America/New_York
BEGIN:DAYLIGHT
TZOFFSETFROM:-0500
TZOFFSETTO:-0400
TZNAME:EDT
DTSTART:20180311T070000
END:DAYLIGHT
BEGIN:STANDARD
TZOFFSETFROM:-0400
TZOFFSETTO:-0500
TZNAME:EST
DTSTART:20181104T060000
END:STANDARD
BEGIN:DAYLIGHT
TZOFFSETFROM:-0500
TZOFFSETTO:-0400
TZNAME:EDT
DTSTART:20190310T070000
END:DAYLIGHT
BEGIN:STANDARD
TZOFFSETFROM:-0400
TZOFFSETTO:-0500
TZNAME:EST
DTSTART:20191103T060000
END:STANDARD
BEGIN:DAYLIGHT
TZOFFSETFROM:-0500
TZOFFSETTO:-0400
TZNAME:EDT
DTSTART:20200308T070000
END:DAYLIGHT
BEGIN:STANDARD
TZOFFSETFROM:-0400
TZOFFSETTO:-0500
TZNAME:EST
DTSTART:20201101T060000
END:STANDARD
BEGIN:DAYLIGHT
TZOFFSETFROM:-0500
TZOFFSETTO:-0400
TZNAME:EDT
DTSTART:20210314T070000
END:DAYLIGHT
BEGIN:STANDARD
TZOFFSETFROM:-0400
TZOFFSETTO:-0500
TZNAME:EST
DTSTART:20211107T060000
END:STANDARD
BEGIN:DAYLIGHT
TZOFFSETFROM:-0500
TZOFFSETTO:-0400
TZNAME:EDT
DTSTART:20220313T070000
END:DAYLIGHT
BEGIN:STANDARD
TZOFFSETFROM:-0400
TZOFFSETTO:-0500
TZNAME:EST
DTSTART:20221106T060000
END:STANDARD
BEGIN:DAYLIGHT
TZOFFSETFROM:-0500
TZOFFSETTO:-0400
TZNAME:EDT
DTSTART:20230312T070000
END:DAYLIGHT
BEGIN:STANDARD
TZOFFSETFROM:-0400
TZOFFSETTO:-0500
TZNAME:EST
DTSTART:20231105T060000
END:STANDARD
BEGIN:DAYLIGHT
TZOFFSETFROM:-0500
TZOFFSETTO:-0400
TZNAME:EDT
DTSTART:20240310T070000
END:DAYLIGHT
BEGIN:STANDARD
TZOFFSETFROM:-0400
TZOFFSETTO:-0500
TZNAME:EST
DTSTART:20241103T060000
END:STANDARD
END:VTIMEZONE
BEGIN:VTIMEZONE
TZID:America/Denver
BEGIN:DAYLIGHT
TZOFFSETFROM:-0700
TZOFFSETTO:-0600
TZNAME:MDT
DTSTART:20190310T090000
END:DAYLIGHT
BEGIN:STANDARD
TZOFFSETFROM:-0600
TZOFFSETTO:-0700
TZNAME:MST
DTSTART:20191103T080000
END:STANDARD
BEGIN:DAYLIGHT
TZOFFSETFROM:-0700
TZOFFSETTO:-0600
TZNAME:MDT
DTSTART:20200308T090000
END:DAYLIGHT
BEGIN:STANDARD
TZOFFSETFROM:-0600
TZOFFSETTO:-0700
TZNAME:MST
DTSTART:20201101T080000
END:STANDARD
BEGIN:DAYLIGHT
TZOFFSETFROM:-0700
TZOFFSETTO:-0600
TZNAME:MDT
DTSTART:20210314T090000
END:DAYLIGHT
BEGIN:STANDARD
TZOFFSETFROM:-0600
TZOFFSETTO:-0700
TZNAME:MST
DTSTART:20211107T080000
END:STANDARD
END:VTIMEZONE
BEGIN:VTIMEZONE
TZID:UTC
BEGIN:STANDARD
TZOFFSETFROM:+0000
TZOFFSETTO:+0000
TZNAME:UTC
DTSTART:20170101T000000
END:STANDARD
END:VTIMEZONE
BEGIN:VEVENT
DTSTART;TZID=America/New_York:20231015T100000
DTEND;TZID=America/New_York:20231015T100000
DTSTAMP:20260423T235637
CREATED:20230919T042040Z
LAST-MODIFIED:20230928T034732Z
UID:11630-1697364000-1697364000@nlaad.org
SUMMARY:VIDA's 10-Year Anniversary / National Latinx AIDS Awareness Day / Hispanic Heritage Month Celebration
DESCRIPTION:Since its conception\, VIDA\, a non-profit organization focusing on LGBTQ+ Latinx folks\, providing education\, open dialogue\, and strong\nrole models in the fight against HIV among other amazing community activities. VIDA has been providing Self Collect HIV Tests to\nthe community and then linking them to appropriate Prevention or Treatment services with various organizations (e.g.\, UCSD\, SYH\,\nVCC\, TrueCare\, MCAP\, La Maestra and AHF\, The Center\, etc.).\nSince its formation almost ten years ago\, VIDA has worked hard to provide HIV education to help reduce and hopefully eliminate HIV\namong Latinx communities. VIDA does this in many ways\, including informational booths at events all over San Diego including Latinx\nPride\, National Latinx AIDS Awareness Day\, and Out at the Fair. VIDA’s team of staff and volunteers provide services after traditional\nwork hours including evenings and weekends at different sites where the need is greatest in the County of San Diego and now\nexpanding to Orange County and Inland Empire.\nWe would like to ask you to join us in celebrating our 10-year anniversary while we commemorate National Latinx HIV/AIDS\nAwareness Day and National Hispanic Heritage month on Sunday\, October 15th. Please see the save the date flyer attached and the\nmonth long of celebratory activities
URL:https://nlaad.org/event/vidas-10-year-anniversary-national-latinx-aids-awareness-day-hispanic-heritage-month-celebration/
LOCATION:Urban MO’s\, 308 University Avenue\, San Diego\, CA\, 92103\, United States
CATEGORIES:Community Forum,HIV Awareness,HIV Resources,HIV Testing,Press Conference,Social Event
ATTACH;FMTTYPE=image/jpeg:https://nlaad.org/wp-content/uploads/2023/09/VIDA.jpeg
ORGANIZER;CN="Latino Commision on AIDS":MAILTO:NLAAD@Latinoaids.org
END:VEVENT
BEGIN:VEVENT
DTSTART;TZID=America/New_York:20211014T180000
DTEND;TZID=America/New_York:20211014T193000
DTSTAMP:20260423T235637
CREATED:20211014T040439Z
LAST-MODIFIED:20211014T040439Z
UID:11219-1634234400-1634239800@nlaad.org
SUMMARY:Foro Comunitario - Poniendo Fin A Las Epidemias (Ending The Epidemics (ETE))
DESCRIPTION:• El Foro Comunitario – Poniendo fin a las epidemias (Ending the Epidemics (EtE)) contará con oradores que discutirán cómo el\nVIH\, la hepatitis C (VHC) y las infecciones de transmisión sexual (ITS) están afectando a la comunidad latina de San Francisco y las\nsoluciones que la ciudad y las organizaciones locales están explorando.\n• Este evento será una oportunidad para que los residentes conozcan el Plan para poner fin a las epidemias de San Francisco\,\nescuchen historias personales de miembros de la comunidad afectada y aprendan más sobre las organizaciones que participan en\neste trabajo.\n• El evento está abierto a cualquier persona interesada en aprender más sobre estos temas\nModeradora:\nGarza Peru\n(Activista\, Profesionista de salud)\nCon:\nOscar Macias\, Departamento de Salud de San Francisco\nLazara Paz-Gonzales\, Facente Consulting;\nGiuliana Martinez\, GM Consulting;\nAngel C. Fabian\, MPact\nPanelistas comunitarios:\no Claudia Garcia (Ella/Her)\, Promotora\no Cesar Espinoza-Perez\, Activista/Marcha de las Putas SF\no Claudia Cabrera\,Directora de programas\,Si a la Vida\,IFR\nEl Foro Comunitario se llevará a cabo en español\, pero los participantes tendrán la opción de elegir intérpretes de inglés o portugués.\nLas personas que participen automáticamente entraran en una rifa para ganar una de las tres tarjetas de regalo Visa de $ 10
URL:https://nlaad.org/event/foro-comunitario-poniendo-fin-a-las-epidemias-ending-the-epidemics-ete/
LOCATION:Zoom\, United States
CATEGORIES:Community Forum,Health Education,HIV Awareness
ATTACH;FMTTYPE=image/png:https://nlaad.org/wp-content/uploads/2021/10/nlaad-2021-general-event-ad-26287.png
END:VEVENT
BEGIN:VEVENT
DTSTART;TZID=America/Denver:20201014T100000
DTEND;TZID=America/Denver:20201014T110000
DTSTAMP:20260423T235637
CREATED:20201014T211700Z
LAST-MODIFIED:20231017T005247Z
UID:10842-1602669600-1602673200@nlaad.org
SUMMARY:NLAAD Proclamation - Laredo\, Texas
DESCRIPTION:This will be a virtual event where a proclamation will be made by the City of Laredo and Webb County to commemorate the day and week as National Latinx AIDS Awareness Day.
URL:https://nlaad.org/event/nlaad-proclamation-laredo-texas/
LOCATION:Virtual\, United States
CATEGORIES:Community Forum,HIV Awareness
ATTACH;FMTTYPE=image/jpeg:https://nlaad.org/wp-content/uploads/2020/09/nlaad-2020-event-poster-general-1.jpg
END:VEVENT
BEGIN:VEVENT
DTSTART;TZID=America/New_York:20191031T160000
DTEND;TZID=America/New_York:20191031T190000
DTSTAMP:20260423T235637
CREATED:20190916T214130Z
LAST-MODIFIED:20190916T214130Z
UID:9443-1572537600-1572548400@nlaad.org
SUMMARY:Community Resource Fair
DESCRIPTION:The First Annual Translatinx Network LGBTQ+ Resource Fair will be an opportunity for our community to meet face to face with providers of a multifaceted range of services. TN will connect community members directly to facilitators of job readiness programs\, immigration and name change lawyers\, continuing education teachers\, housing navigators and advocates\, and HIV testers\, as well as many other vital service providers. Through this resource fair\, TN will give community members the connections and opportunity to practice self-advocacy in a safe and familiar environment.
URL:https://nlaad.org/event/community-resource-fair/
LOCATION:Translatinx Network\, 137 W 19th Street\, New York\, NY\, 10011\, United States
CATEGORIES:Community Forum,Health Education,HIV Awareness,HIV Resources,HIV Testing
ATTACH;FMTTYPE=image/png:https://nlaad.org/wp-content/uploads/2019/09/cropped-450-x-150-TN-logo-8.png
END:VEVENT
BEGIN:VEVENT
DTSTART;TZID=America/New_York:20191018T180000
DTEND;TZID=America/New_York:20191018T200000
DTSTAMP:20260423T235637
CREATED:20190916T211351Z
LAST-MODIFIED:20191007T173449Z
UID:9403-1571421600-1571428800@nlaad.org
SUMMARY:Panel Discussion: Culture\, Diaspora & Health Promotion
DESCRIPTION:Transdiaspora Network is commemorating National Latino AIDS Awareness Day (NLAAD) as part of Hispanic Heritage Month by hosting a panel discussion that will elicit a dialogue among local leaders and the Latinx community in Sunset Park\, Brooklyn.\nThe panel Culture\, Diaspora & Health Promotion will bring the attention about the impact of HIV in this area and will examine the importance of creating culturally relevant health initiatives that engage teens and young adults of low-income and immigrant backgrounds. We aim to raise awareness around issues related to stigma\, prevention and health promotion. \nDate\nOctober 18th\, 2019 + 6:00-8:00PM\nLocation\n245 23rd St\, Fl 2nd\, Brooklyn\, New York 11215  view map\nPanelists\nAriel Rojas\, MS\, MA – President/CEO/Founder\nLissette Marrero\, MSW – Chief Operating Officer\nDeivis Ventura – Health Advocacy Partner\nLuis Mares\, LMSW\, Community Mobilization Programs Director\, Latino Commission on AIDS\nModerator\nGenesis Aquino – Community Liaison \n 
URL:https://nlaad.org/event/panel-discussion-culture-migration-diaspora-and-health-promotion/
LOCATION:Mixteca\, 245 23rd Street\, 2nd Floor\, Brooklyn\, 11215\, United States
CATEGORIES:Community Forum,Health Education,HIV Awareness,HIV Testing
END:VEVENT
BEGIN:VEVENT
DTSTART;TZID=America/New_York:20191016T180000
DTEND;TZID=America/New_York:20191016T220000
DTSTAMP:20260423T235637
CREATED:20191009T183427Z
LAST-MODIFIED:20191009T183427Z
UID:10181-1571248800-1571263200@nlaad.org
SUMMARY:National Latinx HIV/AIDS & AWARENESS DAY
DESCRIPTION:6pm Dinner presentation about Stigma  by Dr. Jesi Ramone @ Riverside Manor\, Paterson \nWednesday october 16 \nPresentación en la Casa Bilingue
URL:https://nlaad.org/event/national-latinx-hivaids-awareness-day/
LOCATION:Riverside Manor\, 27 E 33rd St\, Paterson\, NJ\,  07514\, United States
CATEGORIES:Community Forum,Health Education,HIV Testing
ATTACH;FMTTYPE=image/jpeg:https://nlaad.org/wp-content/uploads/2019/10/BuddiesNJ.jpg
END:VEVENT
BEGIN:VEVENT
DTSTART;TZID=America/New_York:20191016T170000
DTEND;TZID=America/New_York:20191016T220000
DTSTAMP:20260423T235637
CREATED:20190923T150746Z
LAST-MODIFIED:20190923T150746Z
UID:9655-1571245200-1571263200@nlaad.org
SUMMARY:Tus Quince
DESCRIPTION:State of Latino Sexual Health in NYC Community Forum & Dinner & Dancing after \nForo Comunitario Sobre la Salud Sexual delos Latinos en Nueva York y despues una fiesta y comida
URL:https://nlaad.org/event/tus-quince/
LOCATION:Location 05\, 450 W 31st Street\, 7th Floor\, New York\, NY\, 10001\, United States
CATEGORIES:Community Forum,HIV Awareness,Social Event
ATTACH;FMTTYPE=image/png:https://nlaad.org/wp-content/uploads/2019/09/National-Latinx-AIDS-Awareness-Day-2019.png
END:VEVENT
BEGIN:VEVENT
DTSTART;TZID=America/New_York:20191015T110000
DTEND;TZID=America/New_York:20191015T140000
DTSTAMP:20260423T235637
CREATED:20191001T154131Z
LAST-MODIFIED:20191001T154131Z
UID:9808-1571137200-1571148000@nlaad.org
SUMMARY:Latinx Visionaries Luncheon
DESCRIPTION:Our goal is to host a luncheon and awareness event for people who are not normally part of the conversation on HIV/AIDS who would be engaged to break stigma and increase awareness and end stigma in the Latinox communities and beyond.
URL:https://nlaad.org/event/latinx-visionaries-luncheon/
LOCATION:Mexican American Unity Council\, 2300 W. Commerce St.\, San Antonio\, TX\, 78207\, United States
CATEGORIES:Community Forum,Health Education,HIV Awareness,HIV Resources,HIV Testing
END:VEVENT
BEGIN:VEVENT
DTSTART;TZID=America/New_York:20191012T090000
DTEND;TZID=America/New_York:20191013T170000
DTSTAMP:20260423T235637
CREATED:20190923T160055Z
LAST-MODIFIED:20190923T160055Z
UID:9742-1570870800-1570986000@nlaad.org
SUMMARY:ALZANDO LA VOZ
DESCRIPTION:12 y 13 de octubre\, 2019 9 am – 5 pm \nCapacitación para activismo comunitario (en español) \n1111 Broadway\, 3rcer Piso Oakland\, CA (cercas de 12th Street/City Center BART) \n¿Eres un hombre Latinx gay o bisexual? ¿Trabajas con esta población? ¿Te gustaría aprender como participar activamente en las decisiones sobre el VIH que están impactando a nuestra comunidad? ¿Te gustaría conocer y conectar con otros activistas en el área de la bahía? ¡¡Estas cordialmente invitadx!! \nPara registrarte haz click aquí: https://docs.google.com/forms/d/e/1FAIpQLSeOv3WivRdl3u5Fxa96udAMDPG908ZqODLPclYP3bqwwEDCnA/viewform?usp=sf_link
URL:https://nlaad.org/event/alzando-la-voz/
LOCATION:WeWork offices\, 1111 Broadway\, 3rd floor\, Oakland\, CA\, 94607\, United States
CATEGORIES:Community Forum,Health Education
ATTACH;FMTTYPE=image/jpeg:https://nlaad.org/wp-content/uploads/2019/09/ALZANDOLAVOZOaklandCA-e1569254439294.jpg
END:VEVENT
BEGIN:VEVENT
DTSTART;TZID=America/New_York:20191003T090000
DTEND;TZID=America/New_York:20191003T120000
DTSTAMP:20260423T235637
CREATED:20190923T152711Z
LAST-MODIFIED:20190923T152711Z
UID:9682-1570093200-1570104000@nlaad.org
SUMMARY:National Latino AIDS Awareness Day Event
DESCRIPTION:The Mexican Consulate of San Jose is inviting representatives of partner organizations to provide testimonials about the benefits of Binational Health Week and how collaborations with the Public Health Department and the Consulate have helped reach their goals. Free HIV testing will be available to attendees. \nEl Consulado de San Jose invitará a representantes de organizaciones socias a dar testimonios sobre los beneficios de la Semana Binacional de Salud y cómo esta colaboración entre organizaciones\, el departamento de Salud y el Consulado les ha ayudado a alcanzar sus metas. Se ofrecerá pruebas de VIH gratis.
URL:https://nlaad.org/event/national-latino-aids-awareness-day-event/
LOCATION:Consulate General of Mexico in San Jose\, 302 Enzo Dr. \, Suite 200\, San Jose\, CA\, 95138\, United States
CATEGORIES:Community Forum,HIV Awareness,HIV Testing
END:VEVENT
BEGIN:VEVENT
DTSTART;TZID=UTC:20181017T180000
DTEND;TZID=UTC:20181017T200000
DTSTAMP:20260423T235637
CREATED:20180917T233207Z
LAST-MODIFIED:20180917T233207Z
UID:8130-1539799200-1539806400@nlaad.org
SUMMARY:Entre Hermanos Community Forum - Seattle\, WA
DESCRIPTION:These forums engage our Latinx LGBTQ Community through conversation and outreach aimed at preventing the further spread of HIV. There are a series of informative and culturally tailored bulletins where community members can have open discussions about prevention. On this community forum we will be addressing the National Latinx AIDS Awareness Day.
URL:https://nlaad.org/event/entre-hermanos-community-forum-seattle-wa/
LOCATION:12 Ave Arts Building\, 1620 12th Ave - Pine-Pike Room\, Seattle\, WA\, 98122\, United States
CATEGORIES:Community Forum,HIV Testing
ATTACH;FMTTYPE=image/jpeg:https://nlaad.org/wp-content/uploads/2018/08/nlaad-me-we-2018.jpg
END:VEVENT
END:VCALENDAR