BEGIN:VCALENDAR
VERSION:2.0
PRODID:-//nlaad.org - ECPv6.15.19//NONSGML v1.0//EN
CALSCALE:GREGORIAN
METHOD:PUBLISH
X-WR-CALNAME:nlaad.org
X-ORIGINAL-URL:https://nlaad.org
X-WR-CALDESC:Events for nlaad.org
REFRESH-INTERVAL;VALUE=DURATION:PT1H
X-Robots-Tag:noindex
X-PUBLISHED-TTL:PT1H
BEGIN:VTIMEZONE
TZID:America/New_York
BEGIN:DAYLIGHT
TZOFFSETFROM:-0500
TZOFFSETTO:-0400
TZNAME:EDT
DTSTART:20240310T070000
END:DAYLIGHT
BEGIN:STANDARD
TZOFFSETFROM:-0400
TZOFFSETTO:-0500
TZNAME:EST
DTSTART:20241103T060000
END:STANDARD
BEGIN:DAYLIGHT
TZOFFSETFROM:-0500
TZOFFSETTO:-0400
TZNAME:EDT
DTSTART:20250309T070000
END:DAYLIGHT
BEGIN:STANDARD
TZOFFSETFROM:-0400
TZOFFSETTO:-0500
TZNAME:EST
DTSTART:20251102T060000
END:STANDARD
BEGIN:DAYLIGHT
TZOFFSETFROM:-0500
TZOFFSETTO:-0400
TZNAME:EDT
DTSTART:20260308T070000
END:DAYLIGHT
BEGIN:STANDARD
TZOFFSETFROM:-0400
TZOFFSETTO:-0500
TZNAME:EST
DTSTART:20261101T060000
END:STANDARD
END:VTIMEZONE
BEGIN:VEVENT
DTSTART;VALUE=DATE:20251015
DTEND;VALUE=DATE:20251016
DTSTAMP:20260424T043700
CREATED:20251030T053559Z
LAST-MODIFIED:20260114T224712Z
UID:12556-1760486400-1760572799@nlaad.org
SUMMARY:National Latinx HIV/AIDS Awareness Day
DESCRIPTION:Today is National Latinx AIDS Awareness Day (hashtag#NLAAD)\, a day to promote HIV testing\, prevention\, and treatment within Hispanic/Latino/Latina communities. \nIn 2023\, Hispanic people accounted for over one-third of new HIV diagnoses in the U.S.\, despite making up only 19% of the population. \nThis year’s theme\, “Should I get tested for HIV? YES!”\, highlights the urgent need to address the stigma\, language barriers\, and limited access to care that contribute to this disparity. \nKnowledge is power. Testing is prevention. Treatment is life. \nIf you’ve ever wondered\, “Should I get tested for HIV?” the answer is yes! Know your status\, get tested today with us at our SHELL Health Clinic. www.shellhealth.org
URL:https://nlaad.org/event/national-latinx-hiv-aids-awareness-day-6/
LOCATION:AIDS Alabama South\, 4321 Downtowner Loop N\, Mobile\, AL\, 36609\, United States
CATEGORIES:Call to Action,HIV Awareness
ATTACH;FMTTYPE=image/jpeg:https://nlaad.org/wp-content/uploads/2025/10/1760562530880.jpg
END:VEVENT
BEGIN:VEVENT
DTSTART;VALUE=DATE:20251015
DTEND;VALUE=DATE:20251016
DTSTAMP:20260424T043700
CREATED:20251030T052958Z
LAST-MODIFIED:20251030T052958Z
UID:12551-1760486400-1760572799@nlaad.org
SUMMARY:NLAAD
DESCRIPTION:🎉 PSA: Today is National Latinx AIDS Awareness Day! hashtag#NLAAD ✨ We honor this day while celebrating Hispanic Heritage Month — embracing culture\, community\, and health. 💙💚❤️ Let’s keep raising awareness\, breaking stigma\, and supporting each other. ¡Juntos somos más fuertes! 💪🌟
URL:https://nlaad.org/event/nlaad-8/
LOCATION:SoCo Harm Reduction Association\, 219 W Northern Ave\, Pueblo\, CO\, 81004\, United States
CATEGORIES:Call to Action,HIV Awareness
ATTACH;FMTTYPE=image/jpeg:https://nlaad.org/wp-content/uploads/2025/10/1758918145531.jpg
END:VEVENT
BEGIN:VEVENT
DTSTART;VALUE=DATE:20251015
DTEND;VALUE=DATE:20251016
DTSTAMP:20260424T043700
CREATED:20251030T051706Z
LAST-MODIFIED:20251030T051706Z
UID:12540-1760486400-1760572799@nlaad.org
SUMMARY:National Latinx  AIDS Awareness Day
DESCRIPTION:Salud es para todos. Health is for everyone. \nLatinx communities are disproportionately impacted by HIV—yet face unique barriers like language access\, stigma\, and limited culturally competent care. \nOn NLAAD\, Nashville CARES recommits to bilingual testing\, PrEP/PEP navigation\, women’s health programs\, and counseling for Latinx clients. \nBecause health equity means health for all. \nEncuentra recursos bilingües → nashvillecares.org o cares360\,org \n#NLAAD #SaludParaTodos #NashvilleCares #ForAllOfUs #HIVPrevention
URL:https://nlaad.org/event/national-latinx-aids-awareness-day-15/
LOCATION:Nashville CARES\, 633 Thompson Lane\, Nashville\, TN\, 37204\, United States
CATEGORIES:Call to Action,HIV Awareness
ATTACH;FMTTYPE=image/jpeg:https://nlaad.org/wp-content/uploads/2025/10/1760547215308.jpg
END:VEVENT
BEGIN:VEVENT
DTSTART;VALUE=DATE:20251015
DTEND;VALUE=DATE:20251016
DTSTAMP:20260424T043700
CREATED:20251030T050451Z
LAST-MODIFIED:20251030T050451Z
UID:12535-1760486400-1760572799@nlaad.org
SUMMARY:National Latinx AIDS Awareness Day
DESCRIPTION:Today is National Latinx AIDS Awareness Day (NLAAD). Let’s raise awareness about the impact of HIV on Hispanic/Latino communities\, promote testing\, and share prevention resources. \nTogether\, we can fight stigma\, support access to care\, and empower our communities.
URL:https://nlaad.org/event/national-latinx-aids-awareness-day-14/
LOCATION:Engaging Arkansas Community\, Little Rock\, AR\, United States
CATEGORIES:Call to Action,HIV Awareness
ATTACH;FMTTYPE=image/jpeg:https://nlaad.org/wp-content/uploads/2025/10/1760541807134.jpg
END:VEVENT
BEGIN:VEVENT
DTSTART;VALUE=DATE:20251015
DTEND;VALUE=DATE:20251016
DTSTAMP:20260424T043700
CREATED:20251030T045439Z
LAST-MODIFIED:20251030T045439Z
UID:12530-1760486400-1760572799@nlaad.org
SUMMARY:National Latinx AIDS Awareness Day
DESCRIPTION:Today is National Latinx AIDS Awareness Day (NLAAD)\, a day to help stop HIV stigma and promote ways to address the disproportionate impact of HIV on Latinx communities. Racism\, discrimination\, xenophobia\, HIV-related stigma\, homophobia\, economic disparities\, a fragmented healthcare system\, and other longstanding barriers are key drivers of the disproportionate impact of HIV among Hispanic and Latino communities in the U.S. To end the HIV epidemic\, the nation must scale up HIV testing\, link people with HIV to care and treatment\, and ensure equitable access to HIV prevention—including PrEP—for everyone who could benefit. \n#NLAAD #StopHIVTogether #HIV #AIDS #CHCs #HCN #HCCNs #HIVPrevention #PrEP
URL:https://nlaad.org/event/national-latinx-aids-awareness-day-13/
LOCATION:Health Choice Network\, 9064 NW 13th Terr\, Doral\, FL\, 33172\, United States
CATEGORIES:Call to Action,HIV Awareness
ATTACH;FMTTYPE=image/jpeg:https://nlaad.org/wp-content/uploads/2025/10/1760556149356.jpg
END:VEVENT
BEGIN:VEVENT
DTSTART;VALUE=DATE:20251015
DTEND;VALUE=DATE:20251016
DTSTAMP:20260424T043700
CREATED:20251030T042445Z
LAST-MODIFIED:20260115T060903Z
UID:12525-1760486400-1760572799@nlaad.org
SUMMARY:National Latinx HIV/AIDS Awareness Day
DESCRIPTION:October 15 is National Latinx HIV/AIDS Awareness Day (NLAAD) — a call to action to raise awareness and promote HIV testing\, prevention\, and treatment within the Latinx community. \nLatinx individuals represent 29% of new HIV diagnoses in the U.S.\, despite being only 19% of the population. Language barriers\, immigration status\, stigma\, and lack of access to culturally competent care can prevent many from getting tested or treated. \nAt Radiant Health Centers\, we provide free\, confidential HIV testing\, PrEP access\, support groups\, and comprehensive medical care tailored for our diverse Latinx LGBTQ+ community and those living with HIV. \nLet’s uplift the voices\, lives\, and health of our Latinx community. Get tested. Know your status. Break the stigma. \n📅 Call (949) 809-5700 or visit RadiantHealthCenters.org for free HIV services and support. \nhashtag#NLAAD hashtag#LatinxHealth hashtag#HIVAIDSAwareness hashtag#StopHIVTogether hashtag#HealthEquity hashtag#LGBTQLatinx hashtag#EndTheStigma hashtag#RadiantHealthCenters
URL:https://nlaad.org/event/national-latinx-hiv-aids-awareness-day-4/
LOCATION:Radiant Health Centers\, 17982 Sky Park Circle\, Ste J\, Irvine\, CA\, 92614\, United States
CATEGORIES:Call to Action,HIV Awareness
ATTACH;FMTTYPE=image/jpeg:https://nlaad.org/wp-content/uploads/2025/10/1760558342473.jpg
END:VEVENT
BEGIN:VEVENT
DTSTART;VALUE=DATE:20251015
DTEND;VALUE=DATE:20251016
DTSTAMP:20260424T043700
CREATED:20251030T033734Z
LAST-MODIFIED:20260115T061733Z
UID:12515-1760486400-1760572799@nlaad.org
SUMMARY:National Latino AIDS Awareness Day
DESCRIPTION:October 15th is National Latino AIDS Awareness Day (NLAAD)! \nCPN member organization\, the Latino Commission on AIDS (LCOA)\, leads powerful health advocacy initiatives that expand HIV education in Latino communities\, model prevention efforts for priority populations\, and strengthen grassroots organizations addressing the impact of HIV\, AIDS\, and STIs. \nLaunched in 2003 by LCOA and The Hispanic Federation\, NLAAD mobilizes communities across the U.S.to stop the spread of HIV and eliminate stigma in Hispanic communities. \nThis year’s theme\, “Should I Get Tested for HIV? YES” reminds us that testing is the first step toward empowerment\, prevention\, and care. \nTo learn more about NLAAD\, explore their site below: \nhttps://nlaad.org/ \nStop the Stigma. Promote Education. Get Tested. ✊ \nhashtag#NLAAD hashtag#LatinoCommissiononAIDS hashtag#HIVPrevention hashtag#HIVTesting hashtag#Healthcare hashtag#PreventativeCare hashtag#TogetherToZero hashtag#CPNforHIV
URL:https://nlaad.org/event/national-latino-aids-awareness-day-5/
LOCATION:Capacity Building Assistance Provider Network – CPN\, Washington\, DC\, United States
CATEGORIES:Call to Action,HIV Awareness
ATTACH;FMTTYPE=image/jpeg:https://nlaad.org/wp-content/uploads/2025/10/1760560654549.jpg
END:VEVENT
BEGIN:VEVENT
DTSTART;VALUE=DATE:20251015
DTEND;VALUE=DATE:20251016
DTSTAMP:20260424T043700
CREATED:20251030T032139Z
LAST-MODIFIED:20251030T032139Z
UID:12510-1760486400-1760572799@nlaad.org
SUMMARY:National Latinx AIDS Awareness Day with Sergio Hurtado\, PA-C
DESCRIPTION:HIV Specialist Sergio Hurtado\, Physician Assistant at MHF\, shares his pride in serving the community. On National Latinx AIDS Awareness Day and every day\, we envision a world where inequity and stigma do not separate people from healthcare.\nhashtag#NationalLatinxAIDSAwarenessDay hashtag#NLAAD
URL:https://nlaad.org/event/national-latinx-aids-awareness-day-with-sergio-hurtado-pa-c/
LOCATION:Men’s Health Foundation\, 9201 W Sunset Blvd\, West Hollywood\, CA\, 90069\, United States
CATEGORIES:Call to Action,HIV Awareness
ATTACH;FMTTYPE=image/jpeg:https://nlaad.org/wp-content/uploads/2025/10/Screenshot-2025-10-29-232028.jpg
END:VEVENT
BEGIN:VEVENT
DTSTART;VALUE=DATE:20251015
DTEND;VALUE=DATE:20251016
DTSTAMP:20260424T043700
CREATED:20251030T031213Z
LAST-MODIFIED:20251030T031213Z
UID:12506-1760486400-1760572799@nlaad.org
SUMMARY:NLAAD
DESCRIPTION:🌟 October 15 is National Latinx AIDS Awareness Day (hashtag#NLAAD)! \n♥️ NLAAD gives an opportunity to help identify and solve the disproportionate impact of HIV in Hispanic/Latinx communities\, promote HIV testing\, and stop HIV stigma. \n🫂 Today also highlights the power of community mobilization\, an effort that helps promote effective ways to prevent\, treat\, and stop the transmission of HIV among Hispanic/Latinx people. \n🤔 hashtag#DYK that nearly 170\,000 people in the United States are living with HIV and unaware of their status? That is why NLAAD 2025 aims to promote HIV testing – helping people learn their status can provide access to life-saving treatment and reduce the risk of unknowingly transmitting HIV. \n🧬 With that being said… if you have ever thought “”Should I get tested for HIV?”” the answer is “”Yes!”” You can learn more here: https://nlaad.org/.
URL:https://nlaad.org/event/nlaad-7/
LOCATION:MD
CATEGORIES:Call to Action,HIV Awareness
ATTACH;FMTTYPE=image/jpeg:https://nlaad.org/wp-content/uploads/2025/10/1760540712916.jpg
END:VEVENT
BEGIN:VEVENT
DTSTART;VALUE=DATE:20251015
DTEND;VALUE=DATE:20251016
DTSTAMP:20260424T043700
CREATED:20251030T013059Z
LAST-MODIFIED:20251030T013059Z
UID:12501-1760486400-1760572799@nlaad.org
SUMMARY:National Latinx AIDS Awareness Day
DESCRIPTION:October 15 marks National Latinx AIDS Awareness Day (NLAAD) — a national observance that highlights the importance of HIV prevention\, testing\, and treatment within Hispanic and Latinx communities. \nThe 2025 theme\, “Start Treatment. Stick to It. Get Better.”\, emphasizes how consistent care and treatment lead to healthier outcomes and help stop the transmission of HIV. \nAt Avenue 360 Health & Wellness\, we are committed to ensuring equitable access to testing\, PrEP\, and HIV treatment for all Houstonians. Our goal is simple — to support every individual in achieving better health and thriving in their community. \nhashtag#NLAAD hashtag#LatinxHealth hashtag#HIVAwareness hashtag#HIVPrevention hashtag#PrEP hashtag#HoustonHealthcare hashtag#Avenue360 hashtag#CommunityHealth hashtag#EndTheEpidemic
URL:https://nlaad.org/event/national-latinx-aids-awareness-day-11/
LOCATION:Avenue 360 Health & Wellness\, 2150 W 18th St\, Houston\, TX\, 77024\, United States
CATEGORIES:Call to Action,HIV Awareness
ATTACH;FMTTYPE=image/jpeg:https://nlaad.org/wp-content/uploads/2025/10/1760489128670.jpg
END:VEVENT
BEGIN:VEVENT
DTSTART;VALUE=DATE:20251015
DTEND;VALUE=DATE:20251016
DTSTAMP:20260424T043700
CREATED:20251030T012420Z
LAST-MODIFIED:20251030T012420Z
UID:12496-1760486400-1760572799@nlaad.org
SUMMARY:NLAAD
DESCRIPTION:October 15 is National Latinx AIDS Awareness Day (NLAAD). NLAAD was first observed in 2003 by the Hispanic Federation and the Latino Commission on AIDSExit Disclaimer (LCOA). NLAAD is an opportunity to help address the disproportionate impact of HIV in Hispanic/Latinx communities\, promote HIV testing\, and stop HIV stigma. \nThis observance is also a community mobilization effort that helps promote effective ways to prevent\, treat\, and stop the transmission of HIV among Hispanic/Latinx people. This year’s theme is “Start Treatment. Stick to It. Get Better.” \nAt Careteam Plus\, we care for you! Get yourself checked and call to schedule your new patient appointment today at one of our locations.\n📍 Locations In Conway & Pawleys Island\n📞 (843) 234-0005\nhttps://careteamplus.org/ \nhashtag#NLAAD hashtag#CareteamPlus
URL:https://nlaad.org/event/nlaad-6/
LOCATION:Careteum Plus Inc.\, 100 Professional Park Dr.\, Conway\, SC\, 29526\, United States
CATEGORIES:Call to Action,HIV Awareness
ATTACH;FMTTYPE=image/jpeg:https://nlaad.org/wp-content/uploads/2025/10/1760536885089.jpg
END:VEVENT
BEGIN:VEVENT
DTSTART;VALUE=DATE:20251015
DTEND;VALUE=DATE:20251016
DTSTAMP:20260424T043700
CREATED:20251030T011028Z
LAST-MODIFIED:20251030T011028Z
UID:12487-1760486400-1760572799@nlaad.org
SUMMARY:National Latinx AIDS Awareness Day
DESCRIPTION:National Latinx AIDS Awareness Day (hashtag#NLAAD) raises awareness of the disproportionate impact of HIV on Hispanic and Latino communities in the United States. \nFirst recognized in 2003 by the Latino Commission on AIDS (LCOA) and the Hispanic Federation\, NLAAD is observed annually on October 15 to coincide with the last day of Hispanic Heritage Month.
URL:https://nlaad.org/event/national-latinx-aids-awareness-day-10/
LOCATION:MD
CATEGORIES:Call to Action,HIV Awareness
ATTACH;FMTTYPE=image/jpeg:https://nlaad.org/wp-content/uploads/2025/10/1760562313515.jpg
END:VEVENT
BEGIN:VEVENT
DTSTART;VALUE=DATE:20251015
DTEND;VALUE=DATE:20251016
DTSTAMP:20260424T043700
CREATED:20251030T010351Z
LAST-MODIFIED:20251030T010351Z
UID:12482-1760486400-1760572799@nlaad.org
SUMMARY:National latinx AIDS Awareness Day
DESCRIPTION:🌟 Today is 𝗡𝗮𝘁𝗶𝗼𝗻𝗮𝗹 𝗟𝗮𝘁𝗶𝗻𝘅 𝗔𝗜𝗗𝗦 𝗔𝘄𝗮𝗿𝗲𝗻𝗲𝘀𝘀 𝗗𝗮𝘆! 🌟 \nLet’s come together to raise awareness\, fight stigma\, and support our Latinx community in the battle against HIV/AIDS. 🙌 \nEducation\, compassion\, and solidarity are key to ending the epidemic. ✨ Remember\, knowledge is power\, and testing is crucial. \nhttps://lnkd.in/d2_QUbky \nhashtag#NLAAD hashtag#HIVAwareness hashtag#EndTheEpidemic hashtag#AIDSAwareness hashtag#CenterForCommunityPractice
URL:https://nlaad.org/event/national-latinx-aids-awareness-day-9/
LOCATION:Center for Community Practice\, Rochester / Syracuse\, NY\, United States
CATEGORIES:Call to Action,HIV Awareness
ATTACH;FMTTYPE=image/jpeg:https://nlaad.org/wp-content/uploads/2025/10/1760533242639.jpg
END:VEVENT
BEGIN:VEVENT
DTSTART;VALUE=DATE:20251015
DTEND;VALUE=DATE:20251016
DTSTAMP:20260424T043700
CREATED:20251030T001347Z
LAST-MODIFIED:20251030T001347Z
UID:12470-1760486400-1760572799@nlaad.org
SUMMARY:National Latinx AIDS Awareness Day
DESCRIPTION:In observance of NLAAD
URL:https://nlaad.org/event/national-latinx-aids-awareness-day-8/
LOCATION:MD
CATEGORIES:Call to Action,HIV Awareness
ATTACH;FMTTYPE=image/jpeg:https://nlaad.org/wp-content/uploads/2025/10/Screenshot-2025-10-29-200933.jpg
END:VEVENT
BEGIN:VEVENT
DTSTART;VALUE=DATE:20251015
DTEND;VALUE=DATE:20251016
DTSTAMP:20260424T043700
CREATED:20251030T000424Z
LAST-MODIFIED:20251030T000424Z
UID:12466-1760486400-1760572799@nlaad.org
SUMMARY:National latinx HIV/AIDS Awareness Day
DESCRIPTION:In observance of NLAAD
URL:https://nlaad.org/event/national-latinx-hiv-aids-awareness-day/
LOCATION:MD
CATEGORIES:Call to Action
ATTACH;FMTTYPE=image/jpeg:https://nlaad.org/wp-content/uploads/2025/10/Screenshot_29-10-2025_194822_www.instagram.com_.jpeg
END:VEVENT
BEGIN:VEVENT
DTSTART;VALUE=DATE:20251015
DTEND;VALUE=DATE:20251016
DTSTAMP:20260424T043700
CREATED:20251029T233919Z
LAST-MODIFIED:20251029T233919Z
UID:12458-1760486400-1760572799@nlaad.org
SUMMARY:National Latinx AIDS Awareness Day 2025
DESCRIPTION:Today is National Latino AIDS Awareness Day (NLAAD)! 🎗️ This year’s theme: “Should I get tested for HIV? Yes!” Join us in promoting HIV awareness and prevention in Latinx communities. \n📊 HIV disparities persist for Hispanic/Latinx communities: \n• In 2023\, there were 39\,182 new HIV diagnoses in the U.S. Hispanic/Latinx people accounted for 32% of new HIV diagnoses\, despite making up only ~19% of the U.S. population.\n• In 2023\, Hispanic/Latinx people represented 31% of new HIV diagnoses but only 18% of PrEP users. \nWe must address these inequities to #EndTheEpidemic. Expanding access to testing\, treatment\, and PrEP through culturally competent strategies is crucial. Together\, we can work to increase HIV awareness\, dispel HIV stigma\, and end the epidemic! \n#NLAAD #HealthEquity #HIVPrevention
URL:https://nlaad.org/event/national-latinx-aids-awareness-day-2025/
LOCATION:Internet
CATEGORIES:Call to Action,HIV Awareness,HIV Resources
ATTACH;FMTTYPE=image/jpeg:https://nlaad.org/wp-content/uploads/2025/10/Screenshot-2025-10-29-193321.jpg
END:VEVENT
BEGIN:VEVENT
DTSTART;VALUE=DATE:20251010
DTEND;VALUE=DATE:20251011
DTSTAMP:20260424T043700
CREATED:20251030T052405Z
LAST-MODIFIED:20251030T052405Z
UID:12545-1760054400-1760140799@nlaad.org
SUMMARY:National Latinx AIDS Awareness Day
DESCRIPTION:Today is National Latinx AIDS Awareness Day\, a day to raise awareness of the impact of HIV on Hispanic/Latine communities\, and to work together to stop HIV stigma and promote HIV testing\, prevention\, and treatment. https://nlaad.org/\n#NLAAD #StopHIVTogether #HealthEquityAdvocacy \nHoy es el Día Nacional Latinx de Concientización del SIDA. Hoy creamos conciencia sobre el VIH en comunidades latinas e hispanas y trabajamos juntos contra el estigma\, promoviendo pruebas\, prevención\, y tratamiento del VIH. https://nlaad.org/\n#DetengamosJuntosElVIH #NLAAD #EquidadEnSalud\n@hivgov
URL:https://nlaad.org/event/national-latinx-aids-awareness-day-16/
LOCATION:Casa Esperanza\, Inc. (Boston)\, Roxbury\, MA\, United States
CATEGORIES:Call to Action,HIV Awareness
ATTACH;FMTTYPE=image/jpeg:https://nlaad.org/wp-content/uploads/2025/10/1760565533930.jpg
END:VEVENT
BEGIN:VEVENT
DTSTART;VALUE=DATE:20251008
DTEND;VALUE=DATE:20251009
DTSTAMP:20260424T043700
CREATED:20251030T082151Z
LAST-MODIFIED:20260115T063545Z
UID:12608-1759881600-1759967999@nlaad.org
SUMMARY:National Latino AIDS Awareness Day
DESCRIPTION:On #NLAAD\, we highlight #HIVprevention options for women! Ladies\, #PrEP is safe\, effective\, and available for you too! You’re only in control of yourself\, so take PrEP and take charge of your health because you never know… #PrEP4Women information & resources throughout NJ are available at endHIVnj.org \n#Hispanicwomen #Latinas #takepreptakecharge #endHIVnj #nostigma #noshame #nofear
URL:https://nlaad.org/event/national-latino-aids-awareness-day-8/
LOCATION:François-Xavier Bagnoud Center (FXB Center)\, 65 Bergen St.\, Newark\, NJ\, United States
CATEGORIES:Call to Action,HIV Awareness
ATTACH;FMTTYPE=image/jpeg:https://nlaad.org/wp-content/uploads/2025/10/1760554938546.jpg
END:VEVENT
END:VCALENDAR